| Back to Multiple platform build/check report for BioC 3.13 |
|
This page was generated on 2021-10-15 15:05:50 -0400 (Fri, 15 Oct 2021).
|
To the developers/maintainers of the RGMQL package: - Please allow up to 24 hours (and sometimes 48 hours) for your latest push to git@git.bioconductor.org:packages/RGMQL.git to reflect on this report. See How and When does the builder pull? When will my changes propagate? here for more information. - Make sure to use the following settings in order to reproduce any error or warning you see on this page. |
| Package 1567/2041 | Hostname | OS / Arch | INSTALL | BUILD | CHECK | BUILD BIN | ||||||||
| RGMQL 1.12.4 (landing page) Simone Pallotta
| nebbiolo1 | Linux (Ubuntu 20.04.2 LTS) / x86_64 | OK | OK | OK | |||||||||
| tokay2 | Windows Server 2012 R2 Standard / x64 | OK | OK | OK | OK | |||||||||
| machv2 | macOS 10.14.6 Mojave / x86_64 | OK | ERROR | skipped | skipped | |||||||||
| Package: RGMQL |
| Version: 1.12.4 |
| Command: /home/biocbuild/bbs-3.13-bioc/R/bin/R CMD check --install=check:RGMQL.install-out.txt --library=/home/biocbuild/bbs-3.13-bioc/R/library --no-vignettes --timings RGMQL_1.12.4.tar.gz |
| StartedAt: 2021-10-14 11:18:50 -0400 (Thu, 14 Oct 2021) |
| EndedAt: 2021-10-14 11:22:13 -0400 (Thu, 14 Oct 2021) |
| EllapsedTime: 202.7 seconds |
| RetCode: 0 |
| Status: OK |
| CheckDir: RGMQL.Rcheck |
| Warnings: 0 |
##############################################################################
##############################################################################
###
### Running command:
###
### /home/biocbuild/bbs-3.13-bioc/R/bin/R CMD check --install=check:RGMQL.install-out.txt --library=/home/biocbuild/bbs-3.13-bioc/R/library --no-vignettes --timings RGMQL_1.12.4.tar.gz
###
##############################################################################
##############################################################################
* using log directory ‘/home/biocbuild/bbs-3.13-bioc/meat/RGMQL.Rcheck’
* using R version 4.1.1 (2021-08-10)
* using platform: x86_64-pc-linux-gnu (64-bit)
* using session charset: UTF-8
* using option ‘--no-vignettes’
* checking for file ‘RGMQL/DESCRIPTION’ ... OK
* checking extension type ... Package
* this is package ‘RGMQL’ version ‘1.12.4’
* package encoding: UTF-8
* checking package namespace information ... OK
* checking package dependencies ... OK
* checking if this is a source package ... OK
* checking if there is a namespace ... OK
* checking for hidden files and directories ... NOTE
Found the following hidden files and directories:
.BBSoptions
These were most likely included in error. See section ‘Package
structure’ in the ‘Writing R Extensions’ manual.
* checking for portable file names ... OK
* checking for sufficient/correct file permissions ... OK
* checking whether package ‘RGMQL’ can be installed ... OK
* checking installed package size ... NOTE
installed size is 48.9Mb
sub-directories of 1Mb or more:
example 48.3Mb
* checking package directory ... OK
* checking ‘build’ directory ... OK
* checking DESCRIPTION meta-information ... OK
* checking top-level files ... OK
* checking for left-over files ... OK
* checking index information ... OK
* checking package subdirectories ... OK
* checking R files for non-ASCII characters ... OK
* checking R files for syntax errors ... OK
* checking whether the package can be loaded ... OK
* checking whether the package can be loaded with stated dependencies ... OK
* checking whether the package can be unloaded cleanly ... OK
* checking whether the namespace can be loaded with stated dependencies ... OK
* checking whether the namespace can be unloaded cleanly ... OK
* checking dependencies in R code ... OK
* checking S3 generic/method consistency ... OK
* checking replacement functions ... OK
* checking foreign function calls ... OK
* checking R code for possible problems ... OK
* checking Rd files ... OK
* checking Rd metadata ... OK
* checking Rd cross-references ... OK
* checking for missing documentation entries ... OK
* checking for code/documentation mismatches ... OK
* checking Rd \usage sections ... OK
* checking Rd contents ... OK
* checking for unstated dependencies in examples ... OK
* checking files in ‘vignettes’ ... OK
* checking examples ... OK
Examples with CPU (user + system) or elapsed time > 5s
user system elapsed
take 6.984 0.382 1.559
aggr-class 6.011 0.435 2.282
show_dataset 0.045 0.009 5.307
* checking for unstated dependencies in vignettes ... OK
* checking package vignettes in ‘inst/doc’ ... OK
* checking running R code from vignettes ... SKIPPED
* checking re-building of vignette outputs ... SKIPPED
* checking PDF version of manual ... OK
* DONE
Status: 2 NOTEs
See
‘/home/biocbuild/bbs-3.13-bioc/meat/RGMQL.Rcheck/00check.log’
for details.
RGMQL.Rcheck/00install.out
############################################################################## ############################################################################## ### ### Running command: ### ### /home/biocbuild/bbs-3.13-bioc/R/bin/R CMD INSTALL RGMQL ### ############################################################################## ############################################################################## * installing to library ‘/home/biocbuild/bbs-3.13-bioc/R/library’ * installing *source* package ‘RGMQL’ ... ** using staged installation ** R ** inst ** byte-compile and prepare package for lazy loading ** help *** installing help indices ** building package indices ** installing vignettes ** testing if installed package can be loaded from temporary location ** testing if installed package can be loaded from final location ** testing if installed package keeps a record of temporary installation path * DONE (RGMQL)
RGMQL.Rcheck/RGMQL-Ex.timings
| name | user | system | elapsed | |
| aggr-class | 6.011 | 0.435 | 2.282 | |
| aggregate | 0.049 | 0.000 | 0.021 | |
| arrange | 0.032 | 0.008 | 0.025 | |
| collect | 0.035 | 0.003 | 0.022 | |
| compile_query | 0.123 | 0.012 | 2.092 | |
| cover-param-class | 0.083 | 0.004 | 0.051 | |
| cover | 0.047 | 0.012 | 0.031 | |
| delete_dataset | 0 | 0 | 0 | |
| distal-class | 0.069 | 0.008 | 0.049 | |
| download_dataset | 0.000 | 0.000 | 0.001 | |
| execute | 0.024 | 0.008 | 0.019 | |
| export_gmql | 0.527 | 0.052 | 0.575 | |
| extend | 0.042 | 0.001 | 0.028 | |
| filter | 0.100 | 0.013 | 0.069 | |
| filter_and_extract | 0.641 | 0.060 | 0.699 | |
| group_by | 0.047 | 0.012 | 0.046 | |
| import_gmql | 1.011 | 0.116 | 1.121 | |
| init_gmql | 0.022 | 0.016 | 0.185 | |
| log_job | 0.036 | 0.000 | 0.330 | |
| login_gmql | 0.016 | 0.000 | 0.165 | |
| logout_gmql | 0.034 | 0.003 | 0.375 | |
| map | 0.07 | 0.00 | 0.05 | |
| merge | 0.068 | 0.012 | 0.047 | |
| operator-class | 0.158 | 0.012 | 0.089 | |
| ordering-class | 0.060 | 0.008 | 0.026 | |
| read-function | 0.103 | 0.012 | 0.352 | |
| register_gmql | 0.001 | 0.000 | 0.001 | |
| remote_processing | 0.010 | 0.000 | 0.007 | |
| run_query | 0.000 | 0.001 | 0.001 | |
| sample_metadata | 0.022 | 0.010 | 0.446 | |
| sample_region | 0.001 | 0.000 | 0.000 | |
| save_query | 0.077 | 0.000 | 1.430 | |
| select | 0.065 | 0.008 | 0.067 | |
| semijoin | 0.061 | 0.004 | 0.029 | |
| setdiff | 0.057 | 0.000 | 0.034 | |
| show_all_metadata | 0.052 | 0.016 | 0.589 | |
| show_dataset | 0.045 | 0.009 | 5.307 | |
| show_jobs_list | 0.023 | 0.004 | 0.323 | |
| show_queries_list | 0.027 | 0.004 | 0.317 | |
| show_samples_list | 0.027 | 0.004 | 0.321 | |
| show_schema | 0.026 | 0.000 | 0.316 | |
| stop_gmql | 0.105 | 0.050 | 0.069 | |
| stop_job | 0.002 | 0.000 | 0.001 | |
| take | 6.984 | 0.382 | 1.559 | |
| union | 0.116 | 0.004 | 0.028 | |
| upload_dataset | 0.001 | 0.000 | 0.000 | |