| Back to Multiple platform build/check report for BioC 3.13 |
|
This page was generated on 2021-10-15 15:06:16 -0400 (Fri, 15 Oct 2021).
|
To the developers/maintainers of the PrecisionTrialDrawer package: - Please allow up to 24 hours (and sometimes 48 hours) for your latest push to git@git.bioconductor.org:packages/PrecisionTrialDrawer.git to reflect on this report. See How and When does the builder pull? When will my changes propagate? here for more information. - Make sure to use the following settings in order to reproduce any error or warning you see on this page. |
| Package 1426/2041 | Hostname | OS / Arch | INSTALL | BUILD | CHECK | BUILD BIN | ||||||||
| PrecisionTrialDrawer 1.8.0 (landing page) Giorgio Melloni
| nebbiolo1 | Linux (Ubuntu 20.04.2 LTS) / x86_64 | OK | OK | OK | |||||||||
| tokay2 | Windows Server 2012 R2 Standard / x64 | OK | OK | OK | OK | |||||||||
| machv2 | macOS 10.14.6 Mojave / x86_64 | OK | OK | OK | OK | |||||||||
| Package: PrecisionTrialDrawer |
| Version: 1.8.0 |
| Command: C:\cygwin\bin\curl.exe -O http://155.52.207.165/BBS/3.13/bioc/src/contrib/PrecisionTrialDrawer_1.8.0.tar.gz && rm -rf PrecisionTrialDrawer.buildbin-libdir && mkdir PrecisionTrialDrawer.buildbin-libdir && C:\Users\biocbuild\bbs-3.13-bioc\R\bin\R.exe CMD INSTALL --merge-multiarch --build --library=PrecisionTrialDrawer.buildbin-libdir PrecisionTrialDrawer_1.8.0.tar.gz && C:\Users\biocbuild\bbs-3.13-bioc\R\bin\R.exe CMD INSTALL PrecisionTrialDrawer_1.8.0.zip && rm PrecisionTrialDrawer_1.8.0.tar.gz PrecisionTrialDrawer_1.8.0.zip |
| StartedAt: 2021-10-14 11:20:16 -0400 (Thu, 14 Oct 2021) |
| EndedAt: 2021-10-14 11:21:40 -0400 (Thu, 14 Oct 2021) |
| EllapsedTime: 84.1 seconds |
| RetCode: 0 |
| Status: OK |
##############################################################################
##############################################################################
###
### Running command:
###
### C:\cygwin\bin\curl.exe -O http://155.52.207.165/BBS/3.13/bioc/src/contrib/PrecisionTrialDrawer_1.8.0.tar.gz && rm -rf PrecisionTrialDrawer.buildbin-libdir && mkdir PrecisionTrialDrawer.buildbin-libdir && C:\Users\biocbuild\bbs-3.13-bioc\R\bin\R.exe CMD INSTALL --merge-multiarch --build --library=PrecisionTrialDrawer.buildbin-libdir PrecisionTrialDrawer_1.8.0.tar.gz && C:\Users\biocbuild\bbs-3.13-bioc\R\bin\R.exe CMD INSTALL PrecisionTrialDrawer_1.8.0.zip && rm PrecisionTrialDrawer_1.8.0.tar.gz PrecisionTrialDrawer_1.8.0.zip
###
##############################################################################
##############################################################################
% Total % Received % Xferd Average Speed Time Time Time Current
Dload Upload Total Spent Left Speed
0 0 0 0 0 0 0 0 --:--:-- --:--:-- --:--:-- 0
100 377k 100 377k 0 0 948k 0 --:--:-- --:--:-- --:--:-- 950k
install for i386
* installing *source* package 'PrecisionTrialDrawer' ...
** using staged installation
** R
** data
** inst
** byte-compile and prepare package for lazy loading
Creating a generic function for 'toJSON' from package 'jsonlite' in package 'googleVis'
** help
*** installing help indices
converting help for package 'PrecisionTrialDrawer'
finding HTML links ... done
CancerPanel-class html
PrecisionTrialDrawer-package html
appendRepo html
coocMutexPlot html
coveragePlot html
coverageStackPlot html
cpArguments html
cpData html
cpDataSubset html
cpDesign html
cpFreq html
cpObj html
cpObj2 html
dataExtractor html
filterFusions html
filterMutations html
getAlterations html
newCancerPanel html
panelDesigner html
panelOptimizer html
panelexample html
propPowerSampleSize html
saturationPlot html
showCancerStudy html
showTumorType html
subsetAlterations html
survPowerSampleSize html
survPowerSampleSize1Arm html
** building package indices
** installing vignettes
** testing if installed package can be loaded from temporary location
Creating a generic function for 'toJSON' from package 'jsonlite' in package 'googleVis'
** testing if installed package can be loaded from final location
Creating a generic function for 'toJSON' from package 'jsonlite' in package 'googleVis'
** testing if installed package keeps a record of temporary installation path
install for x64
* installing *source* package 'PrecisionTrialDrawer' ...
** testing if installed package can be loaded
Creating a generic function for 'toJSON' from package 'jsonlite' in package 'googleVis'
* MD5 sums
packaged installation of 'PrecisionTrialDrawer' as PrecisionTrialDrawer_1.8.0.zip
* DONE (PrecisionTrialDrawer)
* installing to library 'C:/Users/biocbuild/bbs-3.13-bioc/R/library'
package 'PrecisionTrialDrawer' successfully unpacked and MD5 sums checked