| Back to Multiple platform build/check report for BioC 3.13 |
|
This page was generated on 2021-10-15 15:06:15 -0400 (Fri, 15 Oct 2021).
|
To the developers/maintainers of the PepsNMR package: - Please allow up to 24 hours (and sometimes 48 hours) for your latest push to git@git.bioconductor.org:packages/PepsNMR.git to reflect on this report. See How and When does the builder pull? When will my changes propagate? here for more information. - Make sure to use the following settings in order to reproduce any error or warning you see on this page. |
| Package 1369/2041 | Hostname | OS / Arch | INSTALL | BUILD | CHECK | BUILD BIN | ||||||||
| PepsNMR 1.10.1 (landing page) Manon Martin
| nebbiolo1 | Linux (Ubuntu 20.04.2 LTS) / x86_64 | OK | OK | OK | |||||||||
| tokay2 | Windows Server 2012 R2 Standard / x64 | OK | OK | OK | OK | |||||||||
| machv2 | macOS 10.14.6 Mojave / x86_64 | OK | OK | OK | OK | |||||||||
| Package: PepsNMR |
| Version: 1.10.1 |
| Command: rm -rf PepsNMR.buildbin-libdir && mkdir PepsNMR.buildbin-libdir && C:\Users\biocbuild\bbs-3.13-bioc\R\bin\R.exe CMD INSTALL --merge-multiarch --build --library=PepsNMR.buildbin-libdir PepsNMR_1.10.1.tar.gz |
| StartedAt: 2021-10-15 10:55:37 -0400 (Fri, 15 Oct 2021) |
| EndedAt: 2021-10-15 10:56:56 -0400 (Fri, 15 Oct 2021) |
| EllapsedTime: 79.1 seconds |
| RetCode: 0 |
| Status: OK |
| PackageFile: PepsNMR_1.10.1.zip |
| PackageFileSize: 843.4 KiB |
##############################################################################
##############################################################################
###
### Running command:
###
### rm -rf PepsNMR.buildbin-libdir && mkdir PepsNMR.buildbin-libdir && C:\Users\biocbuild\bbs-3.13-bioc\R\bin\R.exe CMD INSTALL --merge-multiarch --build --library=PepsNMR.buildbin-libdir PepsNMR_1.10.1.tar.gz
###
##############################################################################
##############################################################################
install for i386
* installing *source* package 'PepsNMR' ...
** using staged installation
** R
** inst
** byte-compile and prepare package for lazy loading
** help
*** installing help indices
converting help for package 'PepsNMR'
finding HTML links ... done
Apodization html
BaselineCorrection html
Bucketing html
Draw html
DrawPCA html
DrawSignal html
FirstOrderPhaseCorrection html
FourierTransform html
GroupDelayCorrection html
InternalReferencing html
NegativeValuesZeroing html
Normalization html
PEPSNMR-internal html
PEPSNMR-package html
PreprocessingChain html
ReadFids html
RegionRemoval html
SolventSuppression html
Warping html
WindowSelection html
ZeroFilling html
ZeroOrderPhaseCorrection html
ZoneAggregation html
** building package indices
** installing vignettes
** testing if installed package can be loaded from temporary location
** testing if installed package can be loaded from final location
** testing if installed package keeps a record of temporary installation path
install for x64
* installing *source* package 'PepsNMR' ...
** testing if installed package can be loaded
* MD5 sums
packaged installation of 'PepsNMR' as PepsNMR_1.10.1.zip
* DONE (PepsNMR)