| Back to Multiple platform build/check report for BioC 3.13 |
|
This page was generated on 2021-10-15 15:06:46 -0400 (Fri, 15 Oct 2021).
|
To the developers/maintainers of the PepsNMR package: - Please allow up to 24 hours (and sometimes 48 hours) for your latest push to git@git.bioconductor.org:packages/PepsNMR.git to reflect on this report. See How and When does the builder pull? When will my changes propagate? here for more information. - Make sure to use the following settings in order to reproduce any error or warning you see on this page. |
| Package 1369/2041 | Hostname | OS / Arch | INSTALL | BUILD | CHECK | BUILD BIN | ||||||||
| PepsNMR 1.10.1 (landing page) Manon Martin
| nebbiolo1 | Linux (Ubuntu 20.04.2 LTS) / x86_64 | OK | OK | OK | |||||||||
| tokay2 | Windows Server 2012 R2 Standard / x64 | OK | OK | OK | OK | |||||||||
| machv2 | macOS 10.14.6 Mojave / x86_64 | OK | OK | OK | OK | |||||||||
| Package: PepsNMR |
| Version: 1.10.1 |
| Command: /Library/Frameworks/R.framework/Versions/Current/Resources/bin/R CMD check --install=check:PepsNMR.install-out.txt --library=/Library/Frameworks/R.framework/Versions/Current/Resources/library --no-vignettes --timings PepsNMR_1.10.1.tar.gz |
| StartedAt: 2021-10-14 22:12:31 -0400 (Thu, 14 Oct 2021) |
| EndedAt: 2021-10-14 22:24:28 -0400 (Thu, 14 Oct 2021) |
| EllapsedTime: 716.5 seconds |
| RetCode: 0 |
| Status: OK |
| CheckDir: PepsNMR.Rcheck |
| Warnings: 0 |
##############################################################################
##############################################################################
###
### Running command:
###
### /Library/Frameworks/R.framework/Versions/Current/Resources/bin/R CMD check --install=check:PepsNMR.install-out.txt --library=/Library/Frameworks/R.framework/Versions/Current/Resources/library --no-vignettes --timings PepsNMR_1.10.1.tar.gz
###
##############################################################################
##############################################################################
* using log directory ‘/Users/biocbuild/bbs-3.13-bioc/meat/PepsNMR.Rcheck’
* using R version 4.1.1 (2021-08-10)
* using platform: x86_64-apple-darwin17.0 (64-bit)
* using session charset: UTF-8
* using option ‘--no-vignettes’
* checking for file ‘PepsNMR/DESCRIPTION’ ... OK
* checking extension type ... Package
* this is package ‘PepsNMR’ version ‘1.10.1’
* package encoding: UTF-8
* checking package namespace information ... OK
* checking package dependencies ... OK
* checking if this is a source package ... OK
* checking if there is a namespace ... OK
* checking for hidden files and directories ... NOTE
Found the following hidden files and directories:
.git_fetch_output.txt
.git_merge_output.txt
These were most likely included in error. See section ‘Package
structure’ in the ‘Writing R Extensions’ manual.
* checking for portable file names ... OK
* checking for sufficient/correct file permissions ... OK
* checking whether package ‘PepsNMR’ can be installed ... OK
* checking installed package size ... OK
* checking package directory ... OK
* checking ‘build’ directory ... OK
* checking DESCRIPTION meta-information ... OK
* checking top-level files ... OK
* checking for left-over files ... OK
* checking index information ... OK
* checking package subdirectories ... OK
* checking R files for non-ASCII characters ... OK
* checking R files for syntax errors ... OK
* checking whether the package can be loaded ... OK
* checking whether the package can be loaded with stated dependencies ... OK
* checking whether the package can be unloaded cleanly ... OK
* checking whether the namespace can be loaded with stated dependencies ... OK
* checking whether the namespace can be unloaded cleanly ... OK
* checking dependencies in R code ... OK
* checking S3 generic/method consistency ... OK
* checking replacement functions ... OK
* checking foreign function calls ... OK
* checking R code for possible problems ... OK
* checking Rd files ... OK
* checking Rd metadata ... OK
* checking Rd cross-references ... OK
* checking for missing documentation entries ... OK
* checking for code/documentation mismatches ... OK
* checking Rd \usage sections ... OK
* checking Rd contents ... OK
* checking for unstated dependencies in examples ... OK
* checking files in ‘vignettes’ ... OK
* checking examples ... OK
Examples with CPU (user + system) or elapsed time > 5s
user system elapsed
PEPSNMR-package 295.790 14.854 311.032
PreprocessingChain 288.640 13.963 303.107
Warping 12.937 1.042 13.989
* checking for unstated dependencies in vignettes ... OK
* checking package vignettes in ‘inst/doc’ ... OK
* checking running R code from vignettes ... SKIPPED
* checking re-building of vignette outputs ... SKIPPED
* checking PDF version of manual ... OK
* DONE
Status: 1 NOTE
See
‘/Users/biocbuild/bbs-3.13-bioc/meat/PepsNMR.Rcheck/00check.log’
for details.
PepsNMR.Rcheck/00install.out
############################################################################## ############################################################################## ### ### Running command: ### ### /Library/Frameworks/R.framework/Versions/Current/Resources/bin/R CMD INSTALL PepsNMR ### ############################################################################## ############################################################################## * installing to library ‘/Library/Frameworks/R.framework/Versions/4.1/Resources/library’ * installing *source* package ‘PepsNMR’ ... ** using staged installation ** R ** inst ** byte-compile and prepare package for lazy loading ** help *** installing help indices ** building package indices ** installing vignettes ** testing if installed package can be loaded from temporary location ** testing if installed package can be loaded from final location ** testing if installed package keeps a record of temporary installation path * DONE (PepsNMR)
PepsNMR.Rcheck/PepsNMR-Ex.timings
| name | user | system | elapsed | |
| Apodization | 0.792 | 0.068 | 0.865 | |
| BaselineCorrection | 0.592 | 0.057 | 0.650 | |
| Bucketing | 0.075 | 0.003 | 0.078 | |
| Draw | 1.454 | 0.072 | 1.529 | |
| DrawPCA | 0.762 | 0.027 | 0.789 | |
| DrawSignal | 0.793 | 0.021 | 0.815 | |
| FirstOrderPhaseCorrection | 0.036 | 0.006 | 0.042 | |
| FourierTransform | 0.029 | 0.008 | 0.038 | |
| GroupDelayCorrection | 0.060 | 0.017 | 0.078 | |
| InternalReferencing | 0.034 | 0.006 | 0.039 | |
| NegativeValuesZeroing | 0.029 | 0.011 | 0.040 | |
| Normalization | 0.013 | 0.001 | 0.015 | |
| PEPSNMR-package | 295.790 | 14.854 | 311.032 | |
| PreprocessingChain | 288.640 | 13.963 | 303.107 | |
| ReadFids | 0.381 | 0.035 | 0.420 | |
| RegionRemoval | 0.012 | 0.001 | 0.012 | |
| SolventSuppression | 0.116 | 0.005 | 0.121 | |
| Warping | 12.937 | 1.042 | 13.989 | |
| WindowSelection | 0.032 | 0.001 | 0.032 | |
| ZeroFilling | 0.112 | 0.001 | 0.113 | |
| ZeroOrderPhaseCorrection | 0.107 | 0.017 | 0.124 | |
| ZoneAggregation | 0.368 | 0.010 | 0.380 | |