| Back to Multiple platform build/check report for BioC 3.13 |
|
This page was generated on 2021-10-15 15:06:14 -0400 (Fri, 15 Oct 2021).
|
To the developers/maintainers of the OmaDB package: - Please allow up to 24 hours (and sometimes 48 hours) for your latest push to git@git.bioconductor.org:packages/OmaDB.git to reflect on this report. See How and When does the builder pull? When will my changes propagate? here for more information. - Make sure to use the following settings in order to reproduce any error or warning you see on this page. |
| Package 1295/2041 | Hostname | OS / Arch | INSTALL | BUILD | CHECK | BUILD BIN | ||||||||
| OmaDB 2.8.0 (landing page) Klara Kaleb
| nebbiolo1 | Linux (Ubuntu 20.04.2 LTS) / x86_64 | OK | OK | OK | |||||||||
| tokay2 | Windows Server 2012 R2 Standard / x64 | OK | OK | OK | OK | |||||||||
| machv2 | macOS 10.14.6 Mojave / x86_64 | OK | OK | OK | OK | |||||||||
| Package: OmaDB |
| Version: 2.8.0 |
| Command: rm -rf OmaDB.buildbin-libdir && mkdir OmaDB.buildbin-libdir && C:\Users\biocbuild\bbs-3.13-bioc\R\bin\R.exe CMD INSTALL --merge-multiarch --build --library=OmaDB.buildbin-libdir OmaDB_2.8.0.tar.gz |
| StartedAt: 2021-10-15 10:45:53 -0400 (Fri, 15 Oct 2021) |
| EndedAt: 2021-10-15 10:47:13 -0400 (Fri, 15 Oct 2021) |
| EllapsedTime: 80.7 seconds |
| RetCode: 0 |
| Status: OK |
| PackageFile: OmaDB_2.8.0.zip |
| PackageFileSize: 243 KiB |
##############################################################################
##############################################################################
###
### Running command:
###
### rm -rf OmaDB.buildbin-libdir && mkdir OmaDB.buildbin-libdir && C:\Users\biocbuild\bbs-3.13-bioc\R\bin\R.exe CMD INSTALL --merge-multiarch --build --library=OmaDB.buildbin-libdir OmaDB_2.8.0.tar.gz
###
##############################################################################
##############################################################################
install for i386
* installing *source* package 'OmaDB' ...
** using staged installation
** R
** data
*** moving datasets to lazyload DB
** inst
** byte-compile and prepare package for lazy loading
** help
*** installing help indices
converting help for package 'OmaDB'
finding HTML links ... done
OmaDB-deprecated html
OmaDB-package html
annotateSequence html
cash-.omadb_obj html
formatTopGO html
getAnnotation-deprecated html
getAttribute html
getData-deprecated html
getGenome html
getGenomeAlignment-deprecated html
getGenomePairs html
getHOG html
getLocus html
getOMAGroup html
getObjectAttributes html
getProtein html
getTaxonomy html
getTopGO html
getTree html
getVersion html
getXref-deprecated html
group html
hog html
mapSequence html
orthologs html
pairs html
protein html
resolveURL html
searchProtein html
sequence_annotation html
sequence_map html
setAPI html
taxonomy html
xref html
** building package indices
** installing vignettes
** testing if installed package can be loaded from temporary location
** testing if installed package can be loaded from final location
** testing if installed package keeps a record of temporary installation path
install for x64
* installing *source* package 'OmaDB' ...
** testing if installed package can be loaded
* MD5 sums
packaged installation of 'OmaDB' as OmaDB_2.8.0.zip
* DONE (OmaDB)