| Back to Multiple platform build/check report for BioC 3.13 | 
  | 
This page was generated on 2021-10-15 15:05:47 -0400 (Fri, 15 Oct 2021).
| 
To the developers/maintainers of the OmaDB package: - Please allow up to 24 hours (and sometimes 48 hours) for your latest push to git@git.bioconductor.org:packages/OmaDB.git to reflect on this report. See How and When does the builder pull? When will my changes propagate? here for more information. - Make sure to use the following settings in order to reproduce any error or warning you see on this page.  | 
| Package 1295/2041 | Hostname | OS / Arch | INSTALL | BUILD | CHECK | BUILD BIN | ||||||||
| OmaDB 2.8.0  (landing page) Klara Kaleb 
  | nebbiolo1 | Linux (Ubuntu 20.04.2 LTS) / x86_64 | OK | OK | OK | |||||||||
| tokay2 | Windows Server 2012 R2 Standard / x64 | OK | OK | OK | OK | |||||||||
| machv2 | macOS 10.14.6 Mojave / x86_64 | OK | OK | OK | OK | |||||||||
| Package: OmaDB | 
| Version: 2.8.0 | 
| Command: /home/biocbuild/bbs-3.13-bioc/R/bin/R CMD check --install=check:OmaDB.install-out.txt --library=/home/biocbuild/bbs-3.13-bioc/R/library --no-vignettes --timings OmaDB_2.8.0.tar.gz | 
| StartedAt: 2021-10-14 10:51:08 -0400 (Thu, 14 Oct 2021) | 
| EndedAt: 2021-10-14 11:02:42 -0400 (Thu, 14 Oct 2021) | 
| EllapsedTime: 694.9 seconds | 
| RetCode: 0 | 
| Status: OK | 
| CheckDir: OmaDB.Rcheck | 
| Warnings: 0 | 
##############################################################################
##############################################################################
###
### Running command:
###
###   /home/biocbuild/bbs-3.13-bioc/R/bin/R CMD check --install=check:OmaDB.install-out.txt --library=/home/biocbuild/bbs-3.13-bioc/R/library --no-vignettes --timings OmaDB_2.8.0.tar.gz
###
##############################################################################
##############################################################################
* using log directory ‘/home/biocbuild/bbs-3.13-bioc/meat/OmaDB.Rcheck’
* using R version 4.1.1 (2021-08-10)
* using platform: x86_64-pc-linux-gnu (64-bit)
* using session charset: UTF-8
* using option ‘--no-vignettes’
* checking for file ‘OmaDB/DESCRIPTION’ ... OK
* this is package ‘OmaDB’ version ‘2.8.0’
* package encoding: UTF-8
* checking package namespace information ... OK
* checking package dependencies ... OK
* checking if this is a source package ... OK
* checking if there is a namespace ... OK
* checking for hidden files and directories ... OK
* checking for portable file names ... OK
* checking for sufficient/correct file permissions ... OK
* checking whether package ‘OmaDB’ can be installed ... OK
* checking installed package size ... OK
* checking package directory ... OK
* checking ‘build’ directory ... OK
* checking DESCRIPTION meta-information ... OK
* checking top-level files ... OK
* checking for left-over files ... OK
* checking index information ... OK
* checking package subdirectories ... OK
* checking R files for non-ASCII characters ... OK
* checking R files for syntax errors ... OK
* checking whether the package can be loaded ... OK
* checking whether the package can be loaded with stated dependencies ... OK
* checking whether the package can be unloaded cleanly ... OK
* checking whether the namespace can be loaded with stated dependencies ... OK
* checking whether the namespace can be unloaded cleanly ... OK
* checking dependencies in R code ... OK
* checking S3 generic/method consistency ... OK
* checking replacement functions ... OK
* checking foreign function calls ... OK
* checking R code for possible problems ... OK
* checking Rd files ... OK
* checking Rd metadata ... OK
* checking Rd cross-references ... OK
* checking for missing documentation entries ... OK
* checking for code/documentation mismatches ... OK
* checking Rd \usage sections ... OK
* checking Rd contents ... OK
* checking for unstated dependencies in examples ... OK
* checking contents of ‘data’ directory ... OK
* checking data for non-ASCII characters ... OK
* checking LazyData ... OK
* checking data for ASCII and uncompressed saves ... OK
* checking files in ‘vignettes’ ... OK
* checking examples ... OK
Examples with CPU (user + system) or elapsed time > 5s
                  user system elapsed
getGenome      177.296  3.444 298.628
getGenomePairs  25.723  1.791  64.070
getOMAGroup      3.133  0.308  13.226
mapSequence      2.368  0.211   6.495
searchProtein    0.040  0.004 187.299
* checking for unstated dependencies in ‘tests’ ... OK
* checking tests ...
  Running ‘testthat.R’
 OK
* checking for unstated dependencies in vignettes ... OK
* checking package vignettes in ‘inst/doc’ ... OK
* checking running R code from vignettes ... SKIPPED
* checking re-building of vignette outputs ... SKIPPED
* checking PDF version of manual ... OK
* DONE
Status: OK
OmaDB.Rcheck/00install.out
############################################################################## ############################################################################## ### ### Running command: ### ### /home/biocbuild/bbs-3.13-bioc/R/bin/R CMD INSTALL OmaDB ### ############################################################################## ############################################################################## * installing to library ‘/home/biocbuild/bbs-3.13-bioc/R/library’ * installing *source* package ‘OmaDB’ ... ** using staged installation ** R ** data *** moving datasets to lazyload DB ** inst ** byte-compile and prepare package for lazy loading ** help *** installing help indices ** building package indices ** installing vignettes ** testing if installed package can be loaded from temporary location ** testing if installed package can be loaded from final location ** testing if installed package keeps a record of temporary installation path * DONE (OmaDB)
OmaDB.Rcheck/tests/testthat.Rout
R version 4.1.1 (2021-08-10) -- "Kick Things"
Copyright (C) 2021 The R Foundation for Statistical Computing
Platform: x86_64-pc-linux-gnu (64-bit)
R is free software and comes with ABSOLUTELY NO WARRANTY.
You are welcome to redistribute it under certain conditions.
Type 'license()' or 'licence()' for distribution details.
R is a collaborative project with many contributors.
Type 'contributors()' for more information and
'citation()' on how to cite R or R packages in publications.
Type 'demo()' for some demos, 'help()' for on-line help, or
'help.start()' for an HTML browser interface to help.
Type 'q()' to quit R.
> library(testthat)
> 
> test_that("Testing the URL validity", {
+   expect_equal(httr::status_code(httr::GET("https://omabrowser.org/api")), 200 ) #checking that the server is live and accesible
+ 
+ })
Test passed 🥳
> 
> 
> 
> 
> proc.time()
   user  system elapsed 
  0.737   0.047   2.451 
OmaDB.Rcheck/OmaDB-Ex.timings
| name | user | system | elapsed | |
| annotateSequence | 0.157 | 0.011 | 2.275 | |
| formatTopGO | 0.500 | 0.004 | 0.924 | |
| getAttribute | 0.259 | 0.028 | 1.771 | |
| getGenome | 177.296 | 3.444 | 298.628 | |
| getGenomePairs | 25.723 | 1.791 | 64.070 | |
| getHOG | 0.188 | 0.034 | 0.940 | |
| getLocus | 0.531 | 0.008 | 2.231 | |
| getOMAGroup | 3.133 | 0.308 | 13.226 | |
| getObjectAttributes | 0.512 | 0.008 | 1.953 | |
| getProtein | 0.662 | 0.048 | 2.004 | |
| getTaxonomy | 0.122 | 0.004 | 0.894 | |
| getTopGO | 3.279 | 0.316 | 4.231 | |
| getTree | 0.031 | 0.004 | 0.170 | |
| getVersion | 0.027 | 0.004 | 0.128 | |
| mapSequence | 2.368 | 0.211 | 6.495 | |
| resolveURL | 0.051 | 0.016 | 2.554 | |
| searchProtein | 0.040 | 0.004 | 187.299 | |