| Back to Multiple platform build/check report for BioC 3.13 |
|
This page was generated on 2021-10-15 15:06:14 -0400 (Fri, 15 Oct 2021).
|
To the developers/maintainers of the NuPoP package: - Please allow up to 24 hours (and sometimes 48 hours) for your latest push to git@git.bioconductor.org:packages/NuPoP.git to reflect on this report. See How and When does the builder pull? When will my changes propagate? here for more information. - Make sure to use the following settings in order to reproduce any error or warning you see on this page. |
| Package 1287/2041 | Hostname | OS / Arch | INSTALL | BUILD | CHECK | BUILD BIN | ||||||||
| NuPoP 2.0.0 (landing page) Ji-Ping Wang
| nebbiolo1 | Linux (Ubuntu 20.04.2 LTS) / x86_64 | OK | OK | OK | |||||||||
| tokay2 | Windows Server 2012 R2 Standard / x64 | OK | OK | OK | OK | |||||||||
| machv2 | macOS 10.14.6 Mojave / x86_64 | OK | OK | OK | OK | |||||||||
| Package: NuPoP |
| Version: 2.0.0 |
| Command: rm -rf NuPoP.buildbin-libdir && mkdir NuPoP.buildbin-libdir && C:\Users\biocbuild\bbs-3.13-bioc\R\bin\R.exe CMD INSTALL --merge-multiarch --build --library=NuPoP.buildbin-libdir NuPoP_2.0.0.tar.gz |
| StartedAt: 2021-10-15 10:44:47 -0400 (Fri, 15 Oct 2021) |
| EndedAt: 2021-10-15 10:46:01 -0400 (Fri, 15 Oct 2021) |
| EllapsedTime: 74.1 seconds |
| RetCode: 0 |
| Status: OK |
| PackageFile: NuPoP_2.0.0.zip |
| PackageFileSize: 4.613 MiB |
##############################################################################
##############################################################################
###
### Running command:
###
### rm -rf NuPoP.buildbin-libdir && mkdir NuPoP.buildbin-libdir && C:\Users\biocbuild\bbs-3.13-bioc\R\bin\R.exe CMD INSTALL --merge-multiarch --build --library=NuPoP.buildbin-libdir NuPoP_2.0.0.tar.gz
###
##############################################################################
##############################################################################
install for i386
* installing *source* package 'NuPoP' ...
** using staged installation
** libs
"C:/rtools40/mingw32/bin/"gfortran -fno-optimize-sibling-calls -O2 -mfpmath=sse -msse2 -mstackrealign -c vtbfb.f90 -o vtbfb.o
"C:/rtools40/mingw32/bin/"gfortran -fno-optimize-sibling-calls -O2 -mfpmath=sse -msse2 -mstackrealign -c vtbfbNL4.f90 -o vtbfbNL4.o
C:/rtools40/mingw32/bin/gcc -shared -s -static-libgcc -o NuPoP.dll tmp.def vtbfb.o vtbfbNL4.o -Lc:/extsoft/lib/i386 -Lc:/extsoft/lib -lgfortran -lm -lquadmath -LC:/Users/BIOCBU~1/BBS-3~1.13-/R/bin/i386 -lR
installing to C:/Users/biocbuild/bbs-3.13-bioc/meat/NuPoP.buildbin-libdir/00LOCK-NuPoP/00new/NuPoP/libs/i386
** R
** inst
** byte-compile and prepare package for lazy loading
** help
*** installing help indices
converting help for package 'NuPoP'
finding HTML links ... done
NuPoP-package html
plotNuPoP html
predNuPoP html
predNuPoP_chem html
readNuPoP html
** building package indices
** installing vignettes
** testing if installed package can be loaded from temporary location
** testing if installed package can be loaded from final location
** testing if installed package keeps a record of temporary installation path
install for x64
* installing *source* package 'NuPoP' ...
** libs
"C:/rtools40/mingw64/bin/"gfortran -fno-optimize-sibling-calls -O2 -mfpmath=sse -msse2 -mstackrealign -c vtbfb.f90 -o vtbfb.o
"C:/rtools40/mingw64/bin/"gfortran -fno-optimize-sibling-calls -O2 -mfpmath=sse -msse2 -mstackrealign -c vtbfbNL4.f90 -o vtbfbNL4.o
C:/rtools40/mingw64/bin/gcc -shared -s -static-libgcc -o NuPoP.dll tmp.def vtbfb.o vtbfbNL4.o -LC:/extsoft/lib/x64 -LC:/extsoft/lib -lgfortran -lm -lquadmath -LC:/Users/BIOCBU~1/BBS-3~1.13-/R/bin/x64 -lR
installing to C:/Users/biocbuild/bbs-3.13-bioc/meat/NuPoP.buildbin-libdir/NuPoP/libs/x64
** testing if installed package can be loaded
* MD5 sums
packaged installation of 'NuPoP' as NuPoP_2.0.0.zip
* DONE (NuPoP)