| Back to Multiple platform build/check report for BioC 3.13 |
|
This page was generated on 2021-10-15 15:06:45 -0400 (Fri, 15 Oct 2021).
|
To the developers/maintainers of the NuPoP package: - Please allow up to 24 hours (and sometimes 48 hours) for your latest push to git@git.bioconductor.org:packages/NuPoP.git to reflect on this report. See How and When does the builder pull? When will my changes propagate? here for more information. - Make sure to use the following settings in order to reproduce any error or warning you see on this page. |
| Package 1287/2041 | Hostname | OS / Arch | INSTALL | BUILD | CHECK | BUILD BIN | ||||||||
| NuPoP 2.0.0 (landing page) Ji-Ping Wang
| nebbiolo1 | Linux (Ubuntu 20.04.2 LTS) / x86_64 | OK | OK | OK | |||||||||
| tokay2 | Windows Server 2012 R2 Standard / x64 | OK | OK | OK | OK | |||||||||
| machv2 | macOS 10.14.6 Mojave / x86_64 | OK | OK | OK | OK | |||||||||
| Package: NuPoP |
| Version: 2.0.0 |
| Command: /Library/Frameworks/R.framework/Versions/Current/Resources/bin/R CMD build --keep-empty-dirs --no-resave-data NuPoP |
| StartedAt: 2021-10-14 13:36:51 -0400 (Thu, 14 Oct 2021) |
| EndedAt: 2021-10-14 13:37:11 -0400 (Thu, 14 Oct 2021) |
| EllapsedTime: 20.5 seconds |
| RetCode: 0 |
| Status: OK |
| PackageFile: NuPoP_2.0.0.tar.gz |
| PackageFileSize: 6.104 MiB |
##############################################################################
##############################################################################
###
### Running command:
###
### /Library/Frameworks/R.framework/Versions/Current/Resources/bin/R CMD build --keep-empty-dirs --no-resave-data NuPoP
###
##############################################################################
##############################################################################
* checking for file ‘NuPoP/DESCRIPTION’ ... OK
* preparing ‘NuPoP’:
* checking DESCRIPTION meta-information ... OK
* cleaning src
* installing the package to build vignettes
* creating vignettes ... OK
Warning: ‘inst/doc’ file
‘NuPoP.html’
ignored as vignettes have been rebuilt.
Run R CMD build with --no-build-vignettes to prevent rebuilding.
* cleaning src
* checking for LF line-endings in source and make files and shell scripts
* checking for empty or unneeded directories
* looking to see if a ‘data/datalist’ file should be added
* building ‘NuPoP_2.0.0.tar.gz’