| Back to Multiple platform build/check report for BioC 3.13 | 
 | 
This page was generated on 2021-10-15 15:06:12 -0400 (Fri, 15 Oct 2021).
| To the developers/maintainers of the MoonlightR package: - Please allow up to 24 hours (and sometimes 48 hours) for your latest push to git@git.bioconductor.org:packages/MoonlightR.git to reflect on this report. See How and When does the builder pull? When will my changes propagate? here for more information. - Make sure to use the following settings in order to reproduce any error or warning you see on this page. | 
| Package 1178/2041 | Hostname | OS / Arch | INSTALL | BUILD | CHECK | BUILD BIN | ||||||||
| MoonlightR 1.18.0  (landing page) Antonio Colaprico 
 | nebbiolo1 | Linux (Ubuntu 20.04.2 LTS) / x86_64 | OK | ERROR | skipped | |||||||||
| tokay2 | Windows Server 2012 R2 Standard / x64 | OK | ERROR | skipped | skipped | |||||||||
| machv2 | macOS 10.14.6 Mojave / x86_64 | OK | ERROR | skipped | skipped | |||||||||
| Package: MoonlightR | 
| Version: 1.18.0 | 
| Command: C:\cygwin\bin\curl.exe -O http://155.52.207.165/BBS/3.13/bioc/src/contrib/MoonlightR_1.18.0.tar.gz && rm -rf MoonlightR.buildbin-libdir && mkdir MoonlightR.buildbin-libdir && C:\Users\biocbuild\bbs-3.13-bioc\R\bin\R.exe CMD INSTALL --merge-multiarch --build --library=MoonlightR.buildbin-libdir MoonlightR_1.18.0.tar.gz && C:\Users\biocbuild\bbs-3.13-bioc\R\bin\R.exe CMD INSTALL MoonlightR_1.18.0.zip && rm MoonlightR_1.18.0.tar.gz MoonlightR_1.18.0.zip | 
| StartedAt: 2021-10-14 10:42:35 -0400 (Thu, 14 Oct 2021) | 
| EndedAt: 2021-10-14 10:43:47 -0400 (Thu, 14 Oct 2021) | 
| EllapsedTime: 71.8 seconds | 
| RetCode: 0 | 
| Status: OK | 
##############################################################################
##############################################################################
###
### Running command:
###
###   C:\cygwin\bin\curl.exe -O http://155.52.207.165/BBS/3.13/bioc/src/contrib/MoonlightR_1.18.0.tar.gz && rm -rf MoonlightR.buildbin-libdir && mkdir MoonlightR.buildbin-libdir && C:\Users\biocbuild\bbs-3.13-bioc\R\bin\R.exe CMD INSTALL --merge-multiarch --build --library=MoonlightR.buildbin-libdir MoonlightR_1.18.0.tar.gz && C:\Users\biocbuild\bbs-3.13-bioc\R\bin\R.exe CMD INSTALL MoonlightR_1.18.0.zip && rm MoonlightR_1.18.0.tar.gz MoonlightR_1.18.0.zip
###
##############################################################################
##############################################################################
  % Total    % Received % Xferd  Average Speed   Time    Time     Time  Current
                                 Dload  Upload   Total   Spent    Left  Speed
  0     0    0     0    0     0      0      0 --:--:-- --:--:-- --:--:--     0
  8 12.3M    8 1018k    0     0  1797k      0  0:00:07 --:--:--  0:00:07 1796k
 33 12.3M   33 4293k    0     0  2740k      0  0:00:04  0:00:01  0:00:03 2740k
 64 12.3M   64 8135k    0     0  3177k      0  0:00:03  0:00:02  0:00:01 3176k
100 12.3M  100 12.3M    0     0  3632k      0  0:00:03  0:00:03 --:--:-- 3633k
install for i386
* installing *source* package 'MoonlightR' ...
** using staged installation
** R
** data
*** moving datasets to lazyload DB
** inst
** byte-compile and prepare package for lazy loading
** help
*** installing help indices
  converting help for package 'MoonlightR'
    finding HTML links ... done
    DEGsmatrix                              html  
    DPA                                     html  
    DiseaseList                             html  
    EAGenes                                 html  
    FEA                                     html  
    GDCprojects                             html  
    GEO_TCGAtab                             html  
    GRN                                     html  
    GSEA                                    html  
    LPA                                     html  
    MoonlightR                              html  
    PRA                                     html  
    URA                                     html  
    dataFilt                                html  
    dataGRN                                 html  
    dataURA                                 html  
    geneInfo                                html  
    getDataGEO                              html  
    getDataTCGA                             html  
    knownDriverGenes                        html  
    listMoonlight                           html  
    moonlight                               html  
    plotCircos                              html  
    plotFEA                                 html  
    plotNetworkHive                         html  
    plotURA                                 html  
    tabGrowBlock                            html  
** building package indices
** installing vignettes
** testing if installed package can be loaded from temporary location
** testing if installed package can be loaded from final location
** testing if installed package keeps a record of temporary installation path
install for x64
* installing *source* package 'MoonlightR' ...
** testing if installed package can be loaded
* MD5 sums
packaged installation of 'MoonlightR' as MoonlightR_1.18.0.zip
* DONE (MoonlightR)
* installing to library 'C:/Users/biocbuild/bbs-3.13-bioc/R/library'
package 'MoonlightR' successfully unpacked and MD5 sums checked