| Back to Multiple platform build/check report for BioC 3.13 |
|
This page was generated on 2021-10-15 15:06:11 -0400 (Fri, 15 Oct 2021).
|
To the developers/maintainers of the MethylSeekR package: - Please allow up to 24 hours (and sometimes 48 hours) for your latest push to git@git.bioconductor.org:packages/MethylSeekR.git to reflect on this report. See How and When does the builder pull? When will my changes propagate? here for more information. - Make sure to use the following settings in order to reproduce any error or warning you see on this page. |
| Package 1114/2041 | Hostname | OS / Arch | INSTALL | BUILD | CHECK | BUILD BIN | ||||||||
| MethylSeekR 1.32.0 (landing page) Lukas Burger
| nebbiolo1 | Linux (Ubuntu 20.04.2 LTS) / x86_64 | OK | OK | OK | |||||||||
| tokay2 | Windows Server 2012 R2 Standard / x64 | OK | OK | OK | OK | |||||||||
| machv2 | macOS 10.14.6 Mojave / x86_64 | OK | OK | OK | OK | |||||||||
| Package: MethylSeekR |
| Version: 1.32.0 |
| Command: rm -rf MethylSeekR.buildbin-libdir && mkdir MethylSeekR.buildbin-libdir && C:\Users\biocbuild\bbs-3.13-bioc\R\bin\R.exe CMD INSTALL --merge-multiarch --build --library=MethylSeekR.buildbin-libdir MethylSeekR_1.32.0.tar.gz |
| StartedAt: 2021-10-15 10:21:46 -0400 (Fri, 15 Oct 2021) |
| EndedAt: 2021-10-15 10:23:10 -0400 (Fri, 15 Oct 2021) |
| EllapsedTime: 84.6 seconds |
| RetCode: 0 |
| Status: OK |
| PackageFile: MethylSeekR_1.32.0.zip |
| PackageFileSize: 1.716 MiB |
##############################################################################
##############################################################################
###
### Running command:
###
### rm -rf MethylSeekR.buildbin-libdir && mkdir MethylSeekR.buildbin-libdir && C:\Users\biocbuild\bbs-3.13-bioc\R\bin\R.exe CMD INSTALL --merge-multiarch --build --library=MethylSeekR.buildbin-libdir MethylSeekR_1.32.0.tar.gz
###
##############################################################################
##############################################################################
install for i386
* installing *source* package 'MethylSeekR' ...
** using staged installation
** R
** inst
** byte-compile and prepare package for lazy loading
** help
*** installing help indices
converting help for package 'MethylSeekR'
finding HTML links ... done
MethylSeekR-package html
calculateFDRs html
plotAlphaDistributionOneChr html
plotFinalSegmentation html
plotPMDSegmentation html
readMethylome html
readSNPTable html
removeSNPs html
savePMDSegments html
saveUMRLMRSegments html
segmentPMDs html
segmentUMRsLMRs html
** building package indices
** installing vignettes
** testing if installed package can be loaded from temporary location
** testing if installed package can be loaded from final location
** testing if installed package keeps a record of temporary installation path
install for x64
* installing *source* package 'MethylSeekR' ...
** testing if installed package can be loaded
* MD5 sums
packaged installation of 'MethylSeekR' as MethylSeekR_1.32.0.zip
* DONE (MethylSeekR)