| Back to Multiple platform build/check report for BioC 3.13 |
|
This page was generated on 2021-10-15 15:06:42 -0400 (Fri, 15 Oct 2021).
|
To the developers/maintainers of the MethylSeekR package: - Please allow up to 24 hours (and sometimes 48 hours) for your latest push to git@git.bioconductor.org:packages/MethylSeekR.git to reflect on this report. See How and When does the builder pull? When will my changes propagate? here for more information. - Make sure to use the following settings in order to reproduce any error or warning you see on this page. |
| Package 1114/2041 | Hostname | OS / Arch | INSTALL | BUILD | CHECK | BUILD BIN | ||||||||
| MethylSeekR 1.32.0 (landing page) Lukas Burger
| nebbiolo1 | Linux (Ubuntu 20.04.2 LTS) / x86_64 | OK | OK | OK | |||||||||
| tokay2 | Windows Server 2012 R2 Standard / x64 | OK | OK | OK | OK | |||||||||
| machv2 | macOS 10.14.6 Mojave / x86_64 | OK | OK | OK | OK | |||||||||
| Package: MethylSeekR |
| Version: 1.32.0 |
| Command: /Library/Frameworks/R.framework/Versions/Current/Resources/bin/R CMD check --install=check:MethylSeekR.install-out.txt --library=/Library/Frameworks/R.framework/Versions/Current/Resources/library --no-vignettes --timings MethylSeekR_1.32.0.tar.gz |
| StartedAt: 2021-10-14 21:00:31 -0400 (Thu, 14 Oct 2021) |
| EndedAt: 2021-10-14 21:08:12 -0400 (Thu, 14 Oct 2021) |
| EllapsedTime: 461.0 seconds |
| RetCode: 0 |
| Status: OK |
| CheckDir: MethylSeekR.Rcheck |
| Warnings: 0 |
##############################################################################
##############################################################################
###
### Running command:
###
### /Library/Frameworks/R.framework/Versions/Current/Resources/bin/R CMD check --install=check:MethylSeekR.install-out.txt --library=/Library/Frameworks/R.framework/Versions/Current/Resources/library --no-vignettes --timings MethylSeekR_1.32.0.tar.gz
###
##############################################################################
##############################################################################
* using log directory ‘/Users/biocbuild/bbs-3.13-bioc/meat/MethylSeekR.Rcheck’
* using R version 4.1.1 (2021-08-10)
* using platform: x86_64-apple-darwin17.0 (64-bit)
* using session charset: UTF-8
* using option ‘--no-vignettes’
* checking for file ‘MethylSeekR/DESCRIPTION’ ... OK
* checking extension type ... Package
* this is package ‘MethylSeekR’ version ‘1.32.0’
* checking package namespace information ... OK
* checking package dependencies ... OK
* checking if this is a source package ... OK
* checking if there is a namespace ... OK
* checking for hidden files and directories ... NOTE
Found the following hidden files and directories:
.git_fetch_output.txt
.git_merge_output.txt
These were most likely included in error. See section ‘Package
structure’ in the ‘Writing R Extensions’ manual.
* checking for portable file names ... OK
* checking for sufficient/correct file permissions ... OK
* checking whether package ‘MethylSeekR’ can be installed ... OK
* checking installed package size ... OK
* checking package directory ... OK
* checking ‘build’ directory ... OK
* checking DESCRIPTION meta-information ... NOTE
Malformed Description field: should contain one or more complete sentences.
Package listed in more than one of Depends, Imports, Suggests, Enhances:
‘parallel’
A package should be listed in only one of these fields.
* checking top-level files ... OK
* checking for left-over files ... OK
* checking index information ... OK
* checking package subdirectories ... OK
* checking R files for non-ASCII characters ... OK
* checking R files for syntax errors ... OK
* checking whether the package can be loaded ... OK
* checking whether the package can be loaded with stated dependencies ... OK
* checking whether the package can be unloaded cleanly ... OK
* checking whether the namespace can be loaded with stated dependencies ... OK
* checking whether the namespace can be unloaded cleanly ... OK
* checking dependencies in R code ... NOTE
Namespace in Imports field not imported from: ‘geneplotter’
All declared Imports should be used.
Package in Depends field not imported from: ‘rtracklayer’
These packages need to be imported from (in the NAMESPACE file)
for when this namespace is loaded but not attached.
* checking S3 generic/method consistency ... OK
* checking replacement functions ... OK
* checking foreign function calls ... OK
* checking R code for possible problems ... NOTE
PMDviterbiSegmentation : <anonymous>: no visible global function
definition for ‘predict’
PMDviterbiSegmentation : <anonymous>: no visible global function
definition for ‘Rle’
PMDviterbiSegmentation : <anonymous>: no visible global function
definition for ‘runValue’
calculateAlphaDistr : <anonymous>: no visible global function
definition for ‘Rle’
calculateFDRs: no visible global function definition for ‘queryHits’
calculateFDRs : <anonymous>: no visible global function definition for
‘Rle’
calculateFDRs : <anonymous>: no visible global function definition for
‘runValue’
createGRangesObjectPMDSegmentation : <anonymous>: no visible global
function definition for ‘Rle’
createGRangesObjectPMDSegmentation : <anonymous>: no visible global
function definition for ‘nrun’
createGRangesObjectPMDSegmentation : <anonymous>: no visible global
function definition for ‘runValue’
plotFinalSegmentation: no visible global function definition for ‘Rle’
removeSNPs: no visible global function definition for ‘queryHits’
segmentUMRsLMRs : <anonymous>: no visible global function definition
for ‘Rle’
segmentUMRsLMRs : <anonymous>: no visible global function definition
for ‘runValue’
segmentUMRsLMRs: no visible global function definition for ‘queryHits’
segmentUMRsLMRs: no visible global function definition for
‘subjectHits’
segmentUMRsLMRs: no visible global function definition for ‘Rle’
segmentUMRsLMRs: no visible global function definition for ‘DataFrame’
segmentUMRsLMRs: no visible global function definition for
‘colorRampPalette’
Undefined global functions or variables:
DataFrame Rle colorRampPalette nrun predict queryHits runValue
subjectHits
Consider adding
importFrom("grDevices", "colorRampPalette")
importFrom("stats", "predict")
to your NAMESPACE file.
* checking Rd files ... OK
* checking Rd metadata ... OK
* checking Rd cross-references ... OK
* checking for missing documentation entries ... OK
* checking for code/documentation mismatches ... OK
* checking Rd \usage sections ... OK
* checking Rd contents ... OK
* checking for unstated dependencies in examples ... OK
* checking sizes of PDF files under ‘inst/doc’ ... OK
* checking files in ‘vignettes’ ... OK
* checking examples ... OK
Examples with CPU (user + system) or elapsed time > 5s
user system elapsed
MethylSeekR-package 63.294 3.361 74.908
plotPMDSegmentation 38.472 2.131 40.640
savePMDSegments 37.975 2.188 40.231
segmentPMDs 33.999 1.864 35.903
calculateFDRs 9.827 0.620 15.716
plotAlphaDistributionOneChr 7.758 0.393 8.191
* checking for unstated dependencies in vignettes ... OK
* checking package vignettes in ‘inst/doc’ ... OK
* checking running R code from vignettes ... SKIPPED
* checking re-building of vignette outputs ... SKIPPED
* checking PDF version of manual ... OK
* DONE
Status: 4 NOTEs
See
‘/Users/biocbuild/bbs-3.13-bioc/meat/MethylSeekR.Rcheck/00check.log’
for details.
MethylSeekR.Rcheck/00install.out
############################################################################## ############################################################################## ### ### Running command: ### ### /Library/Frameworks/R.framework/Versions/Current/Resources/bin/R CMD INSTALL MethylSeekR ### ############################################################################## ############################################################################## * installing to library ‘/Library/Frameworks/R.framework/Versions/4.1/Resources/library’ * installing *source* package ‘MethylSeekR’ ... ** using staged installation ** R ** inst ** byte-compile and prepare package for lazy loading ** help *** installing help indices ** building package indices ** installing vignettes ** testing if installed package can be loaded from temporary location ** testing if installed package can be loaded from final location ** testing if installed package keeps a record of temporary installation path * DONE (MethylSeekR)
MethylSeekR.Rcheck/MethylSeekR-Ex.timings
| name | user | system | elapsed | |
| MethylSeekR-package | 63.294 | 3.361 | 74.908 | |
| calculateFDRs | 9.827 | 0.620 | 15.716 | |
| plotAlphaDistributionOneChr | 7.758 | 0.393 | 8.191 | |
| plotFinalSegmentation | 2.606 | 0.134 | 2.784 | |
| plotPMDSegmentation | 38.472 | 2.131 | 40.640 | |
| readMethylome | 0.442 | 0.030 | 0.474 | |
| readSNPTable | 0.138 | 0.007 | 0.147 | |
| removeSNPs | 0.586 | 0.031 | 0.618 | |
| savePMDSegments | 37.975 | 2.188 | 40.231 | |
| saveUMRLMRSegments | 1.707 | 0.082 | 1.793 | |
| segmentPMDs | 33.999 | 1.864 | 35.903 | |
| segmentUMRsLMRs | 1.468 | 0.081 | 1.551 | |