| Back to Multiple platform build/check report for BioC 3.13 |
|
This page was generated on 2021-10-15 15:06:09 -0400 (Fri, 15 Oct 2021).
|
To the developers/maintainers of the LowMACA package: - Please allow up to 24 hours (and sometimes 48 hours) for your latest push to git@git.bioconductor.org:packages/LowMACA.git to reflect on this report. See How and When does the builder pull? When will my changes propagate? here for more information. - Make sure to use the following settings in order to reproduce any error or warning you see on this page. |
| Package 1001/2041 | Hostname | OS / Arch | INSTALL | BUILD | CHECK | BUILD BIN | ||||||||
| LowMACA 1.22.0 (landing page) Stefano de Pretis
| nebbiolo1 | Linux (Ubuntu 20.04.2 LTS) / x86_64 | OK | OK | OK | |||||||||
| tokay2 | Windows Server 2012 R2 Standard / x64 | OK | OK | OK | OK | |||||||||
| machv2 | macOS 10.14.6 Mojave / x86_64 | OK | OK | OK | OK | |||||||||
| Package: LowMACA |
| Version: 1.22.0 |
| Command: rm -rf LowMACA.buildbin-libdir && mkdir LowMACA.buildbin-libdir && C:\Users\biocbuild\bbs-3.13-bioc\R\bin\R.exe CMD INSTALL --merge-multiarch --build --library=LowMACA.buildbin-libdir LowMACA_1.22.0.tar.gz |
| StartedAt: 2021-10-15 10:06:50 -0400 (Fri, 15 Oct 2021) |
| EndedAt: 2021-10-15 10:08:19 -0400 (Fri, 15 Oct 2021) |
| EllapsedTime: 88.7 seconds |
| RetCode: 0 |
| Status: OK |
| PackageFile: LowMACA_1.22.0.zip |
| PackageFileSize: 530.2 KiB |
##############################################################################
##############################################################################
###
### Running command:
###
### rm -rf LowMACA.buildbin-libdir && mkdir LowMACA.buildbin-libdir && C:\Users\biocbuild\bbs-3.13-bioc\R\bin\R.exe CMD INSTALL --merge-multiarch --build --library=LowMACA.buildbin-libdir LowMACA_1.22.0.tar.gz
###
##############################################################################
##############################################################################
install for i386
* installing *source* package 'LowMACA' ...
** using staged installation
** R
** data
** inst
** byte-compile and prepare package for lazy loading
** help
*** installing help indices
converting help for package 'LowMACA'
finding HTML links ... done
BLOSUM62 html
LowMACA-class html
LowMACA-package html
LowMACA_AML html
alignSequences html
allPfamAnalysis html
bpAll html
entropy html
getMutations html
lfm html
lfmSingleSequence html
lmAlignment html
lmEntropy html
lmMutations html
lmObj html
lmParams html
lmPlot html
lmPlotSingleSequence html
mapMutations html
newLowMACA html
nullProfile html
parallelize html
protter html
setup html
showTumorType html
** building package indices
** installing vignettes
** testing if installed package can be loaded from temporary location
Checking if clustalo is in the PATH...
Checking clustalo Version...
Checking perl installation...
Checking perl modules XML::Simple and LWP...
** testing if installed package can be loaded from final location
Checking if clustalo is in the PATH...
Checking clustalo Version...
Checking perl installation...
Checking perl modules XML::Simple and LWP...
** testing if installed package keeps a record of temporary installation path
install for x64
* installing *source* package 'LowMACA' ...
** testing if installed package can be loaded
Checking if clustalo is in the PATH...
Checking clustalo Version...
Checking perl installation...
Checking perl modules XML::Simple and LWP...
* MD5 sums
packaged installation of 'LowMACA' as LowMACA_1.22.0.zip
* DONE (LowMACA)