| Back to Multiple platform build/check report for BioC 3.13 |
|
This page was generated on 2021-10-15 15:06:40 -0400 (Fri, 15 Oct 2021).
|
To the developers/maintainers of the LowMACA package: - Please allow up to 24 hours (and sometimes 48 hours) for your latest push to git@git.bioconductor.org:packages/LowMACA.git to reflect on this report. See How and When does the builder pull? When will my changes propagate? here for more information. - Make sure to use the following settings in order to reproduce any error or warning you see on this page. |
| Package 1001/2041 | Hostname | OS / Arch | INSTALL | BUILD | CHECK | BUILD BIN | ||||||||
| LowMACA 1.22.0 (landing page) Stefano de Pretis
| nebbiolo1 | Linux (Ubuntu 20.04.2 LTS) / x86_64 | OK | OK | OK | |||||||||
| tokay2 | Windows Server 2012 R2 Standard / x64 | OK | OK | OK | OK | |||||||||
| machv2 | macOS 10.14.6 Mojave / x86_64 | OK | OK | OK | OK | |||||||||
| Package: LowMACA |
| Version: 1.22.0 |
| Command: /Library/Frameworks/R.framework/Versions/Current/Resources/bin/R CMD check --install=check:LowMACA.install-out.txt --library=/Library/Frameworks/R.framework/Versions/Current/Resources/library --no-vignettes --timings LowMACA_1.22.0.tar.gz |
| StartedAt: 2021-10-14 20:33:18 -0400 (Thu, 14 Oct 2021) |
| EndedAt: 2021-10-14 20:42:06 -0400 (Thu, 14 Oct 2021) |
| EllapsedTime: 528.5 seconds |
| RetCode: 0 |
| Status: OK |
| CheckDir: LowMACA.Rcheck |
| Warnings: 0 |
##############################################################################
##############################################################################
###
### Running command:
###
### /Library/Frameworks/R.framework/Versions/Current/Resources/bin/R CMD check --install=check:LowMACA.install-out.txt --library=/Library/Frameworks/R.framework/Versions/Current/Resources/library --no-vignettes --timings LowMACA_1.22.0.tar.gz
###
##############################################################################
##############################################################################
* using log directory ‘/Users/biocbuild/bbs-3.13-bioc/meat/LowMACA.Rcheck’
* using R version 4.1.1 (2021-08-10)
* using platform: x86_64-apple-darwin17.0 (64-bit)
* using session charset: UTF-8
* using option ‘--no-vignettes’
* checking for file ‘LowMACA/DESCRIPTION’ ... OK
* checking extension type ... Package
* this is package ‘LowMACA’ version ‘1.22.0’
* checking package namespace information ... OK
* checking package dependencies ... OK
* checking if this is a source package ... OK
* checking if there is a namespace ... OK
* checking for hidden files and directories ... NOTE
Found the following hidden files and directories:
.git_fetch_output.txt
.git_merge_output.txt
These were most likely included in error. See section ‘Package
structure’ in the ‘Writing R Extensions’ manual.
* checking for portable file names ... OK
* checking for sufficient/correct file permissions ... OK
* checking whether package ‘LowMACA’ can be installed ... OK
* checking installed package size ... OK
* checking package directory ... OK
* checking ‘build’ directory ... OK
* checking DESCRIPTION meta-information ... OK
* checking top-level files ... OK
* checking for left-over files ... OK
* checking index information ... OK
* checking package subdirectories ... OK
* checking R files for non-ASCII characters ... OK
* checking R files for syntax errors ... OK
* checking whether the package can be loaded ... OK
* checking whether the package can be loaded with stated dependencies ... OK
* checking whether the package can be unloaded cleanly ... OK
* checking whether the namespace can be loaded with stated dependencies ... OK
* checking whether the namespace can be unloaded cleanly ... OK
* checking dependencies in R code ... OK
* checking S3 generic/method consistency ... OK
* checking replacement functions ... OK
* checking foreign function calls ... OK
* checking R code for possible problems ... OK
* checking Rd files ... OK
* checking Rd metadata ... OK
* checking Rd cross-references ... OK
* checking for missing documentation entries ... OK
* checking for code/documentation mismatches ... OK
* checking Rd \usage sections ... OK
* checking Rd contents ... OK
* checking for unstated dependencies in examples ... OK
* checking contents of ‘data’ directory ... OK
* checking data for non-ASCII characters ... OK
* checking data for ASCII and uncompressed saves ... OK
* checking files in ‘vignettes’ ... OK
* checking examples ... OK
Examples with CPU (user + system) or elapsed time > 5s
user system elapsed
allPfamAnalysis 167.037 2.732 170.334
lfmSingleSequence 90.204 1.362 91.833
setup 13.037 2.110 40.992
LowMACA-class 11.952 0.298 23.247
LowMACA-package 8.680 0.248 14.932
alignSequences 6.741 1.990 15.965
getMutations 2.776 0.043 5.898
* checking for unstated dependencies in vignettes ... OK
* checking package vignettes in ‘inst/doc’ ... OK
* checking running R code from vignettes ... SKIPPED
* checking re-building of vignette outputs ... SKIPPED
* checking PDF version of manual ... OK
* DONE
Status: 1 NOTE
See
‘/Users/biocbuild/bbs-3.13-bioc/meat/LowMACA.Rcheck/00check.log’
for details.
LowMACA.Rcheck/00install.out
############################################################################## ############################################################################## ### ### Running command: ### ### /Library/Frameworks/R.framework/Versions/Current/Resources/bin/R CMD INSTALL LowMACA ### ############################################################################## ############################################################################## * installing to library ‘/Library/Frameworks/R.framework/Versions/4.1/Resources/library’ * installing *source* package ‘LowMACA’ ... ** using staged installation ** R ** data ** inst ** byte-compile and prepare package for lazy loading ** help *** installing help indices ** building package indices ** installing vignettes ** testing if installed package can be loaded from temporary location Checking if clustalo is in the PATH... Checking clustalo Version... Checking perl installation... Checking perl modules XML::Simple and LWP... ** testing if installed package can be loaded from final location Checking if clustalo is in the PATH... Checking clustalo Version... Checking perl installation... Checking perl modules XML::Simple and LWP... ** testing if installed package keeps a record of temporary installation path * DONE (LowMACA)
LowMACA.Rcheck/LowMACA-Ex.timings
| name | user | system | elapsed | |
| BLOSUM62 | 0.009 | 0.001 | 0.010 | |
| LowMACA-class | 11.952 | 0.298 | 23.247 | |
| LowMACA-package | 8.680 | 0.248 | 14.932 | |
| LowMACA_AML | 0.020 | 0.002 | 0.022 | |
| alignSequences | 6.741 | 1.990 | 15.965 | |
| allPfamAnalysis | 167.037 | 2.732 | 170.334 | |
| bpAll | 1.363 | 0.022 | 1.385 | |
| entropy | 1.341 | 0.019 | 1.363 | |
| getMutations | 2.776 | 0.043 | 5.898 | |
| lfm | 1.953 | 0.026 | 1.981 | |
| lfmSingleSequence | 90.204 | 1.362 | 91.833 | |
| lmAlignment | 0.067 | 0.008 | 0.074 | |
| lmEntropy | 1.452 | 0.041 | 1.494 | |
| lmMutations | 0.058 | 0.005 | 0.063 | |
| lmObj | 0.130 | 0.011 | 0.141 | |
| lmParams | 0.601 | 0.025 | 0.642 | |
| lmPlot | 4.058 | 0.048 | 4.166 | |
| lmPlotSingleSequence | 4.215 | 0.054 | 4.280 | |
| mapMutations | 0.656 | 0.007 | 0.663 | |
| newLowMACA | 3.179 | 0.039 | 3.226 | |
| nullProfile | 1.317 | 0.024 | 1.343 | |
| parallelize | 0.606 | 0.010 | 0.620 | |
| protter | 1.140 | 0.025 | 3.110 | |
| setup | 13.037 | 2.110 | 40.992 | |
| showTumorType | 0.061 | 0.009 | 0.156 | |