| Back to Multiple platform build/check report for BioC 3.13 |
|
This page was generated on 2021-10-15 15:06:09 -0400 (Fri, 15 Oct 2021).
|
To the developers/maintainers of the KEGGprofile package: - Please allow up to 24 hours (and sometimes 48 hours) for your latest push to git@git.bioconductor.org:packages/KEGGprofile.git to reflect on this report. See How and When does the builder pull? When will my changes propagate? here for more information. - Make sure to use the following settings in order to reproduce any error or warning you see on this page. |
| Package 970/2041 | Hostname | OS / Arch | INSTALL | BUILD | CHECK | BUILD BIN | ||||||||
| KEGGprofile 1.34.0 (landing page) Shilin Zhao
| nebbiolo1 | Linux (Ubuntu 20.04.2 LTS) / x86_64 | ERROR | ERROR | skipped | |||||||||
| tokay2 | Windows Server 2012 R2 Standard / x64 | ERROR | ERROR | skipped | skipped | |||||||||
| machv2 | macOS 10.14.6 Mojave / x86_64 | ERROR | ERROR | skipped | skipped | |||||||||
| Package: KEGGprofile |
| Version: 1.34.0 |
| Command: chmod a+r KEGGprofile -R && C:\Users\biocbuild\bbs-3.13-bioc\R\bin\R.exe CMD build --keep-empty-dirs --no-resave-data KEGGprofile |
| StartedAt: 2021-10-14 15:12:25 -0400 (Thu, 14 Oct 2021) |
| EndedAt: 2021-10-14 15:12:38 -0400 (Thu, 14 Oct 2021) |
| EllapsedTime: 13.1 seconds |
| RetCode: 1 |
| Status: ERROR |
| PackageFile: KEGGprofile_1.34.0.tar.gz |
| PackageFileSize: 314.3 KiB |
##############################################################################
##############################################################################
###
### Running command:
###
### chmod a+r KEGGprofile -R && C:\Users\biocbuild\bbs-3.13-bioc\R\bin\R.exe CMD build --keep-empty-dirs --no-resave-data KEGGprofile
###
##############################################################################
##############################################################################
* checking for file 'KEGGprofile/DESCRIPTION' ... OK
* preparing 'KEGGprofile':
* checking DESCRIPTION meta-information ... OK
* installing the package to build vignettes
-----------------------------------
ERROR: dependency 'KEGG.db' is not available for package 'KEGGprofile'
* removing 'C:/Users/biocbuild/bbs-3.13-bioc/tmpdir/Rtmpk12Oit/Rinst658555f3227/KEGGprofile'
-----------------------------------
ERROR: package installation failed