| Back to Multiple platform build/check report for BioC 3.13 |
|
This page was generated on 2021-10-15 15:05:43 -0400 (Fri, 15 Oct 2021).
|
To the developers/maintainers of the KEGGprofile package: - Please allow up to 24 hours (and sometimes 48 hours) for your latest push to git@git.bioconductor.org:packages/KEGGprofile.git to reflect on this report. See How and When does the builder pull? When will my changes propagate? here for more information. - Make sure to use the following settings in order to reproduce any error or warning you see on this page. |
| Package 970/2041 | Hostname | OS / Arch | INSTALL | BUILD | CHECK | BUILD BIN | ||||||||
| KEGGprofile 1.34.0 (landing page) Shilin Zhao
| nebbiolo1 | Linux (Ubuntu 20.04.2 LTS) / x86_64 | ERROR | ERROR | skipped | |||||||||
| tokay2 | Windows Server 2012 R2 Standard / x64 | ERROR | ERROR | skipped | skipped | |||||||||
| machv2 | macOS 10.14.6 Mojave / x86_64 | ERROR | ERROR | skipped | skipped | |||||||||
| Package: KEGGprofile |
| Version: 1.34.0 |
| Command: /home/biocbuild/bbs-3.13-bioc/R/bin/R CMD INSTALL KEGGprofile |
| StartedAt: 2021-10-14 06:38:31 -0400 (Thu, 14 Oct 2021) |
| EndedAt: 2021-10-14 06:38:32 -0400 (Thu, 14 Oct 2021) |
| EllapsedTime: 0.2 seconds |
| RetCode: 1 |
| Status: ERROR |
############################################################################## ############################################################################## ### ### Running command: ### ### /home/biocbuild/bbs-3.13-bioc/R/bin/R CMD INSTALL KEGGprofile ### ############################################################################## ############################################################################## * installing to library ‘/home/biocbuild/bbs-3.13-bioc/R/library’ ERROR: dependency ‘KEGG.db’ is not available for package ‘KEGGprofile’ * removing ‘/home/biocbuild/bbs-3.13-bioc/R/library/KEGGprofile’