| Back to Multiple platform build/check report for BioC 3.13 | 
  | 
This page was generated on 2021-10-15 15:06:09 -0400 (Fri, 15 Oct 2021).
| 
To the developers/maintainers of the KBoost package: - Please allow up to 24 hours (and sometimes 48 hours) for your latest push to git@git.bioconductor.org:packages/KBoost.git to reflect on this report. See How and When does the builder pull? When will my changes propagate? here for more information. - Make sure to use the following settings in order to reproduce any error or warning you see on this page.  | 
| Package 964/2041 | Hostname | OS / Arch | INSTALL | BUILD | CHECK | BUILD BIN | ||||||||
| KBoost 1.0.0  (landing page) Luis F. Iglesias-Martinez 
  | nebbiolo1 | Linux (Ubuntu 20.04.2 LTS) / x86_64 | OK | OK | OK | |||||||||
| tokay2 | Windows Server 2012 R2 Standard / x64 | OK | OK | OK | OK | |||||||||
| machv2 | macOS 10.14.6 Mojave / x86_64 | OK | OK | OK | OK | |||||||||
| Package: KBoost | 
| Version: 1.0.0 | 
| Command: rm -rf KBoost.buildbin-libdir && mkdir KBoost.buildbin-libdir && C:\Users\biocbuild\bbs-3.13-bioc\R\bin\R.exe CMD INSTALL --merge-multiarch --build --library=KBoost.buildbin-libdir KBoost_1.0.0.tar.gz | 
| StartedAt: 2021-10-15 10:01:39 -0400 (Fri, 15 Oct 2021) | 
| EndedAt: 2021-10-15 10:03:13 -0400 (Fri, 15 Oct 2021) | 
| EllapsedTime: 93.3 seconds | 
| RetCode: 0 | 
| Status: OK | 
| PackageFile: KBoost_1.0.0.zip | 
| PackageFileSize: 622.9 KiB | 
##############################################################################
##############################################################################
###
### Running command:
###
###   rm -rf KBoost.buildbin-libdir && mkdir KBoost.buildbin-libdir && C:\Users\biocbuild\bbs-3.13-bioc\R\bin\R.exe CMD INSTALL --merge-multiarch --build --library=KBoost.buildbin-libdir KBoost_1.0.0.tar.gz
###
##############################################################################
##############################################################################
install for i386
* installing *source* package 'KBoost' ...
** using staged installation
** R
** data
*** moving datasets to lazyload DB
** inst
** byte-compile and prepare package for lazy loading
** help
*** installing help indices
  converting help for package 'KBoost'
    finding HTML links ... done
    AUPR_AUROC_matrix                       html  
    D4_multi_1                              html  
    D4_multi_2                              html  
    D4_multi_3                              html  
    D4_multi_4                              html  
    D4_multi_5                              html  
    G_D4_multi_1                            html  
    G_D4_multi_2                            html  
    G_D4_multi_3                            html  
    G_D4_multi_4                            html  
    G_D4_multi_5                            html  
    Gerstein_Prior_ENET_2                   html  
    Human_TFs                               html  
    IRMA_Gold                               html  
    KBoost_human_symbol                     html  
    KPC                                     html  
    RBF_K                                   html  
    add_names                               html  
    d4_mfac                                 html  
    get_prior_Gerstein                      html  
    get_tfs_human                           html  
    grid_search_kboost                      html  
    irma_check                              html  
    irma_off                                html  
    irma_on                                 html  
    kboost                                  html  
    kernel_normal                           html  
    kernel_pc_boosting                      html  
    net_dist_bin                            html  
    net_refine                              html  
    net_summary_bin                         html  
    tab_2_matrix_D4                         html  
    write_GRN_D4                            html  
** building package indices
** installing vignettes
** testing if installed package can be loaded from temporary location
** testing if installed package can be loaded from final location
** testing if installed package keeps a record of temporary installation path
install for x64
* installing *source* package 'KBoost' ...
** testing if installed package can be loaded
* MD5 sums
packaged installation of 'KBoost' as KBoost_1.0.0.zip
* DONE (KBoost)