| Back to Multiple platform build/check report for BioC 3.13 |
|
This page was generated on 2021-10-15 15:05:43 -0400 (Fri, 15 Oct 2021).
|
To the developers/maintainers of the KBoost package: - Please allow up to 24 hours (and sometimes 48 hours) for your latest push to git@git.bioconductor.org:packages/KBoost.git to reflect on this report. See How and When does the builder pull? When will my changes propagate? here for more information. - Make sure to use the following settings in order to reproduce any error or warning you see on this page. |
| Package 964/2041 | Hostname | OS / Arch | INSTALL | BUILD | CHECK | BUILD BIN | ||||||||
| KBoost 1.0.0 (landing page) Luis F. Iglesias-Martinez
| nebbiolo1 | Linux (Ubuntu 20.04.2 LTS) / x86_64 | OK | OK | OK | |||||||||
| tokay2 | Windows Server 2012 R2 Standard / x64 | OK | OK | OK | OK | |||||||||
| machv2 | macOS 10.14.6 Mojave / x86_64 | OK | OK | OK | OK | |||||||||
| Package: KBoost |
| Version: 1.0.0 |
| Command: /home/biocbuild/bbs-3.13-bioc/R/bin/R CMD check --install=check:KBoost.install-out.txt --library=/home/biocbuild/bbs-3.13-bioc/R/library --no-vignettes --timings KBoost_1.0.0.tar.gz |
| StartedAt: 2021-10-14 10:21:00 -0400 (Thu, 14 Oct 2021) |
| EndedAt: 2021-10-14 10:21:28 -0400 (Thu, 14 Oct 2021) |
| EllapsedTime: 27.9 seconds |
| RetCode: 0 |
| Status: OK |
| CheckDir: KBoost.Rcheck |
| Warnings: 0 |
##############################################################################
##############################################################################
###
### Running command:
###
### /home/biocbuild/bbs-3.13-bioc/R/bin/R CMD check --install=check:KBoost.install-out.txt --library=/home/biocbuild/bbs-3.13-bioc/R/library --no-vignettes --timings KBoost_1.0.0.tar.gz
###
##############################################################################
##############################################################################
* using log directory ‘/home/biocbuild/bbs-3.13-bioc/meat/KBoost.Rcheck’
* using R version 4.1.1 (2021-08-10)
* using platform: x86_64-pc-linux-gnu (64-bit)
* using session charset: UTF-8
* using option ‘--no-vignettes’
* checking for file ‘KBoost/DESCRIPTION’ ... OK
* checking extension type ... Package
* this is package ‘KBoost’ version ‘1.0.0’
* package encoding: UTF-8
* checking package namespace information ... OK
* checking package dependencies ... OK
* checking if this is a source package ... OK
* checking if there is a namespace ... OK
* checking for hidden files and directories ... OK
* checking for portable file names ... OK
* checking for sufficient/correct file permissions ... OK
* checking whether package ‘KBoost’ can be installed ... OK
* checking installed package size ... OK
* checking package directory ... OK
* checking ‘build’ directory ... OK
* checking DESCRIPTION meta-information ... OK
* checking top-level files ... OK
* checking for left-over files ... OK
* checking index information ... OK
* checking package subdirectories ... OK
* checking R files for non-ASCII characters ... OK
* checking R files for syntax errors ... OK
* checking whether the package can be loaded ... OK
* checking whether the package can be loaded with stated dependencies ... OK
* checking whether the package can be unloaded cleanly ... OK
* checking whether the namespace can be loaded with stated dependencies ... OK
* checking whether the namespace can be unloaded cleanly ... OK
* checking dependencies in R code ... OK
* checking S3 generic/method consistency ... OK
* checking replacement functions ... OK
* checking foreign function calls ... OK
* checking R code for possible problems ... NOTE
check_input: no visible global function definition for ‘is’
net_summary_bin: no visible global function definition for ‘is’
Undefined global functions or variables:
is
Consider adding
importFrom("methods", "is")
to your NAMESPACE file (and ensure that your DESCRIPTION Imports field
contains 'methods').
* checking Rd files ... OK
* checking Rd metadata ... OK
* checking Rd cross-references ... OK
* checking for missing documentation entries ... OK
* checking for code/documentation mismatches ... OK
* checking Rd \usage sections ... OK
* checking Rd contents ... OK
* checking for unstated dependencies in examples ... OK
* checking contents of ‘data’ directory ... OK
* checking data for non-ASCII characters ... OK
* checking LazyData ... OK
* checking data for ASCII and uncompressed saves ... OK
* checking files in ‘vignettes’ ... OK
* checking examples ... OK
Examples with CPU (user + system) or elapsed time > 5s
user system elapsed
d4_mfac 5.211 0.004 5.215
* checking for unstated dependencies in ‘tests’ ... OK
* checking tests ...
Running ‘testthat.R’
OK
* checking for unstated dependencies in vignettes ... OK
* checking package vignettes in ‘inst/doc’ ... OK
* checking running R code from vignettes ... SKIPPED
* checking re-building of vignette outputs ... SKIPPED
* checking PDF version of manual ... OK
* DONE
Status: 1 NOTE
See
‘/home/biocbuild/bbs-3.13-bioc/meat/KBoost.Rcheck/00check.log’
for details.
KBoost.Rcheck/00install.out
############################################################################## ############################################################################## ### ### Running command: ### ### /home/biocbuild/bbs-3.13-bioc/R/bin/R CMD INSTALL KBoost ### ############################################################################## ############################################################################## * installing to library ‘/home/biocbuild/bbs-3.13-bioc/R/library’ * installing *source* package ‘KBoost’ ... ** using staged installation ** R ** data *** moving datasets to lazyload DB ** byte-compile and prepare package for lazy loading ** help *** installing help indices ** building package indices ** installing vignettes ** testing if installed package can be loaded from temporary location ** testing if installed package can be loaded from final location ** testing if installed package keeps a record of temporary installation path * DONE (KBoost)
KBoost.Rcheck/tests/testthat.Rout
R version 4.1.1 (2021-08-10) -- "Kick Things"
Copyright (C) 2021 The R Foundation for Statistical Computing
Platform: x86_64-pc-linux-gnu (64-bit)
R is free software and comes with ABSOLUTELY NO WARRANTY.
You are welcome to redistribute it under certain conditions.
Type 'license()' or 'licence()' for distribution details.
R is a collaborative project with many contributors.
Type 'contributors()' for more information and
'citation()' on how to cite R or R packages in publications.
Type 'demo()' for some demos, 'help()' for on-line help, or
'help.start()' for an HTML browser interface to help.
Type 'q()' to quit R.
> library(testthat)
> library(KBoost)
>
> test_check("KBoost")
[ FAIL 0 | WARN 0 | SKIP 0 | PASS 7 ]
>
> proc.time()
user system elapsed
0.528 0.061 0.577
KBoost.Rcheck/KBoost-Ex.timings
| name | user | system | elapsed | |
| AUPR_AUROC_matrix | 1.071 | 0.048 | 1.119 | |
| D4_multi_1 | 0.000 | 0.000 | 0.001 | |
| D4_multi_2 | 0.000 | 0.001 | 0.001 | |
| D4_multi_3 | 0.000 | 0.001 | 0.001 | |
| D4_multi_4 | 0.000 | 0.000 | 0.001 | |
| D4_multi_5 | 0 | 0 | 0 | |
| G_D4_multi_1 | 0.001 | 0.000 | 0.001 | |
| G_D4_multi_2 | 0.001 | 0.000 | 0.001 | |
| G_D4_multi_3 | 0.000 | 0.001 | 0.001 | |
| G_D4_multi_4 | 0.000 | 0.001 | 0.000 | |
| G_D4_multi_5 | 0.000 | 0.001 | 0.001 | |
| Gerstein_Prior_ENET_2 | 0.001 | 0.000 | 0.001 | |
| Human_TFs | 0.001 | 0.000 | 0.001 | |
| IRMA_Gold | 0.001 | 0.000 | 0.001 | |
| KBoost_human_symbol | 0.02 | 0.00 | 0.02 | |
| KPC | 0.000 | 0.004 | 0.003 | |
| RBF_K | 0.000 | 0.001 | 0.000 | |
| add_names | 0.445 | 0.002 | 0.447 | |
| d4_mfac | 5.211 | 0.004 | 5.215 | |
| get_prior_Gerstein | 0.000 | 0.002 | 0.003 | |
| get_tfs_human | 0.000 | 0.000 | 0.001 | |
| grid_search_kboost | 0.114 | 0.000 | 0.114 | |
| irma_check | 0.009 | 0.000 | 0.009 | |
| irma_off | 0.000 | 0.000 | 0.001 | |
| irma_on | 0.000 | 0.001 | 0.001 | |
| kboost | 0.438 | 0.002 | 0.440 | |
| kernel_normal | 0.001 | 0.000 | 0.001 | |
| kernel_pc_boosting | 0.298 | 0.000 | 0.299 | |
| net_dist_bin | 0.424 | 0.000 | 0.424 | |
| net_refine | 0.003 | 0.000 | 0.003 | |
| net_summary_bin | 0.436 | 0.000 | 0.436 | |
| tab_2_matrix_D4 | 0 | 0 | 0 | |
| write_GRN_D4 | 0.562 | 0.003 | 0.565 | |