| Back to Multiple platform build/check report for BioC 3.13 |
|
This page was generated on 2021-10-15 15:05:43 -0400 (Fri, 15 Oct 2021).
|
To the developers/maintainers of the IntEREst package: - Please allow up to 24 hours (and sometimes 48 hours) for your latest push to git@git.bioconductor.org:packages/IntEREst.git to reflect on this report. See How and When does the builder pull? When will my changes propagate? here for more information. - Make sure to use the following settings in order to reproduce any error or warning you see on this page. |
| Package 934/2041 | Hostname | OS / Arch | INSTALL | BUILD | CHECK | BUILD BIN | ||||||||
| IntEREst 1.16.0 (landing page) Ali Oghabian
| nebbiolo1 | Linux (Ubuntu 20.04.2 LTS) / x86_64 | OK | OK | OK | |||||||||
| tokay2 | Windows Server 2012 R2 Standard / x64 | OK | OK | OK | OK | |||||||||
| machv2 | macOS 10.14.6 Mojave / x86_64 | OK | OK | OK | OK | |||||||||
| Package: IntEREst |
| Version: 1.16.0 |
| Command: /home/biocbuild/bbs-3.13-bioc/R/bin/R CMD check --install=check:IntEREst.install-out.txt --library=/home/biocbuild/bbs-3.13-bioc/R/library --no-vignettes --timings IntEREst_1.16.0.tar.gz |
| StartedAt: 2021-10-14 10:16:51 -0400 (Thu, 14 Oct 2021) |
| EndedAt: 2021-10-14 10:21:59 -0400 (Thu, 14 Oct 2021) |
| EllapsedTime: 308.0 seconds |
| RetCode: 0 |
| Status: OK |
| CheckDir: IntEREst.Rcheck |
| Warnings: 0 |
##############################################################################
##############################################################################
###
### Running command:
###
### /home/biocbuild/bbs-3.13-bioc/R/bin/R CMD check --install=check:IntEREst.install-out.txt --library=/home/biocbuild/bbs-3.13-bioc/R/library --no-vignettes --timings IntEREst_1.16.0.tar.gz
###
##############################################################################
##############################################################################
* using log directory ‘/home/biocbuild/bbs-3.13-bioc/meat/IntEREst.Rcheck’
* using R version 4.1.1 (2021-08-10)
* using platform: x86_64-pc-linux-gnu (64-bit)
* using session charset: UTF-8
* using option ‘--no-vignettes’
* checking for file ‘IntEREst/DESCRIPTION’ ... OK
* this is package ‘IntEREst’ version ‘1.16.0’
* checking package namespace information ... OK
* checking package dependencies ... OK
* checking if this is a source package ... OK
* checking if there is a namespace ... OK
* checking for hidden files and directories ... OK
* checking for portable file names ... OK
* checking for sufficient/correct file permissions ... OK
* checking whether package ‘IntEREst’ can be installed ... OK
* checking installed package size ... OK
* checking package directory ... OK
* checking ‘build’ directory ... OK
* checking DESCRIPTION meta-information ... OK
* checking top-level files ... OK
* checking for left-over files ... OK
* checking index information ... OK
* checking package subdirectories ... OK
* checking R files for non-ASCII characters ... OK
* checking R files for syntax errors ... OK
* checking whether the package can be loaded ... OK
* checking whether the package can be loaded with stated dependencies ... OK
* checking whether the package can be unloaded cleanly ... OK
* checking whether the namespace can be loaded with stated dependencies ... OK
* checking whether the namespace can be unloaded cleanly ... OK
* checking dependencies in R code ... OK
* checking S3 generic/method consistency ... OK
* checking replacement functions ... OK
* checking foreign function calls ... OK
* checking R code for possible problems ... OK
* checking Rd files ... OK
* checking Rd metadata ... OK
* checking Rd cross-references ... OK
* checking for missing documentation entries ... OK
* checking for code/documentation mismatches ... OK
* checking Rd \usage sections ... OK
* checking Rd contents ... OK
* checking for unstated dependencies in examples ... OK
* checking contents of ‘data’ directory ... OK
* checking data for non-ASCII characters ... OK
* checking LazyData ... OK
* checking data for ASCII and uncompressed saves ... OK
* checking files in ‘vignettes’ ... OK
* checking examples ... OK
Examples with CPU (user + system) or elapsed time > 5s
user system elapsed
DEXSeqIntEREst 28.641 0.407 29.052
deseqInterest 7.264 0.064 7.328
* checking for unstated dependencies in vignettes ... OK
* checking package vignettes in ‘inst/doc’ ... OK
* checking running R code from vignettes ... SKIPPED
* checking re-building of vignette outputs ... SKIPPED
* checking PDF version of manual ... OK
* DONE
Status: OK
IntEREst.Rcheck/00install.out
############################################################################## ############################################################################## ### ### Running command: ### ### /home/biocbuild/bbs-3.13-bioc/R/bin/R CMD INSTALL IntEREst ### ############################################################################## ############################################################################## * installing to library ‘/home/biocbuild/bbs-3.13-bioc/R/library’ * installing *source* package ‘IntEREst’ ... ** using staged installation ** R ** data *** moving datasets to lazyload DB ** inst ** byte-compile and prepare package for lazy loading ** help *** installing help indices ** building package indices ** installing vignettes ** testing if installed package can be loaded from temporary location ** testing if installed package can be loaded from final location ** testing if installed package keeps a record of temporary installation path * DONE (IntEREst)
IntEREst.Rcheck/IntEREst-Ex.timings
| name | user | system | elapsed | |
| DEXSeqIntEREst | 28.641 | 0.407 | 29.052 | |
| addAnnotation | 0.041 | 0.000 | 0.042 | |
| annotateU12 | 4.029 | 0.192 | 4.221 | |
| applyOverlap | 0.188 | 0.004 | 0.192 | |
| attributes | 0.034 | 0.004 | 0.037 | |
| boxplot-method | 0.071 | 0.000 | 0.071 | |
| buildSsTypePwms | 0.001 | 0.000 | 0.000 | |
| counts-method | 0.033 | 0.012 | 0.044 | |
| deseqInterest | 7.264 | 0.064 | 7.328 | |
| exactTestInterest | 0.098 | 0.004 | 0.102 | |
| getRepeatTable | 0 | 0 | 0 | |
| glmInterest | 0.104 | 0.000 | 0.104 | |
| interest | 2.447 | 0.028 | 2.476 | |
| interest.sequential | 1.183 | 0.019 | 1.204 | |
| interestResult | 0.023 | 0.004 | 0.027 | |
| interestResultIntEx | 0.193 | 0.000 | 0.193 | |
| intexIndex | 0.005 | 0.000 | 0.005 | |
| lfc | 0.185 | 0.004 | 0.189 | |
| mergeInterestResult | 0.078 | 0.000 | 0.078 | |
| plot-method | 0.282 | 0.004 | 0.286 | |
| psi | 0.686 | 0.076 | 0.762 | |
| qlfInterest | 0.145 | 0.000 | 0.145 | |
| readInterestResults | 0.043 | 0.000 | 0.043 | |
| referencePrepare | 1.258 | 0.044 | 1.302 | |
| subInterestResult | 0.045 | 0.004 | 0.049 | |
| treatInterest | 0.099 | 0.007 | 0.108 | |
| u12Boxplot | 0.108 | 0.011 | 0.119 | |
| u12BoxplotNb | 0.115 | 0.004 | 0.119 | |
| u12DensityPlot | 0.238 | 0.012 | 0.249 | |
| u12Index | 0.013 | 0.000 | 0.013 | |
| u12NbIndex | 0.093 | 0.000 | 0.093 | |
| unionRefTr | 0.014 | 0.000 | 0.013 | |
| updateRowDataCol | 0.062 | 0.004 | 0.066 | |