| Back to Multiple platform build/check report for BioC 3.13 |
|
This page was generated on 2021-10-15 15:06:39 -0400 (Fri, 15 Oct 2021).
|
To the developers/maintainers of the IntEREst package: - Please allow up to 24 hours (and sometimes 48 hours) for your latest push to git@git.bioconductor.org:packages/IntEREst.git to reflect on this report. See How and When does the builder pull? When will my changes propagate? here for more information. - Make sure to use the following settings in order to reproduce any error or warning you see on this page. |
| Package 934/2041 | Hostname | OS / Arch | INSTALL | BUILD | CHECK | BUILD BIN | ||||||||
| IntEREst 1.16.0 (landing page) Ali Oghabian
| nebbiolo1 | Linux (Ubuntu 20.04.2 LTS) / x86_64 | OK | OK | OK | |||||||||
| tokay2 | Windows Server 2012 R2 Standard / x64 | OK | OK | OK | OK | |||||||||
| machv2 | macOS 10.14.6 Mojave / x86_64 | OK | OK | OK | OK | |||||||||
| Package: IntEREst |
| Version: 1.16.0 |
| Command: /Library/Frameworks/R.framework/Versions/Current/Resources/bin/R CMD check --install=check:IntEREst.install-out.txt --library=/Library/Frameworks/R.framework/Versions/Current/Resources/library --no-vignettes --timings IntEREst_1.16.0.tar.gz |
| StartedAt: 2021-10-14 20:15:01 -0400 (Thu, 14 Oct 2021) |
| EndedAt: 2021-10-14 20:22:05 -0400 (Thu, 14 Oct 2021) |
| EllapsedTime: 423.8 seconds |
| RetCode: 0 |
| Status: OK |
| CheckDir: IntEREst.Rcheck |
| Warnings: 0 |
##############################################################################
##############################################################################
###
### Running command:
###
### /Library/Frameworks/R.framework/Versions/Current/Resources/bin/R CMD check --install=check:IntEREst.install-out.txt --library=/Library/Frameworks/R.framework/Versions/Current/Resources/library --no-vignettes --timings IntEREst_1.16.0.tar.gz
###
##############################################################################
##############################################################################
* using log directory ‘/Users/biocbuild/bbs-3.13-bioc/meat/IntEREst.Rcheck’
* using R version 4.1.1 (2021-08-10)
* using platform: x86_64-apple-darwin17.0 (64-bit)
* using session charset: UTF-8
* using option ‘--no-vignettes’
* checking for file ‘IntEREst/DESCRIPTION’ ... OK
* this is package ‘IntEREst’ version ‘1.16.0’
* checking package namespace information ... OK
* checking package dependencies ... OK
* checking if this is a source package ... OK
* checking if there is a namespace ... OK
* checking for hidden files and directories ... NOTE
Found the following hidden files and directories:
.git_fetch_output.txt
.git_merge_output.txt
These were most likely included in error. See section ‘Package
structure’ in the ‘Writing R Extensions’ manual.
* checking for portable file names ... OK
* checking for sufficient/correct file permissions ... OK
* checking whether package ‘IntEREst’ can be installed ... OK
* checking installed package size ... OK
* checking package directory ... OK
* checking ‘build’ directory ... OK
* checking DESCRIPTION meta-information ... OK
* checking top-level files ... OK
* checking for left-over files ... OK
* checking index information ... OK
* checking package subdirectories ... OK
* checking R files for non-ASCII characters ... OK
* checking R files for syntax errors ... OK
* checking whether the package can be loaded ... OK
* checking whether the package can be loaded with stated dependencies ... OK
* checking whether the package can be unloaded cleanly ... OK
* checking whether the namespace can be loaded with stated dependencies ... OK
* checking whether the namespace can be unloaded cleanly ... OK
* checking dependencies in R code ... OK
* checking S3 generic/method consistency ... OK
* checking replacement functions ... OK
* checking foreign function calls ... OK
* checking R code for possible problems ... OK
* checking Rd files ... OK
* checking Rd metadata ... OK
* checking Rd cross-references ... OK
* checking for missing documentation entries ... OK
* checking for code/documentation mismatches ... OK
* checking Rd \usage sections ... OK
* checking Rd contents ... OK
* checking for unstated dependencies in examples ... OK
* checking contents of ‘data’ directory ... OK
* checking data for non-ASCII characters ... OK
* checking LazyData ... OK
* checking data for ASCII and uncompressed saves ... OK
* checking files in ‘vignettes’ ... OK
* checking examples ... OK
Examples with CPU (user + system) or elapsed time > 5s
user system elapsed
DEXSeqIntEREst 49.205 0.412 49.665
deseqInterest 13.156 0.019 13.182
annotateU12 5.660 0.109 5.774
* checking for unstated dependencies in vignettes ... OK
* checking package vignettes in ‘inst/doc’ ... OK
* checking running R code from vignettes ... SKIPPED
* checking re-building of vignette outputs ... SKIPPED
* checking PDF version of manual ... OK
* DONE
Status: 1 NOTE
See
‘/Users/biocbuild/bbs-3.13-bioc/meat/IntEREst.Rcheck/00check.log’
for details.
IntEREst.Rcheck/00install.out
############################################################################## ############################################################################## ### ### Running command: ### ### /Library/Frameworks/R.framework/Versions/Current/Resources/bin/R CMD INSTALL IntEREst ### ############################################################################## ############################################################################## * installing to library ‘/Library/Frameworks/R.framework/Versions/4.1/Resources/library’ * installing *source* package ‘IntEREst’ ... ** using staged installation ** R ** data *** moving datasets to lazyload DB ** inst ** byte-compile and prepare package for lazy loading ** help *** installing help indices ** building package indices ** installing vignettes ** testing if installed package can be loaded from temporary location ** testing if installed package can be loaded from final location ** testing if installed package keeps a record of temporary installation path * DONE (IntEREst)
IntEREst.Rcheck/IntEREst-Ex.timings
| name | user | system | elapsed | |
| DEXSeqIntEREst | 49.205 | 0.412 | 49.665 | |
| addAnnotation | 0.061 | 0.001 | 0.062 | |
| annotateU12 | 5.660 | 0.109 | 5.774 | |
| applyOverlap | 0.420 | 0.013 | 0.444 | |
| attributes | 0.053 | 0.005 | 0.057 | |
| boxplot-method | 0.151 | 0.002 | 0.182 | |
| buildSsTypePwms | 0 | 0 | 0 | |
| counts-method | 0.055 | 0.003 | 0.059 | |
| deseqInterest | 13.156 | 0.019 | 13.182 | |
| exactTestInterest | 0.168 | 0.002 | 0.171 | |
| getRepeatTable | 0.000 | 0.000 | 0.001 | |
| glmInterest | 0.189 | 0.002 | 0.191 | |
| interest | 3.280 | 0.022 | 3.304 | |
| interest.sequential | 2.214 | 0.017 | 2.233 | |
| interestResult | 0.051 | 0.002 | 0.054 | |
| interestResultIntEx | 0.379 | 0.002 | 0.381 | |
| intexIndex | 0.010 | 0.001 | 0.011 | |
| lfc | 0.355 | 0.003 | 0.358 | |
| mergeInterestResult | 0.124 | 0.002 | 0.126 | |
| plot-method | 0.526 | 0.006 | 0.534 | |
| psi | 1.312 | 0.009 | 1.323 | |
| qlfInterest | 0.192 | 0.005 | 0.197 | |
| readInterestResults | 0.071 | 0.003 | 0.074 | |
| referencePrepare | 1.640 | 0.008 | 1.650 | |
| subInterestResult | 0.064 | 0.001 | 0.066 | |
| treatInterest | 0.186 | 0.005 | 0.192 | |
| u12Boxplot | 0.181 | 0.001 | 0.183 | |
| u12BoxplotNb | 0.179 | 0.000 | 0.180 | |
| u12DensityPlot | 0.434 | 0.005 | 0.440 | |
| u12Index | 0.016 | 0.000 | 0.016 | |
| u12NbIndex | 0.167 | 0.002 | 0.169 | |
| unionRefTr | 0.027 | 0.001 | 0.028 | |
| updateRowDataCol | 0.085 | 0.003 | 0.088 | |