| Back to Multiple platform build/check report for BioC 3.13 | 
 | 
This page was generated on 2021-10-15 15:06:08 -0400 (Fri, 15 Oct 2021).
| To the developers/maintainers of the ILoReg package: - Please allow up to 24 hours (and sometimes 48 hours) for your latest push to git@git.bioconductor.org:packages/ILoReg.git to reflect on this report. See How and When does the builder pull? When will my changes propagate? here for more information. - Make sure to use the following settings in order to reproduce any error or warning you see on this page. | 
| Package 909/2041 | Hostname | OS / Arch | INSTALL | BUILD | CHECK | BUILD BIN | ||||||||
| ILoReg 1.2.0  (landing page) Johannes Smolander 
 | nebbiolo1 | Linux (Ubuntu 20.04.2 LTS) / x86_64 | OK | OK | OK |  | ||||||||
| tokay2 | Windows Server 2012 R2 Standard / x64 | OK | OK | OK | OK |  | ||||||||
| machv2 | macOS 10.14.6 Mojave / x86_64 | OK | OK | OK | OK |  | ||||||||
| Package: ILoReg | 
| Version: 1.2.0 | 
| Command: rm -rf ILoReg.buildbin-libdir && mkdir ILoReg.buildbin-libdir && C:\Users\biocbuild\bbs-3.13-bioc\R\bin\R.exe CMD INSTALL --merge-multiarch --build --library=ILoReg.buildbin-libdir ILoReg_1.2.0.tar.gz | 
| StartedAt: 2021-10-15 09:54:11 -0400 (Fri, 15 Oct 2021) | 
| EndedAt: 2021-10-15 09:55:46 -0400 (Fri, 15 Oct 2021) | 
| EllapsedTime: 94.9 seconds | 
| RetCode: 0 | 
| Status: OK | 
| PackageFile: ILoReg_1.2.0.zip | 
| PackageFileSize: 2.167 MiB | 
##############################################################################
##############################################################################
###
### Running command:
###
###   rm -rf ILoReg.buildbin-libdir && mkdir ILoReg.buildbin-libdir && C:\Users\biocbuild\bbs-3.13-bioc\R\bin\R.exe CMD INSTALL --merge-multiarch --build --library=ILoReg.buildbin-libdir ILoReg_1.2.0.tar.gz
###
##############################################################################
##############################################################################
install for i386
* installing *source* package 'ILoReg' ...
** using staged installation
** R
** data
*** moving datasets to lazyload DB
** inst
** byte-compile and prepare package for lazy loading
** help
*** installing help indices
  converting help for package 'ILoReg'
    finding HTML links ... done
    AnnotationScatterPlot                   html  
    CalcSilhInfo                            html  
    ClusteringScatterPlot                   html  
    DownOverSampling                        html  
    FindAllGeneMarkers                      html  
    FindGeneMarkers                         html  
    GeneHeatmap                             html  
    GeneScatterPlot                         html  
    HierarchicalClustering                  html  
    LogisticRegression                      html  
    MergeClusters                           html  
    PCAElbowPlot                            html  
    PrepareILoReg                           html  
    RenameAllClusters                       html  
    RenameCluster                           html  
    RunICP                                  html  
    RunPCA                                  html  
    RunParallelICP                          html  
    RunTSNE                                 html  
    RunUMAP                                 html  
    SelectKClusters                         html  
    SelectTopGenes                          html  
    SilhouetteCurve                         html  
    VlnPlot                                 html  
    pbmc3k_500                              html  
** building package indices
** installing vignettes
** testing if installed package can be loaded from temporary location
** testing if installed package can be loaded from final location
** testing if installed package keeps a record of temporary installation path
install for x64
* installing *source* package 'ILoReg' ...
** testing if installed package can be loaded
* MD5 sums
packaged installation of 'ILoReg' as ILoReg_1.2.0.zip
* DONE (ILoReg)