| Back to Multiple platform build/check report for BioC 3.13 |
|
This page was generated on 2021-10-15 15:06:39 -0400 (Fri, 15 Oct 2021).
|
To the developers/maintainers of the ILoReg package: - Please allow up to 24 hours (and sometimes 48 hours) for your latest push to git@git.bioconductor.org:packages/ILoReg.git to reflect on this report. See How and When does the builder pull? When will my changes propagate? here for more information. - Make sure to use the following settings in order to reproduce any error or warning you see on this page. |
| Package 909/2041 | Hostname | OS / Arch | INSTALL | BUILD | CHECK | BUILD BIN | ||||||||
| ILoReg 1.2.0 (landing page) Johannes Smolander
| nebbiolo1 | Linux (Ubuntu 20.04.2 LTS) / x86_64 | OK | OK | OK | |||||||||
| tokay2 | Windows Server 2012 R2 Standard / x64 | OK | OK | OK | OK | |||||||||
| machv2 | macOS 10.14.6 Mojave / x86_64 | OK | OK | OK | OK | |||||||||
| Package: ILoReg |
| Version: 1.2.0 |
| Command: /Library/Frameworks/R.framework/Versions/Current/Resources/bin/R CMD check --install=check:ILoReg.install-out.txt --library=/Library/Frameworks/R.framework/Versions/Current/Resources/library --no-vignettes --timings ILoReg_1.2.0.tar.gz |
| StartedAt: 2021-10-14 20:09:06 -0400 (Thu, 14 Oct 2021) |
| EndedAt: 2021-10-14 20:16:47 -0400 (Thu, 14 Oct 2021) |
| EllapsedTime: 461.4 seconds |
| RetCode: 0 |
| Status: OK |
| CheckDir: ILoReg.Rcheck |
| Warnings: 0 |
##############################################################################
##############################################################################
###
### Running command:
###
### /Library/Frameworks/R.framework/Versions/Current/Resources/bin/R CMD check --install=check:ILoReg.install-out.txt --library=/Library/Frameworks/R.framework/Versions/Current/Resources/library --no-vignettes --timings ILoReg_1.2.0.tar.gz
###
##############################################################################
##############################################################################
* using log directory ‘/Users/biocbuild/bbs-3.13-bioc/meat/ILoReg.Rcheck’
* using R version 4.1.1 (2021-08-10)
* using platform: x86_64-apple-darwin17.0 (64-bit)
* using session charset: UTF-8
* using option ‘--no-vignettes’
* checking for file ‘ILoReg/DESCRIPTION’ ... OK
* checking extension type ... Package
* this is package ‘ILoReg’ version ‘1.2.0’
* package encoding: UTF-8
* checking package namespace information ... OK
* checking package dependencies ... OK
* checking if this is a source package ... OK
* checking if there is a namespace ... OK
* checking for hidden files and directories ... NOTE
Found the following hidden files and directories:
.git_fetch_output.txt
.git_merge_output.txt
These were most likely included in error. See section ‘Package
structure’ in the ‘Writing R Extensions’ manual.
* checking for portable file names ... OK
* checking for sufficient/correct file permissions ... OK
* checking whether package ‘ILoReg’ can be installed ... OK
* checking installed package size ... OK
* checking package directory ... OK
* checking ‘build’ directory ... OK
* checking DESCRIPTION meta-information ... OK
* checking top-level files ... OK
* checking for left-over files ... OK
* checking index information ... OK
* checking package subdirectories ... OK
* checking R files for non-ASCII characters ... OK
* checking R files for syntax errors ... OK
* checking whether the package can be loaded ... OK
* checking whether the package can be loaded with stated dependencies ... OK
* checking whether the package can be unloaded cleanly ... OK
* checking whether the namespace can be loaded with stated dependencies ... OK
* checking whether the namespace can be unloaded cleanly ... OK
* checking dependencies in R code ... OK
* checking S3 generic/method consistency ... OK
* checking replacement functions ... OK
* checking foreign function calls ... OK
* checking R code for possible problems ... OK
* checking Rd files ... OK
* checking Rd metadata ... OK
* checking Rd cross-references ... OK
* checking for missing documentation entries ... OK
* checking for code/documentation mismatches ... OK
* checking Rd \usage sections ... OK
* checking Rd contents ... OK
* checking for unstated dependencies in examples ... OK
* checking contents of ‘data’ directory ... OK
* checking data for non-ASCII characters ... OK
* checking LazyData ... OK
* checking data for ASCII and uncompressed saves ... OK
* checking files in ‘vignettes’ ... OK
* checking examples ... OK
Examples with CPU (user + system) or elapsed time > 5s
user system elapsed
FindAllGeneMarkers 20.376 1.820 22.210
SelectTopGenes 19.892 1.538 21.438
AnnotationScatterPlot 16.040 1.603 17.685
ClusteringScatterPlot 15.920 1.372 17.307
GeneHeatmap 14.812 1.478 16.300
GeneScatterPlot 14.010 1.217 15.235
FindGeneMarkers 11.312 1.425 12.773
CalcSilhInfo 10.847 1.172 12.034
RunUMAP 10.144 1.271 11.431
RunTSNE 10.144 1.239 11.394
PCAElbowPlot 9.527 1.512 11.053
VlnPlot 9.617 1.395 11.020
SilhouetteCurve 9.440 1.315 10.761
HierarchicalClustering 9.183 1.417 10.613
RenameAllClusters 8.418 1.277 9.724
SelectKClusters 8.193 1.264 9.467
RunPCA 8.214 1.192 9.410
RenameCluster 8.232 1.101 9.341
MergeClusters 8.163 1.076 9.251
RunParallelICP 7.785 1.221 9.026
* checking for unstated dependencies in vignettes ... OK
* checking package vignettes in ‘inst/doc’ ... OK
* checking running R code from vignettes ... SKIPPED
* checking re-building of vignette outputs ... SKIPPED
* checking PDF version of manual ... OK
* DONE
Status: 1 NOTE
See
‘/Users/biocbuild/bbs-3.13-bioc/meat/ILoReg.Rcheck/00check.log’
for details.
ILoReg.Rcheck/00install.out
############################################################################## ############################################################################## ### ### Running command: ### ### /Library/Frameworks/R.framework/Versions/Current/Resources/bin/R CMD INSTALL ILoReg ### ############################################################################## ############################################################################## * installing to library ‘/Library/Frameworks/R.framework/Versions/4.1/Resources/library’ * installing *source* package ‘ILoReg’ ... ** using staged installation ** R ** data *** moving datasets to lazyload DB ** inst ** byte-compile and prepare package for lazy loading ** help *** installing help indices ** building package indices ** installing vignettes ** testing if installed package can be loaded from temporary location ** testing if installed package can be loaded from final location ** testing if installed package keeps a record of temporary installation path * DONE (ILoReg)
ILoReg.Rcheck/ILoReg-Ex.timings
| name | user | system | elapsed | |
| AnnotationScatterPlot | 16.040 | 1.603 | 17.685 | |
| CalcSilhInfo | 10.847 | 1.172 | 12.034 | |
| ClusteringScatterPlot | 15.920 | 1.372 | 17.307 | |
| FindAllGeneMarkers | 20.376 | 1.820 | 22.210 | |
| FindGeneMarkers | 11.312 | 1.425 | 12.773 | |
| GeneHeatmap | 14.812 | 1.478 | 16.300 | |
| GeneScatterPlot | 14.010 | 1.217 | 15.235 | |
| HierarchicalClustering | 9.183 | 1.417 | 10.613 | |
| MergeClusters | 8.163 | 1.076 | 9.251 | |
| PCAElbowPlot | 9.527 | 1.512 | 11.053 | |
| PrepareILoReg | 0.771 | 0.020 | 0.797 | |
| RenameAllClusters | 8.418 | 1.277 | 9.724 | |
| RenameCluster | 8.232 | 1.101 | 9.341 | |
| RunPCA | 8.214 | 1.192 | 9.410 | |
| RunParallelICP | 7.785 | 1.221 | 9.026 | |
| RunTSNE | 10.144 | 1.239 | 11.394 | |
| RunUMAP | 10.144 | 1.271 | 11.431 | |
| SelectKClusters | 8.193 | 1.264 | 9.467 | |
| SelectTopGenes | 19.892 | 1.538 | 21.438 | |
| SilhouetteCurve | 9.440 | 1.315 | 10.761 | |
| VlnPlot | 9.617 | 1.395 | 11.020 | |
| pbmc3k_500 | 0.002 | 0.001 | 0.003 | |