| Back to Multiple platform build/check report for BioC 3.13 |
|
This page was generated on 2021-10-15 15:05:41 -0400 (Fri, 15 Oct 2021).
|
To the developers/maintainers of the GeneStructureTools package: - Please allow up to 24 hours (and sometimes 48 hours) for your latest push to git@git.bioconductor.org:packages/GeneStructureTools.git to reflect on this report. See How and When does the builder pull? When will my changes propagate? here for more information. - Make sure to use the following settings in order to reproduce any error or warning you see on this page. |
| Package 727/2041 | Hostname | OS / Arch | INSTALL | BUILD | CHECK | BUILD BIN | ||||||||
| GeneStructureTools 1.12.0 (landing page) Beth Signal
| nebbiolo1 | Linux (Ubuntu 20.04.2 LTS) / x86_64 | OK | OK | OK | |||||||||
| tokay2 | Windows Server 2012 R2 Standard / x64 | OK | OK | OK | OK | |||||||||
| machv2 | macOS 10.14.6 Mojave / x86_64 | OK | OK | OK | OK | |||||||||
| Package: GeneStructureTools |
| Version: 1.12.0 |
| Command: /home/biocbuild/bbs-3.13-bioc/R/bin/R CMD check --install=check:GeneStructureTools.install-out.txt --library=/home/biocbuild/bbs-3.13-bioc/R/library --no-vignettes --timings GeneStructureTools_1.12.0.tar.gz |
| StartedAt: 2021-10-14 09:57:36 -0400 (Thu, 14 Oct 2021) |
| EndedAt: 2021-10-14 10:03:21 -0400 (Thu, 14 Oct 2021) |
| EllapsedTime: 345.5 seconds |
| RetCode: 0 |
| Status: OK |
| CheckDir: GeneStructureTools.Rcheck |
| Warnings: 0 |
##############################################################################
##############################################################################
###
### Running command:
###
### /home/biocbuild/bbs-3.13-bioc/R/bin/R CMD check --install=check:GeneStructureTools.install-out.txt --library=/home/biocbuild/bbs-3.13-bioc/R/library --no-vignettes --timings GeneStructureTools_1.12.0.tar.gz
###
##############################################################################
##############################################################################
* using log directory ‘/home/biocbuild/bbs-3.13-bioc/meat/GeneStructureTools.Rcheck’
* using R version 4.1.1 (2021-08-10)
* using platform: x86_64-pc-linux-gnu (64-bit)
* using session charset: UTF-8
* using option ‘--no-vignettes’
* checking for file ‘GeneStructureTools/DESCRIPTION’ ... OK
* checking extension type ... Package
* this is package ‘GeneStructureTools’ version ‘1.12.0’
* package encoding: UTF-8
* checking package namespace information ... OK
* checking package dependencies ... OK
* checking if this is a source package ... OK
* checking if there is a namespace ... OK
* checking for hidden files and directories ... OK
* checking for portable file names ... OK
* checking for sufficient/correct file permissions ... OK
* checking whether package ‘GeneStructureTools’ can be installed ... OK
* checking installed package size ... OK
* checking package directory ... OK
* checking ‘build’ directory ... OK
* checking DESCRIPTION meta-information ... OK
* checking top-level files ... OK
* checking for left-over files ... OK
* checking index information ... OK
* checking package subdirectories ... OK
* checking R files for non-ASCII characters ... OK
* checking R files for syntax errors ... OK
* checking whether the package can be loaded ... OK
* checking whether the package can be loaded with stated dependencies ... OK
* checking whether the package can be unloaded cleanly ... OK
* checking whether the namespace can be loaded with stated dependencies ... OK
* checking whether the namespace can be unloaded cleanly ... OK
* checking dependencies in R code ... OK
* checking S3 generic/method consistency ... OK
* checking replacement functions ... OK
* checking foreign function calls ... OK
* checking R code for possible problems ... OK
* checking Rd files ... OK
* checking Rd metadata ... OK
* checking Rd cross-references ... OK
* checking for missing documentation entries ... OK
* checking for code/documentation mismatches ... OK
* checking Rd \usage sections ... OK
* checking Rd contents ... OK
* checking for unstated dependencies in examples ... OK
* checking files in ‘vignettes’ ... OK
* checking examples ... OK
Examples with CPU (user + system) or elapsed time > 5s
user system elapsed
leafcutterTranscriptChangeSummary 25.725 0.328 26.060
whippetTranscriptChangeSummary 16.088 0.090 16.178
replaceJunction 5.951 0.023 5.978
* checking for unstated dependencies in vignettes ... OK
* checking package vignettes in ‘inst/doc’ ... OK
* checking running R code from vignettes ... SKIPPED
* checking re-building of vignette outputs ... SKIPPED
* checking PDF version of manual ... OK
* DONE
Status: OK
GeneStructureTools.Rcheck/00install.out
############################################################################## ############################################################################## ### ### Running command: ### ### /home/biocbuild/bbs-3.13-bioc/R/bin/R CMD INSTALL GeneStructureTools ### ############################################################################## ############################################################################## * installing to library ‘/home/biocbuild/bbs-3.13-bioc/R/library’ * installing *source* package ‘GeneStructureTools’ ... ** using staged installation ** R ** inst ** byte-compile and prepare package for lazy loading ** help *** installing help indices ** building package indices ** installing vignettes ** testing if installed package can be loaded from temporary location ** testing if installed package can be loaded from final location ** testing if installed package keeps a record of temporary installation path * DONE (GeneStructureTools)
GeneStructureTools.Rcheck/GeneStructureTools-Ex.timings
| name | user | system | elapsed | |
| DEXSeqIdsToGeneIds | 0.003 | 0.000 | 0.003 | |
| UTR2UTR53 | 2.414 | 0.139 | 2.555 | |
| addBroadTypes | 0.161 | 0.004 | 0.165 | |
| addIntronInTranscript | 2.638 | 0.017 | 2.657 | |
| alternativeIntronUsage | 4.790 | 0.004 | 4.797 | |
| annotateGeneModel | 0.928 | 0.008 | 0.936 | |
| attrChangeAltSpliced | 1.499 | 0.026 | 1.524 | |
| coordinates-methods | 0.071 | 0.020 | 0.090 | |
| diffSplicingResults-methods | 0.073 | 0.009 | 0.081 | |
| exonsToTranscripts | 0.234 | 0.004 | 0.238 | |
| filterGtfOverlap | 0.218 | 0.008 | 0.226 | |
| filterWhippetEvents | 0.079 | 0.011 | 0.091 | |
| findDEXexonType | 2.671 | 0.008 | 2.681 | |
| findExonContainingTranscripts | 0.502 | 0.029 | 0.532 | |
| findIntronContainingTranscripts | 0.873 | 0.013 | 0.885 | |
| findJunctionPairs | 2.849 | 0.028 | 2.877 | |
| formatWhippetEvents | 0.021 | 0.000 | 0.021 | |
| getOrfs | 0.713 | 0.012 | 0.725 | |
| getUOrfs | 0.6 | 0.0 | 0.6 | |
| junctions-methods | 0.075 | 0.018 | 0.093 | |
| leafcutterTranscriptChangeSummary | 25.725 | 0.328 | 26.060 | |
| makeGeneModel | 0.142 | 0.000 | 0.143 | |
| maxLocation | 0.004 | 0.000 | 0.003 | |
| orfDiff | 2.333 | 0.054 | 2.387 | |
| orfSimilarity | 0.001 | 0.000 | 0.001 | |
| overlapTypes | 2.577 | 0.004 | 2.581 | |
| readCounts-methods | 0.074 | 0.011 | 0.085 | |
| readWhippetDIFFfiles | 0.005 | 0.003 | 0.009 | |
| readWhippetDataSet | 0.083 | 0.011 | 0.094 | |
| readWhippetJNCfiles | 0.038 | 0.005 | 0.042 | |
| readWhippetPSIfiles | 0.014 | 0.010 | 0.024 | |
| removeDuplicateTranscripts | 0.258 | 0.004 | 0.263 | |
| removeSameExon | 0.208 | 0.000 | 0.208 | |
| removeVersion | 0.000 | 0.000 | 0.001 | |
| reorderExonNumbers | 0.193 | 0.011 | 0.204 | |
| replaceJunction | 5.951 | 0.023 | 5.978 | |
| skipExonInTranscript | 2.078 | 0.005 | 2.098 | |
| summariseExonTypes | 2.882 | 0.004 | 2.887 | |
| transcriptChangeSummary | 2.405 | 0.022 | 2.435 | |
| whippetTranscriptChangeSummary | 16.088 | 0.090 | 16.178 | |