| Back to Multiple platform build/check report for BioC 3.13 |
|
This page was generated on 2021-10-15 15:06:36 -0400 (Fri, 15 Oct 2021).
|
To the developers/maintainers of the GeneStructureTools package: - Please allow up to 24 hours (and sometimes 48 hours) for your latest push to git@git.bioconductor.org:packages/GeneStructureTools.git to reflect on this report. See How and When does the builder pull? When will my changes propagate? here for more information. - Make sure to use the following settings in order to reproduce any error or warning you see on this page. |
| Package 727/2041 | Hostname | OS / Arch | INSTALL | BUILD | CHECK | BUILD BIN | ||||||||
| GeneStructureTools 1.12.0 (landing page) Beth Signal
| nebbiolo1 | Linux (Ubuntu 20.04.2 LTS) / x86_64 | OK | OK | OK | |||||||||
| tokay2 | Windows Server 2012 R2 Standard / x64 | OK | OK | OK | OK | |||||||||
| machv2 | macOS 10.14.6 Mojave / x86_64 | OK | OK | OK | OK | |||||||||
| Package: GeneStructureTools |
| Version: 1.12.0 |
| Command: /Library/Frameworks/R.framework/Versions/Current/Resources/bin/R CMD check --install=check:GeneStructureTools.install-out.txt --library=/Library/Frameworks/R.framework/Versions/Current/Resources/library --no-vignettes --timings GeneStructureTools_1.12.0.tar.gz |
| StartedAt: 2021-10-14 19:22:47 -0400 (Thu, 14 Oct 2021) |
| EndedAt: 2021-10-14 19:31:03 -0400 (Thu, 14 Oct 2021) |
| EllapsedTime: 496.0 seconds |
| RetCode: 0 |
| Status: OK |
| CheckDir: GeneStructureTools.Rcheck |
| Warnings: 0 |
##############################################################################
##############################################################################
###
### Running command:
###
### /Library/Frameworks/R.framework/Versions/Current/Resources/bin/R CMD check --install=check:GeneStructureTools.install-out.txt --library=/Library/Frameworks/R.framework/Versions/Current/Resources/library --no-vignettes --timings GeneStructureTools_1.12.0.tar.gz
###
##############################################################################
##############################################################################
* using log directory ‘/Users/biocbuild/bbs-3.13-bioc/meat/GeneStructureTools.Rcheck’
* using R version 4.1.1 (2021-08-10)
* using platform: x86_64-apple-darwin17.0 (64-bit)
* using session charset: UTF-8
* using option ‘--no-vignettes’
* checking for file ‘GeneStructureTools/DESCRIPTION’ ... OK
* checking extension type ... Package
* this is package ‘GeneStructureTools’ version ‘1.12.0’
* package encoding: UTF-8
* checking package namespace information ... OK
* checking package dependencies ... OK
* checking if this is a source package ... OK
* checking if there is a namespace ... OK
* checking for hidden files and directories ... NOTE
Found the following hidden files and directories:
.git_fetch_output.txt
.git_merge_output.txt
These were most likely included in error. See section ‘Package
structure’ in the ‘Writing R Extensions’ manual.
* checking for portable file names ... OK
* checking for sufficient/correct file permissions ... OK
* checking whether package ‘GeneStructureTools’ can be installed ... OK
* checking installed package size ... OK
* checking package directory ... OK
* checking ‘build’ directory ... OK
* checking DESCRIPTION meta-information ... OK
* checking top-level files ... OK
* checking for left-over files ... OK
* checking index information ... OK
* checking package subdirectories ... OK
* checking R files for non-ASCII characters ... OK
* checking R files for syntax errors ... OK
* checking whether the package can be loaded ... OK
* checking whether the package can be loaded with stated dependencies ... OK
* checking whether the package can be unloaded cleanly ... OK
* checking whether the namespace can be loaded with stated dependencies ... OK
* checking whether the namespace can be unloaded cleanly ... OK
* checking dependencies in R code ... OK
* checking S3 generic/method consistency ... OK
* checking replacement functions ... OK
* checking foreign function calls ... OK
* checking R code for possible problems ... OK
* checking Rd files ... OK
* checking Rd metadata ... OK
* checking Rd cross-references ... OK
* checking for missing documentation entries ... OK
* checking for code/documentation mismatches ... OK
* checking Rd \usage sections ... OK
* checking Rd contents ... OK
* checking for unstated dependencies in examples ... OK
* checking files in ‘vignettes’ ... OK
* checking examples ... OK
Examples with CPU (user + system) or elapsed time > 5s
user system elapsed
leafcutterTranscriptChangeSummary 42.045 0.620 42.726
whippetTranscriptChangeSummary 25.250 0.143 25.422
replaceJunction 8.240 0.114 8.389
alternativeIntronUsage 7.468 0.066 7.553
* checking for unstated dependencies in vignettes ... OK
* checking package vignettes in ‘inst/doc’ ... OK
* checking running R code from vignettes ... SKIPPED
* checking re-building of vignette outputs ... SKIPPED
* checking PDF version of manual ... OK
* DONE
Status: 1 NOTE
See
‘/Users/biocbuild/bbs-3.13-bioc/meat/GeneStructureTools.Rcheck/00check.log’
for details.
GeneStructureTools.Rcheck/00install.out
############################################################################## ############################################################################## ### ### Running command: ### ### /Library/Frameworks/R.framework/Versions/Current/Resources/bin/R CMD INSTALL GeneStructureTools ### ############################################################################## ############################################################################## * installing to library ‘/Library/Frameworks/R.framework/Versions/4.1/Resources/library’ * installing *source* package ‘GeneStructureTools’ ... ** using staged installation ** R ** inst ** byte-compile and prepare package for lazy loading ** help *** installing help indices ** building package indices ** installing vignettes ** testing if installed package can be loaded from temporary location ** testing if installed package can be loaded from final location ** testing if installed package keeps a record of temporary installation path * DONE (GeneStructureTools)
GeneStructureTools.Rcheck/GeneStructureTools-Ex.timings
| name | user | system | elapsed | |
| DEXSeqIdsToGeneIds | 0.002 | 0.001 | 0.004 | |
| UTR2UTR53 | 4.256 | 0.216 | 4.477 | |
| addBroadTypes | 0.317 | 0.005 | 0.322 | |
| addIntronInTranscript | 4.241 | 0.106 | 4.537 | |
| alternativeIntronUsage | 7.468 | 0.066 | 7.553 | |
| annotateGeneModel | 1.511 | 0.006 | 1.518 | |
| attrChangeAltSpliced | 2.395 | 0.064 | 2.469 | |
| coordinates-methods | 0.116 | 0.052 | 0.174 | |
| diffSplicingResults-methods | 0.098 | 0.047 | 0.151 | |
| exonsToTranscripts | 0.437 | 0.008 | 0.445 | |
| filterGtfOverlap | 0.313 | 0.005 | 0.318 | |
| filterWhippetEvents | 0.125 | 0.051 | 0.182 | |
| findDEXexonType | 4.588 | 0.028 | 4.621 | |
| findExonContainingTranscripts | 0.873 | 0.053 | 0.934 | |
| findIntronContainingTranscripts | 1.320 | 0.066 | 1.393 | |
| findJunctionPairs | 3.790 | 0.070 | 3.871 | |
| formatWhippetEvents | 0.034 | 0.007 | 0.041 | |
| getOrfs | 1.316 | 0.009 | 1.327 | |
| getUOrfs | 0.811 | 0.007 | 0.819 | |
| junctions-methods | 0.104 | 0.049 | 0.160 | |
| leafcutterTranscriptChangeSummary | 42.045 | 0.620 | 42.726 | |
| makeGeneModel | 0.262 | 0.005 | 0.267 | |
| maxLocation | 0.005 | 0.001 | 0.005 | |
| orfDiff | 2.832 | 0.069 | 2.909 | |
| orfSimilarity | 0.001 | 0.000 | 0.002 | |
| overlapTypes | 4.209 | 0.019 | 4.235 | |
| readCounts-methods | 0.107 | 0.055 | 0.196 | |
| readWhippetDIFFfiles | 0.007 | 0.006 | 0.014 | |
| readWhippetDataSet | 0.102 | 0.052 | 0.158 | |
| readWhippetJNCfiles | 0.054 | 0.025 | 0.080 | |
| readWhippetPSIfiles | 0.020 | 0.024 | 0.046 | |
| removeDuplicateTranscripts | 0.412 | 0.008 | 0.421 | |
| removeSameExon | 0.358 | 0.008 | 0.367 | |
| removeVersion | 0.001 | 0.000 | 0.000 | |
| reorderExonNumbers | 0.300 | 0.009 | 0.311 | |
| replaceJunction | 8.240 | 0.114 | 8.389 | |
| skipExonInTranscript | 2.955 | 0.070 | 3.039 | |
| summariseExonTypes | 4.656 | 0.018 | 4.680 | |
| transcriptChangeSummary | 3.258 | 0.076 | 3.350 | |
| whippetTranscriptChangeSummary | 25.250 | 0.143 | 25.422 | |