| Back to Multiple platform build/check report for BioC 3.13 |
|
This page was generated on 2021-10-15 15:06:04 -0400 (Fri, 15 Oct 2021).
|
To the developers/maintainers of the FCBF package: - Please allow up to 24 hours (and sometimes 48 hours) for your latest push to git@git.bioconductor.org:packages/FCBF.git to reflect on this report. See How and When does the builder pull? When will my changes propagate? here for more information. - Make sure to use the following settings in order to reproduce any error or warning you see on this page. |
| Package 620/2041 | Hostname | OS / Arch | INSTALL | BUILD | CHECK | BUILD BIN | ||||||||
| FCBF 2.0.0 (landing page) Tiago Lubiana
| nebbiolo1 | Linux (Ubuntu 20.04.2 LTS) / x86_64 | OK | OK | OK | |||||||||
| tokay2 | Windows Server 2012 R2 Standard / x64 | OK | OK | OK | OK | |||||||||
| machv2 | macOS 10.14.6 Mojave / x86_64 | OK | OK | OK | OK | |||||||||
| Package: FCBF |
| Version: 2.0.0 |
| Command: rm -rf FCBF.buildbin-libdir && mkdir FCBF.buildbin-libdir && C:\Users\biocbuild\bbs-3.13-bioc\R\bin\R.exe CMD INSTALL --merge-multiarch --build --library=FCBF.buildbin-libdir FCBF_2.0.0.tar.gz |
| StartedAt: 2021-10-15 09:16:14 -0400 (Fri, 15 Oct 2021) |
| EndedAt: 2021-10-15 09:17:44 -0400 (Fri, 15 Oct 2021) |
| EllapsedTime: 90.1 seconds |
| RetCode: 0 |
| Status: OK |
| PackageFile: FCBF_2.0.0.zip |
| PackageFileSize: 2.978 MiB |
##############################################################################
##############################################################################
###
### Running command:
###
### rm -rf FCBF.buildbin-libdir && mkdir FCBF.buildbin-libdir && C:\Users\biocbuild\bbs-3.13-bioc\R\bin\R.exe CMD INSTALL --merge-multiarch --build --library=FCBF.buildbin-libdir FCBF_2.0.0.tar.gz
###
##############################################################################
##############################################################################
install for i386
* installing *source* package 'FCBF' ...
** using staged installation
** R
** data
** inst
** byte-compile and prepare package for lazy loading
** help
*** installing help indices
converting help for package 'FCBF'
finding HTML links ... done
FCBF-deprecated html
IG-deprecated html
SU-deprecated html
discretize_exprs html
discretize_exprs_supervised html
discretize_gene_supervised html
fcbf html
get_IG_for_vector_pair html
get_SU_for_vector_pair html
get_ig_for_feature_table_and_vector html
get_su-deprecated html
get_su_for_feature_table_and_vector html
scDengue html
su_plot html
** building package indices
** installing vignettes
** testing if installed package can be loaded from temporary location
** testing if installed package can be loaded from final location
** testing if installed package keeps a record of temporary installation path
install for x64
* installing *source* package 'FCBF' ...
** testing if installed package can be loaded
* MD5 sums
packaged installation of 'FCBF' as FCBF_2.0.0.zip
* DONE (FCBF)