| Back to Multiple platform build/check report for BioC 3.13 | 
  | 
This page was generated on 2021-10-15 15:06:35 -0400 (Fri, 15 Oct 2021).
| 
To the developers/maintainers of the EWCE package: - Please allow up to 24 hours (and sometimes 48 hours) for your latest push to git@git.bioconductor.org:packages/EWCE.git to reflect on this report. See How and When does the builder pull? When will my changes propagate? here for more information. - Make sure to use the following settings in order to reproduce any error or warning you see on this page.  | 
| Package 601/2041 | Hostname | OS / Arch | INSTALL | BUILD | CHECK | BUILD BIN | ||||||||
| EWCE 1.0.1  (landing page) Alan Murphy 
  | nebbiolo1 | Linux (Ubuntu 20.04.2 LTS) / x86_64 | OK | OK | OK | |||||||||
| tokay2 | Windows Server 2012 R2 Standard / x64 | OK | OK | OK | OK | |||||||||
| machv2 | macOS 10.14.6 Mojave / x86_64 | OK | OK | OK | OK | |||||||||
| Package: EWCE | 
| Version: 1.0.1 | 
| Command: /Library/Frameworks/R.framework/Versions/Current/Resources/bin/R CMD build --keep-empty-dirs --no-resave-data EWCE | 
| StartedAt: 2021-10-14 11:59:49 -0400 (Thu, 14 Oct 2021) | 
| EndedAt: 2021-10-14 12:05:38 -0400 (Thu, 14 Oct 2021) | 
| EllapsedTime: 348.7 seconds | 
| RetCode: 0 | 
| Status: OK | 
| PackageFile: EWCE_1.0.1.tar.gz | 
| PackageFileSize: 960.9 KiB | 
############################################################################## ############################################################################## ### ### Running command: ### ### /Library/Frameworks/R.framework/Versions/Current/Resources/bin/R CMD build --keep-empty-dirs --no-resave-data EWCE ### ############################################################################## ############################################################################## * checking for file ‘EWCE/DESCRIPTION’ ... OK * preparing ‘EWCE’: * checking DESCRIPTION meta-information ... OK * installing the package to build vignettes * creating vignettes ... OK * checking for LF line-endings in source and make files and shell scripts * checking for empty or unneeded directories * building ‘EWCE_1.0.1.tar.gz’