| Back to Multiple platform build/check report for BioC 3.13 | 
  | 
This page was generated on 2021-10-15 15:06:35 -0400 (Fri, 15 Oct 2021).
| 
To the developers/maintainers of the EWCE package: - Please allow up to 24 hours (and sometimes 48 hours) for your latest push to git@git.bioconductor.org:packages/EWCE.git to reflect on this report. See How and When does the builder pull? When will my changes propagate? here for more information. - Make sure to use the following settings in order to reproduce any error or warning you see on this page.  | 
| Package 601/2041 | Hostname | OS / Arch | INSTALL | BUILD | CHECK | BUILD BIN | ||||||||
| EWCE 1.0.1  (landing page) Alan Murphy 
  | nebbiolo1 | Linux (Ubuntu 20.04.2 LTS) / x86_64 | OK | OK | OK | |||||||||
| tokay2 | Windows Server 2012 R2 Standard / x64 | OK | OK | OK | OK | |||||||||
| machv2 | macOS 10.14.6 Mojave / x86_64 | OK | OK | OK | OK | |||||||||
| Package: EWCE | 
| Version: 1.0.1 | 
| Command: rm -rf EWCE.buildbin-libdir && mkdir EWCE.buildbin-libdir && /Users/biocbuild/BBS/utils/build-universal.sh EWCE_1.0.1.tar.gz /Library/Frameworks/R.framework/Versions/Current/Resources/bin/R EWCE.buildbin-libdir | 
| StartedAt: 2021-10-15 02:21:00 -0400 (Fri, 15 Oct 2021) | 
| EndedAt: 2021-10-15 02:21:48 -0400 (Fri, 15 Oct 2021) | 
| EllapsedTime: 48.0 seconds | 
| RetCode: 0 | 
| Status: OK | 
| PackageFile: EWCE_1.0.1.tgz | 
| PackageFileSize: 1.057 MiB | 
############################################################################## ############################################################################## ### ### Running command: ### ### rm -rf EWCE.buildbin-libdir && mkdir EWCE.buildbin-libdir && /Users/biocbuild/BBS/utils/build-universal.sh EWCE_1.0.1.tar.gz /Library/Frameworks/R.framework/Versions/Current/Resources/bin/R EWCE.buildbin-libdir ### ############################################################################## ############################################################################## >>>>>>> >>>>>>> INSTALLATION WITH 'R CMD INSTALL --preclean --no-multiarch --library=EWCE.buildbin-libdir EWCE_1.0.1.tar.gz' >>>>>>> * installing *source* package ‘EWCE’ ... ** using staged installation ** R ** inst ** byte-compile and prepare package for lazy loading ** help *** installing help indices ** building package indices ** installing vignettes ** testing if installed package can be loaded from temporary location ** testing if installed package can be loaded from final location ** testing if installed package keeps a record of temporary installation path * DONE (EWCE)