| Back to Multiple platform build/check report for BioC 3.13 | 
 | 
This page was generated on 2021-10-15 15:06:01 -0400 (Fri, 15 Oct 2021).
| To the developers/maintainers of the CTDquerier package: - Please allow up to 24 hours (and sometimes 48 hours) for your latest push to git@git.bioconductor.org:packages/CTDquerier.git to reflect on this report. See How and When does the builder pull? When will my changes propagate? here for more information. - Make sure to use the following settings in order to reproduce any error or warning you see on this page. | 
| Package 420/2041 | Hostname | OS / Arch | INSTALL | BUILD | CHECK | BUILD BIN | ||||||||
| CTDquerier 2.0.0  (landing page) Xavier EscribĂ -Montagut 
 | nebbiolo1 | Linux (Ubuntu 20.04.2 LTS) / x86_64 | OK | OK | TIMEOUT | |||||||||
| tokay2 | Windows Server 2012 R2 Standard / x64 | OK | OK | WARNINGS | OK |  | ||||||||
| machv2 | macOS 10.14.6 Mojave / x86_64 | OK | OK | WARNINGS | OK |  | ||||||||
| Package: CTDquerier | 
| Version: 2.0.0 | 
| Command: C:\cygwin\bin\curl.exe -O http://155.52.207.165/BBS/3.13/bioc/src/contrib/CTDquerier_2.0.0.tar.gz && rm -rf CTDquerier.buildbin-libdir && mkdir CTDquerier.buildbin-libdir && C:\Users\biocbuild\bbs-3.13-bioc\R\bin\R.exe CMD INSTALL --merge-multiarch --build --library=CTDquerier.buildbin-libdir CTDquerier_2.0.0.tar.gz && C:\Users\biocbuild\bbs-3.13-bioc\R\bin\R.exe CMD INSTALL CTDquerier_2.0.0.zip && rm CTDquerier_2.0.0.tar.gz CTDquerier_2.0.0.zip | 
| StartedAt: 2021-10-14 08:20:45 -0400 (Thu, 14 Oct 2021) | 
| EndedAt: 2021-10-14 08:21:38 -0400 (Thu, 14 Oct 2021) | 
| EllapsedTime: 53.2 seconds | 
| RetCode: 0 | 
| Status: OK | 
##############################################################################
##############################################################################
###
### Running command:
###
###   C:\cygwin\bin\curl.exe -O http://155.52.207.165/BBS/3.13/bioc/src/contrib/CTDquerier_2.0.0.tar.gz && rm -rf CTDquerier.buildbin-libdir && mkdir CTDquerier.buildbin-libdir && C:\Users\biocbuild\bbs-3.13-bioc\R\bin\R.exe CMD INSTALL --merge-multiarch --build --library=CTDquerier.buildbin-libdir CTDquerier_2.0.0.tar.gz && C:\Users\biocbuild\bbs-3.13-bioc\R\bin\R.exe CMD INSTALL CTDquerier_2.0.0.zip && rm CTDquerier_2.0.0.tar.gz CTDquerier_2.0.0.zip
###
##############################################################################
##############################################################################
  % Total    % Received % Xferd  Average Speed   Time    Time     Time  Current
                                 Dload  Upload   Total   Spent    Left  Speed
  0     0    0     0    0     0      0      0 --:--:-- --:--:-- --:--:--     0
100 2713k  100 2713k    0     0  3051k      0 --:--:-- --:--:-- --:--:-- 3055k
install for i386
* installing *source* package 'CTDquerier' ...
** using staged installation
** R
** data
** inst
** byte-compile and prepare package for lazy loading
** help
*** installing help indices
  converting help for package 'CTDquerier'
    finding HTML links ... done
    CTDdata-class                           html  
    CTDquerier                              html  
    download_ctd_chem                       html  
    download_ctd_dise                       html  
    download_ctd_genes                      html  
    enrich-methods                          html  
    gala                                    html  
    get_table-methods                       html  
    get_terms-methods                       html  
    leaf_plot                               html  
    load_ctd_chem                           html  
    load_ctd_dise                           html  
    load_ctd_gene                           html  
    query_ctd_chem                          html  
    query_ctd_dise                          html  
    query_ctd_gene                          html  
** building package indices
** installing vignettes
** testing if installed package can be loaded from temporary location
** testing if installed package can be loaded from final location
** testing if installed package keeps a record of temporary installation path
install for x64
* installing *source* package 'CTDquerier' ...
** testing if installed package can be loaded
* MD5 sums
packaged installation of 'CTDquerier' as CTDquerier_2.0.0.zip
* DONE (CTDquerier)
* installing to library 'C:/Users/biocbuild/bbs-3.13-bioc/R/library'
package 'CTDquerier' successfully unpacked and MD5 sums checked