| Back to Multiple platform build/check report for BioC 3.13 | 
 | 
This page was generated on 2021-10-15 15:05:37 -0400 (Fri, 15 Oct 2021).
| To the developers/maintainers of the CNORdt package: - Please allow up to 24 hours (and sometimes 48 hours) for your latest push to git@git.bioconductor.org:packages/CNORdt.git to reflect on this report. See How and When does the builder pull? When will my changes propagate? here for more information. - Make sure to use the following settings in order to reproduce any error or warning you see on this page. | 
| Package 343/2041 | Hostname | OS / Arch | INSTALL | BUILD | CHECK | BUILD BIN | ||||||||
| CNORdt 1.34.0  (landing page) A. MacNamara 
 | nebbiolo1 | Linux (Ubuntu 20.04.2 LTS) / x86_64 | OK | OK | OK |  | ||||||||
| tokay2 | Windows Server 2012 R2 Standard / x64 | OK | OK | OK | OK |  | ||||||||
| machv2 | macOS 10.14.6 Mojave / x86_64 | OK | OK | OK | OK |  | ||||||||
| Package: CNORdt | 
| Version: 1.34.0 | 
| Command: /home/biocbuild/bbs-3.13-bioc/R/bin/R CMD INSTALL CNORdt | 
| StartedAt: 2021-10-14 06:07:50 -0400 (Thu, 14 Oct 2021) | 
| EndedAt: 2021-10-14 06:07:56 -0400 (Thu, 14 Oct 2021) | 
| EllapsedTime: 6.3 seconds | 
| RetCode: 0 | 
| Status: OK | 
##############################################################################
##############################################################################
###
### Running command:
###
###   /home/biocbuild/bbs-3.13-bioc/R/bin/R CMD INSTALL CNORdt
###
##############################################################################
##############################################################################
* installing to library ‘/home/biocbuild/bbs-3.13-bioc/R/library’
* installing *source* package ‘CNORdt’ ...
** using staged installation
** libs
gcc -I"/home/biocbuild/bbs-3.13-bioc/R/include" -DNDEBUG   -I/usr/local/include   -fpic  -g -O2  -Wall -c simulatorDT.c -o simulatorDT.o
simulatorDT.c: In function ‘simulatorDT’:
simulatorDT.c:55:6: warning: unused variable ‘nTimes’ [-Wunused-variable]
   55 |  int nTimes = INTEGER(nTimes_in)[0];
      |      ^~~~~~
simulatorDT.c:53:6: warning: unused variable ‘nSignals’ [-Wunused-variable]
   53 |  int nSignals = INTEGER(nSignals_in)[0];
      |      ^~~~~~~~
gcc -shared -L/home/biocbuild/bbs-3.13-bioc/R/lib -L/usr/local/lib -o CNORdt.so simulatorDT.o -L/home/biocbuild/bbs-3.13-bioc/R/lib -lR
installing to /home/biocbuild/bbs-3.13-bioc/R/library/00LOCK-CNORdt/00new/CNORdt/libs
** R
** data
** inst
** byte-compile and prepare package for lazy loading
** help
*** installing help indices
** building package indices
** installing vignettes
** testing if installed package can be loaded from temporary location
** checking absolute paths in shared objects and dynamic libraries
** testing if installed package can be loaded from final location
** testing if installed package keeps a record of temporary installation path
* DONE (CNORdt)