| Back to Multiple platform build/check report for BioC 3.13 | 
 | 
This page was generated on 2021-10-15 15:05:37 -0400 (Fri, 15 Oct 2021).
| To the developers/maintainers of the CNORdt package: - Please allow up to 24 hours (and sometimes 48 hours) for your latest push to git@git.bioconductor.org:packages/CNORdt.git to reflect on this report. See How and When does the builder pull? When will my changes propagate? here for more information. - Make sure to use the following settings in order to reproduce any error or warning you see on this page. | 
| Package 343/2041 | Hostname | OS / Arch | INSTALL | BUILD | CHECK | BUILD BIN | ||||||||
| CNORdt 1.34.0  (landing page) A. MacNamara 
 | nebbiolo1 | Linux (Ubuntu 20.04.2 LTS) / x86_64 | OK | OK | OK |  | ||||||||
| tokay2 | Windows Server 2012 R2 Standard / x64 | OK | OK | OK | OK |  | ||||||||
| machv2 | macOS 10.14.6 Mojave / x86_64 | OK | OK | OK | OK |  | ||||||||
| Package: CNORdt | 
| Version: 1.34.0 | 
| Command: /home/biocbuild/bbs-3.13-bioc/R/bin/R CMD check --install=check:CNORdt.install-out.txt --library=/home/biocbuild/bbs-3.13-bioc/R/library --no-vignettes --timings CNORdt_1.34.0.tar.gz | 
| StartedAt: 2021-10-14 09:18:54 -0400 (Thu, 14 Oct 2021) | 
| EndedAt: 2021-10-14 09:20:40 -0400 (Thu, 14 Oct 2021) | 
| EllapsedTime: 106.8 seconds | 
| RetCode: 0 | 
| Status: OK | 
| CheckDir: CNORdt.Rcheck | 
| Warnings: 0 | 
##############################################################################
##############################################################################
###
### Running command:
###
###   /home/biocbuild/bbs-3.13-bioc/R/bin/R CMD check --install=check:CNORdt.install-out.txt --library=/home/biocbuild/bbs-3.13-bioc/R/library --no-vignettes --timings CNORdt_1.34.0.tar.gz
###
##############################################################################
##############################################################################
* using log directory ‘/home/biocbuild/bbs-3.13-bioc/meat/CNORdt.Rcheck’
* using R version 4.1.1 (2021-08-10)
* using platform: x86_64-pc-linux-gnu (64-bit)
* using session charset: UTF-8
* using option ‘--no-vignettes’
* checking for file ‘CNORdt/DESCRIPTION’ ... OK
* checking extension type ... Package
* this is package ‘CNORdt’ version ‘1.34.0’
* checking package namespace information ... OK
* checking package dependencies ... OK
* checking if this is a source package ... OK
* checking if there is a namespace ... OK
* checking for hidden files and directories ... OK
* checking for portable file names ... OK
* checking for sufficient/correct file permissions ... OK
* checking whether package ‘CNORdt’ can be installed ... OK
* checking installed package size ... OK
* checking package directory ... OK
* checking ‘build’ directory ... OK
* checking DESCRIPTION meta-information ... OK
* checking top-level files ... OK
* checking for left-over files ... OK
* checking index information ... OK
* checking package subdirectories ... OK
* checking R files for non-ASCII characters ... OK
* checking R files for syntax errors ... OK
* checking whether the package can be loaded ... OK
* checking whether the package can be loaded with stated dependencies ... OK
* checking whether the package can be unloaded cleanly ... OK
* checking whether the namespace can be loaded with stated dependencies ... OK
* checking whether the namespace can be unloaded cleanly ... OK
* checking dependencies in R code ... NOTE
Package in Depends field not imported from: ‘abind’
  These packages need to be imported from (in the NAMESPACE file)
  for when this namespace is loaded but not attached.
* checking S3 generic/method consistency ... OK
* checking replacement functions ... OK
* checking foreign function calls ... OK
* checking R code for possible problems ... NOTE
gaBinaryDT: no visible global function definition for ‘runif’
getFitDT: no visible global function definition for ‘splinefun’
getFitDT: no visible global function definition for ‘optim’
shift: no visible global function definition for ‘tail’
shift: no visible global function definition for ‘head’
Undefined global functions or variables:
  head optim runif splinefun tail
Consider adding
  importFrom("stats", "optim", "runif", "splinefun")
  importFrom("utils", "head", "tail")
to your NAMESPACE file.
* checking Rd files ... OK
* checking Rd metadata ... OK
* checking Rd cross-references ... OK
* checking for missing documentation entries ... OK
* checking for code/documentation mismatches ... OK
* checking Rd \usage sections ... OK
* checking Rd contents ... OK
* checking for unstated dependencies in examples ... OK
* checking contents of ‘data’ directory ... OK
* checking data for non-ASCII characters ... OK
* checking data for ASCII and uncompressed saves ... OK
* checking line endings in C/C++/Fortran sources/headers ... OK
* checking compiled code ... NOTE
Note: information on .o files is not available
* checking files in ‘vignettes’ ... OK
* checking examples ... OK
Examples with CPU (user + system) or elapsed time > 5s
                      user system elapsed
cutAndPlotResultsDT 30.491  0.032  30.523
gaBinaryDT          30.062  0.028  30.091
* checking for unstated dependencies in vignettes ... OK
* checking package vignettes in ‘inst/doc’ ... OK
* checking running R code from vignettes ... SKIPPED
* checking re-building of vignette outputs ... SKIPPED
* checking PDF version of manual ... OK
* DONE
Status: 3 NOTEs
See
  ‘/home/biocbuild/bbs-3.13-bioc/meat/CNORdt.Rcheck/00check.log’
for details.
CNORdt.Rcheck/00install.out
##############################################################################
##############################################################################
###
### Running command:
###
###   /home/biocbuild/bbs-3.13-bioc/R/bin/R CMD INSTALL CNORdt
###
##############################################################################
##############################################################################
* installing to library ‘/home/biocbuild/bbs-3.13-bioc/R/library’
* installing *source* package ‘CNORdt’ ...
** using staged installation
** libs
gcc -I"/home/biocbuild/bbs-3.13-bioc/R/include" -DNDEBUG   -I/usr/local/include   -fpic  -g -O2  -Wall -c simulatorDT.c -o simulatorDT.o
simulatorDT.c: In function ‘simulatorDT’:
simulatorDT.c:55:6: warning: unused variable ‘nTimes’ [-Wunused-variable]
   55 |  int nTimes = INTEGER(nTimes_in)[0];
      |      ^~~~~~
simulatorDT.c:53:6: warning: unused variable ‘nSignals’ [-Wunused-variable]
   53 |  int nSignals = INTEGER(nSignals_in)[0];
      |      ^~~~~~~~
gcc -shared -L/home/biocbuild/bbs-3.13-bioc/R/lib -L/usr/local/lib -o CNORdt.so simulatorDT.o -L/home/biocbuild/bbs-3.13-bioc/R/lib -lR
installing to /home/biocbuild/bbs-3.13-bioc/R/library/00LOCK-CNORdt/00new/CNORdt/libs
** R
** data
** inst
** byte-compile and prepare package for lazy loading
** help
*** installing help indices
** building package indices
** installing vignettes
** testing if installed package can be loaded from temporary location
** checking absolute paths in shared objects and dynamic libraries
** testing if installed package can be loaded from final location
** testing if installed package keeps a record of temporary installation path
* DONE (CNORdt)
CNORdt.Rcheck/CNORdt-Ex.timings
| name | user | system | elapsed | |
| computeScoreDT | 0.067 | 0.000 | 0.068 | |
| convert2array | 0.001 | 0.006 | 0.007 | |
| cutAndPlotResultsDT | 30.491 | 0.032 | 30.523 | |
| gaBinaryDT | 30.062 | 0.028 | 30.091 | |
| getFitDT | 0.030 | 0.004 | 0.034 | |
| simulatorDT | 0.007 | 0.000 | 0.007 | |