| Back to Multiple platform build/check report for BioC 3.13 | 
 | 
This page was generated on 2021-10-15 15:05:58 -0400 (Fri, 15 Oct 2021).
| To the developers/maintainers of the BioCor package: - Please allow up to 24 hours (and sometimes 48 hours) for your latest push to git@git.bioconductor.org:packages/BioCor.git to reflect on this report. See How and When does the builder pull? When will my changes propagate? here for more information. - Make sure to use the following settings in order to reproduce any error or warning you see on this page. | 
| Package 167/2041 | Hostname | OS / Arch | INSTALL | BUILD | CHECK | BUILD BIN | ||||||||
| BioCor 1.16.0  (landing page) LluĂs Revilla Sancho 
 | nebbiolo1 | Linux (Ubuntu 20.04.2 LTS) / x86_64 | OK | OK | OK |  | ||||||||
| tokay2 | Windows Server 2012 R2 Standard / x64 | OK | OK | OK | OK |  | ||||||||
| machv2 | macOS 10.14.6 Mojave / x86_64 | OK | OK | OK | OK |  | ||||||||
| Package: BioCor | 
| Version: 1.16.0 | 
| Command: C:\cygwin\bin\curl.exe -O http://155.52.207.165/BBS/3.13/bioc/src/contrib/BioCor_1.16.0.tar.gz && rm -rf BioCor.buildbin-libdir && mkdir BioCor.buildbin-libdir && C:\Users\biocbuild\bbs-3.13-bioc\R\bin\R.exe CMD INSTALL --merge-multiarch --build --library=BioCor.buildbin-libdir BioCor_1.16.0.tar.gz && C:\Users\biocbuild\bbs-3.13-bioc\R\bin\R.exe CMD INSTALL BioCor_1.16.0.zip && rm BioCor_1.16.0.tar.gz BioCor_1.16.0.zip | 
| StartedAt: 2021-10-14 09:22:11 -0400 (Thu, 14 Oct 2021) | 
| EndedAt: 2021-10-14 09:22:49 -0400 (Thu, 14 Oct 2021) | 
| EllapsedTime: 38.4 seconds | 
| RetCode: 0 | 
| Status: OK | 
##############################################################################
##############################################################################
###
### Running command:
###
###   C:\cygwin\bin\curl.exe -O http://155.52.207.165/BBS/3.13/bioc/src/contrib/BioCor_1.16.0.tar.gz && rm -rf BioCor.buildbin-libdir && mkdir BioCor.buildbin-libdir && C:\Users\biocbuild\bbs-3.13-bioc\R\bin\R.exe CMD INSTALL --merge-multiarch --build --library=BioCor.buildbin-libdir BioCor_1.16.0.tar.gz && C:\Users\biocbuild\bbs-3.13-bioc\R\bin\R.exe CMD INSTALL BioCor_1.16.0.zip && rm BioCor_1.16.0.tar.gz BioCor_1.16.0.zip
###
##############################################################################
##############################################################################
  % Total    % Received % Xferd  Average Speed   Time    Time     Time  Current
                                 Dload  Upload   Total   Spent    Left  Speed
  0     0    0     0    0     0      0      0 --:--:-- --:--:-- --:--:--     0
100  108k  100  108k    0     0   561k      0 --:--:-- --:--:-- --:--:--  562k
install for i386
* installing *source* package 'BioCor' ...
** using staged installation
** R
** byte-compile and prepare package for lazy loading
Creating a generic function from function 'clusterGeneSim' in package 'BioCor'
Creating a generic function from function 'clusterSim' in package 'BioCor'
Creating a generic function from function 'geneSim' in package 'BioCor'
Creating a generic function from function 'mclusterGeneSim' in package 'BioCor'
Creating a generic function from function 'mclusterSim' in package 'BioCor'
Creating a generic function from function 'mgeneSim' in package 'BioCor'
Creating a generic function from function 'mpathSim' in package 'BioCor'
Creating a generic function from function 'pathSim' in package 'BioCor'
** help
*** installing help indices
  converting help for package 'BioCor'
    finding HTML links ... done
    AintoB                                  html  
    BioCor-package                          html  
    addSimilarities                         html  
    clusterGeneSim                          html  
    clusterSim                              html  
    combinadic                              html  
    combineScores                           html  
    combineSources                          html  
    conversions                             html  
    diceSim                                 html  
    duplicateIndices                        html  
    geneSim                                 html  
    incidence-list-method                   html  
    inverseList                             html  
    mclusterGeneSim                         html  
    mclusterSim                             html  
    mgeneSim                                html  
    mpathSim                                html  
    pathSim                                 html  
    removeDup                               html  
    seq2mat                                 html  
    similarities                            html  
    weighted                                html  
*** copying figures
** building package indices
** installing vignettes
** testing if installed package can be loaded from temporary location
** testing if installed package can be loaded from final location
** testing if installed package keeps a record of temporary installation path
install for x64
* installing *source* package 'BioCor' ...
** testing if installed package can be loaded
* MD5 sums
packaged installation of 'BioCor' as BioCor_1.16.0.zip
* DONE (BioCor)
* installing to library 'C:/Users/biocbuild/bbs-3.13-bioc/R/library'
package 'BioCor' successfully unpacked and MD5 sums checked