| Back to Multiple platform build/check report for BioC 3.13 |
|
This page was generated on 2021-10-15 15:06:29 -0400 (Fri, 15 Oct 2021).
|
To the developers/maintainers of the BioCor package: - Please allow up to 24 hours (and sometimes 48 hours) for your latest push to git@git.bioconductor.org:packages/BioCor.git to reflect on this report. See How and When does the builder pull? When will my changes propagate? here for more information. - Make sure to use the following settings in order to reproduce any error or warning you see on this page. |
| Package 167/2041 | Hostname | OS / Arch | INSTALL | BUILD | CHECK | BUILD BIN | ||||||||
| BioCor 1.16.0 (landing page) Lluís Revilla Sancho
| nebbiolo1 | Linux (Ubuntu 20.04.2 LTS) / x86_64 | OK | OK | OK | |||||||||
| tokay2 | Windows Server 2012 R2 Standard / x64 | OK | OK | OK | OK | |||||||||
| machv2 | macOS 10.14.6 Mojave / x86_64 | OK | OK | OK | OK | |||||||||
| Package: BioCor |
| Version: 1.16.0 |
| Command: /Library/Frameworks/R.framework/Versions/Current/Resources/bin/R CMD check --install=check:BioCor.install-out.txt --library=/Library/Frameworks/R.framework/Versions/Current/Resources/library --no-vignettes --timings BioCor_1.16.0.tar.gz |
| StartedAt: 2021-10-14 16:45:25 -0400 (Thu, 14 Oct 2021) |
| EndedAt: 2021-10-14 16:48:35 -0400 (Thu, 14 Oct 2021) |
| EllapsedTime: 190.1 seconds |
| RetCode: 0 |
| Status: OK |
| CheckDir: BioCor.Rcheck |
| Warnings: 0 |
############################################################################## ############################################################################## ### ### Running command: ### ### /Library/Frameworks/R.framework/Versions/Current/Resources/bin/R CMD check --install=check:BioCor.install-out.txt --library=/Library/Frameworks/R.framework/Versions/Current/Resources/library --no-vignettes --timings BioCor_1.16.0.tar.gz ### ############################################################################## ############################################################################## * using log directory ‘/Users/biocbuild/bbs-3.13-bioc/meat/BioCor.Rcheck’ * using R version 4.1.1 (2021-08-10) * using platform: x86_64-apple-darwin17.0 (64-bit) * using session charset: UTF-8 * using option ‘--no-vignettes’ * checking for file ‘BioCor/DESCRIPTION’ ... OK * this is package ‘BioCor’ version ‘1.16.0’ * package encoding: UTF-8 * checking package namespace information ... OK * checking package dependencies ... OK * checking if this is a source package ... OK * checking if there is a namespace ... OK * checking for hidden files and directories ... NOTE Found the following hidden files and directories: .git_fetch_output.txt .git_merge_output.txt These were most likely included in error. See section ‘Package structure’ in the ‘Writing R Extensions’ manual. * checking for portable file names ... OK * checking for sufficient/correct file permissions ... OK * checking whether package ‘BioCor’ can be installed ... OK * checking installed package size ... OK * checking package directory ... OK * checking ‘build’ directory ... OK * checking DESCRIPTION meta-information ... OK * checking top-level files ... OK * checking for left-over files ... OK * checking index information ... OK * checking package subdirectories ... OK * checking R files for non-ASCII characters ... OK * checking R files for syntax errors ... OK * checking whether the package can be loaded ... OK * checking whether the package can be loaded with stated dependencies ... OK * checking whether the package can be unloaded cleanly ... OK * checking whether the namespace can be loaded with stated dependencies ... OK * checking whether the namespace can be unloaded cleanly ... OK * checking dependencies in R code ... OK * checking S3 generic/method consistency ... OK * checking replacement functions ... OK * checking foreign function calls ... OK * checking R code for possible problems ... OK * checking Rd files ... OK * checking Rd metadata ... OK * checking Rd cross-references ... OK * checking for missing documentation entries ... OK * checking for code/documentation mismatches ... OK * checking Rd \usage sections ... OK * checking Rd contents ... OK * checking for unstated dependencies in examples ... OK * checking R/sysdata.rda ... OK * checking files in ‘vignettes’ ... OK * checking examples ... OK * checking for unstated dependencies in ‘tests’ ... OK * checking tests ... Running ‘spelling.R’ Running ‘testthat.R’ OK * checking for unstated dependencies in vignettes ... OK * checking package vignettes in ‘inst/doc’ ... OK * checking running R code from vignettes ... SKIPPED * checking re-building of vignette outputs ... SKIPPED * checking PDF version of manual ... OK * DONE Status: 1 NOTE See ‘/Users/biocbuild/bbs-3.13-bioc/meat/BioCor.Rcheck/00check.log’ for details.
BioCor.Rcheck/00install.out
############################################################################## ############################################################################## ### ### Running command: ### ### /Library/Frameworks/R.framework/Versions/Current/Resources/bin/R CMD INSTALL BioCor ### ############################################################################## ############################################################################## * installing to library ‘/Library/Frameworks/R.framework/Versions/4.1/Resources/library’ * installing *source* package ‘BioCor’ ... ** using staged installation ** R ** byte-compile and prepare package for lazy loading Creating a generic function from function ‘clusterGeneSim’ in package ‘BioCor’ Creating a generic function from function ‘clusterSim’ in package ‘BioCor’ Creating a generic function from function ‘geneSim’ in package ‘BioCor’ Creating a generic function from function ‘mclusterGeneSim’ in package ‘BioCor’ Creating a generic function from function ‘mclusterSim’ in package ‘BioCor’ Creating a generic function from function ‘mgeneSim’ in package ‘BioCor’ Creating a generic function from function ‘mpathSim’ in package ‘BioCor’ Creating a generic function from function ‘pathSim’ in package ‘BioCor’ ** help *** installing help indices *** copying figures ** building package indices ** installing vignettes ** testing if installed package can be loaded from temporary location ** testing if installed package can be loaded from final location ** testing if installed package keeps a record of temporary installation path * DONE (BioCor)
BioCor.Rcheck/tests/spelling.Rout
R version 4.1.1 (2021-08-10) -- "Kick Things"
Copyright (C) 2021 The R Foundation for Statistical Computing
Platform: x86_64-apple-darwin17.0 (64-bit)
R is free software and comes with ABSOLUTELY NO WARRANTY.
You are welcome to redistribute it under certain conditions.
Type 'license()' or 'licence()' for distribution details.
R is a collaborative project with many contributors.
Type 'contributors()' for more information and
'citation()' on how to cite R or R packages in publications.
Type 'demo()' for some demos, 'help()' for on-line help, or
'help.start()' for an HTML browser interface to help.
Type 'q()' to quit R.
> if (requireNamespace("spelling", quietly = TRUE)) {
+ spelling::spell_check_test(vignettes = TRUE, error = FALSE, skip_on_cran = TRUE)
+ }
NULL
>
> proc.time()
user system elapsed
0.216 0.051 0.250
BioCor.Rcheck/tests/testthat.Rout
R version 4.1.1 (2021-08-10) -- "Kick Things"
Copyright (C) 2021 The R Foundation for Statistical Computing
Platform: x86_64-apple-darwin17.0 (64-bit)
R is free software and comes with ABSOLUTELY NO WARRANTY.
You are welcome to redistribute it under certain conditions.
Type 'license()' or 'licence()' for distribution details.
R is a collaborative project with many contributors.
Type 'contributors()' for more information and
'citation()' on how to cite R or R packages in publications.
Type 'demo()' for some demos, 'help()' for on-line help, or
'help.start()' for an HTML browser interface to help.
Type 'q()' to quit R.
> library(testthat)
> library(BioCor)
>
> test_check("BioCor")
[ FAIL 0 | WARN 0 | SKIP 0 | PASS 322 ]
>
> proc.time()
user system elapsed
14.673 0.650 15.331
BioCor.Rcheck/BioCor-Ex.timings
| name | user | system | elapsed | |
| AintoB | 0.002 | 0.005 | 0.008 | |
| addSimilarities | 0.007 | 0.001 | 0.008 | |
| clusterGeneSim | 1.722 | 0.063 | 1.786 | |
| clusterSim | 0.835 | 0.034 | 0.869 | |
| combinadic | 0.000 | 0.001 | 0.001 | |
| combineScores | 0.006 | 0.001 | 0.007 | |
| combineSources | 0.002 | 0.001 | 0.004 | |
| conversions | 0 | 0 | 0 | |
| diceSim | 0 | 0 | 0 | |
| duplicateIndices | 0.001 | 0.001 | 0.001 | |
| geneSim | 3.801 | 0.124 | 3.934 | |
| mclusterGeneSim | 1.097 | 0.056 | 1.193 | |
| mclusterSim | 0.849 | 0.015 | 0.868 | |
| mgeneSim | 2.551 | 0.064 | 2.616 | |
| mpathSim | 4.525 | 0.117 | 4.650 | |
| pathSim | 2.622 | 0.051 | 2.679 | |
| removeDup | 0.004 | 0.001 | 0.005 | |
| seq2mat | 0.001 | 0.001 | 0.001 | |
| similarities | 0.005 | 0.001 | 0.005 | |
| weighted | 0.001 | 0.001 | 0.001 | |