| Back to Multiple platform build/check report for BioC 3.13 |
|
This page was generated on 2021-10-15 15:05:57 -0400 (Fri, 15 Oct 2021).
|
To the developers/maintainers of the ASpli package: - Please allow up to 24 hours (and sometimes 48 hours) for your latest push to git@git.bioconductor.org:packages/ASpli.git to reflect on this report. See How and When does the builder pull? When will my changes propagate? here for more information. - Make sure to use the following settings in order to reproduce any error or warning you see on this page. |
| Package 94/2041 | Hostname | OS / Arch | INSTALL | BUILD | CHECK | BUILD BIN | ||||||||
| ASpli 2.2.0 (landing page) Estefania Mancini
| nebbiolo1 | Linux (Ubuntu 20.04.2 LTS) / x86_64 | OK | OK | OK | |||||||||
| tokay2 | Windows Server 2012 R2 Standard / x64 | OK | OK | OK | OK | |||||||||
| machv2 | macOS 10.14.6 Mojave / x86_64 | OK | OK | OK | OK | |||||||||
| Package: ASpli |
| Version: 2.2.0 |
| Command: rm -rf ASpli.buildbin-libdir && mkdir ASpli.buildbin-libdir && C:\Users\biocbuild\bbs-3.13-bioc\R\bin\R.exe CMD INSTALL --merge-multiarch --build --library=ASpli.buildbin-libdir ASpli_2.2.0.tar.gz |
| StartedAt: 2021-10-15 08:04:05 -0400 (Fri, 15 Oct 2021) |
| EndedAt: 2021-10-15 08:05:39 -0400 (Fri, 15 Oct 2021) |
| EllapsedTime: 94.1 seconds |
| RetCode: 0 |
| Status: OK |
| PackageFile: ASpli_2.2.0.zip |
| PackageFileSize: 3.332 MiB |
##############################################################################
##############################################################################
###
### Running command:
###
### rm -rf ASpli.buildbin-libdir && mkdir ASpli.buildbin-libdir && C:\Users\biocbuild\bbs-3.13-bioc\R\bin\R.exe CMD INSTALL --merge-multiarch --build --library=ASpli.buildbin-libdir ASpli_2.2.0.tar.gz
###
##############################################################################
##############################################################################
install for i386
* installing *source* package 'ASpli' ...
** using staged installation
** R
** inst
** byte-compile and prepare package for lazy loading
** help
*** installing help indices
converting help for package 'ASpli'
finding HTML links ... done
ASpli-deprecated html
ASpli-package html
ASpliAS-class html
ASpliCounts-class html
ASpliCounts html
ASpliDU-class html
ASpliFeatures-class html
ASpliIntegratedSignals-class html
ASpliJDU-class html
ASpliSplicingReport-class html
DUreport html
finding level-2 HTML links ... done
DUreport.norm html
DUreport.offset html
DUreportBinSplice-method html
acc_AS html
acc_DU html
acc_JDU html
acc_MergedReport html
acc_counts html
acc_features html
acc_is html
binGenome-methods html
binGenome html
containsJunctions-function html
example_data html
exportIntegratedSignals html
exportSplicingReports html
filterDU-method html
filterSignals html
gbCounts html
gbDUreport-method html
getConditions-function html
integrateSignals html
jCounts-methods html
jDUreport html
junctionDUreport html
loadBAM html
mergeBinDUAS-method html
plotBins html
plotGenomicRegions html
rds html
show-methods html
splicingReport html
subset-methods html
write-methods html
write html
** building package indices
** installing vignettes
** testing if installed package can be loaded from temporary location
** testing if installed package can be loaded from final location
** testing if installed package keeps a record of temporary installation path
install for x64
* installing *source* package 'ASpli' ...
** testing if installed package can be loaded
* MD5 sums
packaged installation of 'ASpli' as ASpli_2.2.0.zip
* DONE (ASpli)