| Back to Multiple platform build/check report for BioC 3.13 |
|
This page was generated on 2021-10-15 15:06:28 -0400 (Fri, 15 Oct 2021).
|
To the developers/maintainers of the ASpli package: - Please allow up to 24 hours (and sometimes 48 hours) for your latest push to git@git.bioconductor.org:packages/ASpli.git to reflect on this report. See How and When does the builder pull? When will my changes propagate? here for more information. - Make sure to use the following settings in order to reproduce any error or warning you see on this page. |
| Package 94/2041 | Hostname | OS / Arch | INSTALL | BUILD | CHECK | BUILD BIN | ||||||||
| ASpli 2.2.0 (landing page) Estefania Mancini
| nebbiolo1 | Linux (Ubuntu 20.04.2 LTS) / x86_64 | OK | OK | OK | |||||||||
| tokay2 | Windows Server 2012 R2 Standard / x64 | OK | OK | OK | OK | |||||||||
| machv2 | macOS 10.14.6 Mojave / x86_64 | OK | OK | OK | OK | |||||||||
| Package: ASpli |
| Version: 2.2.0 |
| Command: /Library/Frameworks/R.framework/Versions/Current/Resources/bin/R CMD check --install=check:ASpli.install-out.txt --library=/Library/Frameworks/R.framework/Versions/Current/Resources/library --no-vignettes --timings ASpli_2.2.0.tar.gz |
| StartedAt: 2021-10-14 16:23:09 -0400 (Thu, 14 Oct 2021) |
| EndedAt: 2021-10-14 16:41:26 -0400 (Thu, 14 Oct 2021) |
| EllapsedTime: 1096.8 seconds |
| RetCode: 0 |
| Status: OK |
| CheckDir: ASpli.Rcheck |
| Warnings: 0 |
##############################################################################
##############################################################################
###
### Running command:
###
### /Library/Frameworks/R.framework/Versions/Current/Resources/bin/R CMD check --install=check:ASpli.install-out.txt --library=/Library/Frameworks/R.framework/Versions/Current/Resources/library --no-vignettes --timings ASpli_2.2.0.tar.gz
###
##############################################################################
##############################################################################
* using log directory ‘/Users/biocbuild/bbs-3.13-bioc/meat/ASpli.Rcheck’
* using R version 4.1.1 (2021-08-10)
* using platform: x86_64-apple-darwin17.0 (64-bit)
* using session charset: UTF-8
* using option ‘--no-vignettes’
* checking for file ‘ASpli/DESCRIPTION’ ... OK
* checking extension type ... Package
* this is package ‘ASpli’ version ‘2.2.0’
* checking package namespace information ... OK
* checking package dependencies ... OK
* checking if this is a source package ... OK
* checking if there is a namespace ... OK
* checking for hidden files and directories ... NOTE
Found the following hidden files and directories:
.git_fetch_output.txt
.git_merge_output.txt
These were most likely included in error. See section ‘Package
structure’ in the ‘Writing R Extensions’ manual.
* checking for portable file names ... OK
* checking for sufficient/correct file permissions ... OK
* checking whether package ‘ASpli’ can be installed ... OK
* checking installed package size ... OK
* checking package directory ... OK
* checking ‘build’ directory ... OK
* checking DESCRIPTION meta-information ... OK
* checking top-level files ... OK
* checking for left-over files ... OK
* checking index information ... OK
* checking package subdirectories ... OK
* checking R files for non-ASCII characters ... OK
* checking R files for syntax errors ... OK
* checking whether the package can be loaded ... OK
* checking whether the package can be loaded with stated dependencies ... OK
* checking whether the package can be unloaded cleanly ... OK
* checking whether the namespace can be loaded with stated dependencies ... OK
* checking whether the namespace can be unloaded cleanly ... OK
* checking dependencies in R code ... OK
* checking S3 generic/method consistency ... OK
* checking replacement functions ... OK
* checking foreign function calls ... OK
* checking R code for possible problems ... OK
* checking Rd files ... OK
* checking Rd metadata ... OK
* checking Rd cross-references ... OK
* checking for missing documentation entries ... OK
* checking for code/documentation mismatches ... OK
* checking Rd \usage sections ... OK
* checking Rd contents ... OK
* checking for unstated dependencies in examples ... OK
* checking sizes of PDF files under ‘inst/doc’ ... OK
* checking installed files from ‘inst/doc’ ... OK
* checking files in ‘vignettes’ ... OK
* checking examples ... OK
Examples with CPU (user + system) or elapsed time > 5s
user system elapsed
ASpli-package 135.395 0.449 136.004
exportIntegratedSignals 74.560 0.245 74.952
exportSplicingReports 72.009 0.258 72.401
integrateSignals 71.932 0.144 72.147
splicingReport 71.454 0.155 71.853
jDUreport 71.084 0.178 71.501
jCounts-methods 69.687 0.195 69.964
gbCounts 62.059 0.118 62.280
gbDUreport-method 59.495 0.102 59.646
binGenome 7.285 0.064 7.360
* checking for unstated dependencies in vignettes ... OK
* checking package vignettes in ‘inst/doc’ ... OK
* checking running R code from vignettes ... SKIPPED
* checking re-building of vignette outputs ... SKIPPED
* checking PDF version of manual ... OK
* DONE
Status: 1 NOTE
See
‘/Users/biocbuild/bbs-3.13-bioc/meat/ASpli.Rcheck/00check.log’
for details.
ASpli.Rcheck/00install.out
############################################################################## ############################################################################## ### ### Running command: ### ### /Library/Frameworks/R.framework/Versions/Current/Resources/bin/R CMD INSTALL ASpli ### ############################################################################## ############################################################################## * installing to library ‘/Library/Frameworks/R.framework/Versions/4.1/Resources/library’ * installing *source* package ‘ASpli’ ... ** using staged installation ** R ** inst ** byte-compile and prepare package for lazy loading ** help *** installing help indices ** building package indices ** installing vignettes ** testing if installed package can be loaded from temporary location ** testing if installed package can be loaded from final location ** testing if installed package keeps a record of temporary installation path * DONE (ASpli)
ASpli.Rcheck/ASpli-Ex.timings
| name | user | system | elapsed | |
| ASpli-package | 135.395 | 0.449 | 136.004 | |
| DUreport | 0 | 0 | 0 | |
| DUreport.norm | 0.001 | 0.000 | 0.001 | |
| DUreport.offset | 0.000 | 0.000 | 0.001 | |
| DUreportBinSplice-method | 0 | 0 | 0 | |
| acc_AS | 0.000 | 0.001 | 0.001 | |
| acc_DU | 0.000 | 0.001 | 0.001 | |
| acc_counts | 0.000 | 0.001 | 0.001 | |
| acc_features | 0.440 | 0.002 | 0.443 | |
| binGenome | 7.285 | 0.064 | 7.360 | |
| containsJunctions-function | 0.001 | 0.000 | 0.001 | |
| example_data | 0.000 | 0.000 | 0.001 | |
| exportIntegratedSignals | 74.560 | 0.245 | 74.952 | |
| exportSplicingReports | 72.009 | 0.258 | 72.401 | |
| filterDU-method | 0.000 | 0.001 | 0.001 | |
| filterSignals | 0.000 | 0.001 | 0.000 | |
| gbCounts | 62.059 | 0.118 | 62.280 | |
| gbDUreport-method | 59.495 | 0.102 | 59.646 | |
| getConditions-function | 0.000 | 0.001 | 0.001 | |
| integrateSignals | 71.932 | 0.144 | 72.147 | |
| jCounts-methods | 69.687 | 0.195 | 69.964 | |
| jDUreport | 71.084 | 0.178 | 71.501 | |
| junctionDUreport | 0 | 0 | 0 | |
| loadBAM | 0.000 | 0.001 | 0.000 | |
| mergeBinDUAS-method | 0.000 | 0.001 | 0.001 | |
| plotBins | 0.000 | 0.000 | 0.001 | |
| plotGenomicRegions | 0.000 | 0.001 | 0.002 | |
| rds | 0.000 | 0.000 | 0.001 | |
| splicingReport | 71.454 | 0.155 | 71.853 | |
| subset-methods | 0.001 | 0.001 | 0.001 | |