| Back to Multiple platform build/check report for BioC 3.12 |
|
This page was generated on 2021-05-06 12:37:07 -0400 (Thu, 06 May 2021).
|
To the developers/maintainers of the systemPipeR package: Please make sure to use the following settings in order to reproduce any error or warning you see on this page. |
| Package 1832/1974 | Hostname | OS / Arch | INSTALL | BUILD | CHECK | BUILD BIN | ||||||||
| systemPipeR 1.24.6 (landing page) Thomas Girke
| malbec1 | Linux (Ubuntu 18.04.5 LTS) / x86_64 | OK | OK | OK | |||||||||
| tokay1 | Windows Server 2012 R2 Standard / x64 | OK | OK | OK | OK | |||||||||
| merida1 | macOS 10.14.6 Mojave / x86_64 | OK | OK | OK | OK | |||||||||
| Package: systemPipeR |
| Version: 1.24.6 |
| Command: /Library/Frameworks/R.framework/Versions/Current/Resources/bin/R CMD build --keep-empty-dirs --no-resave-data systemPipeR |
| StartedAt: 2021-05-05 22:31:02 -0400 (Wed, 05 May 2021) |
| EndedAt: 2021-05-05 22:33:05 -0400 (Wed, 05 May 2021) |
| EllapsedTime: 123.0 seconds |
| RetCode: 0 |
| Status: OK |
| PackageFile: systemPipeR_1.24.6.tar.gz |
| PackageFileSize: 3.623 MiB |
############################################################################## ############################################################################## ### ### Running command: ### ### /Library/Frameworks/R.framework/Versions/Current/Resources/bin/R CMD build --keep-empty-dirs --no-resave-data systemPipeR ### ############################################################################## ############################################################################## * checking for file ‘systemPipeR/DESCRIPTION’ ... OK * preparing ‘systemPipeR’: * checking DESCRIPTION meta-information ... OK * installing the package to build vignettes * creating vignettes ... OK * checking for LF line-endings in source and make files and shell scripts * checking for empty or unneeded directories * building ‘systemPipeR_1.24.6.tar.gz’