| Back to Multiple platform build/check report for BioC 3.12 |
|
This page was generated on 2021-05-06 12:37:07 -0400 (Thu, 06 May 2021).
|
To the developers/maintainers of the systemPipeR package: Please make sure to use the following settings in order to reproduce any error or warning you see on this page. |
| Package 1832/1974 | Hostname | OS / Arch | INSTALL | BUILD | CHECK | BUILD BIN | ||||||||
| systemPipeR 1.24.6 (landing page) Thomas Girke
| malbec1 | Linux (Ubuntu 18.04.5 LTS) / x86_64 | OK | OK | OK | |||||||||
| tokay1 | Windows Server 2012 R2 Standard / x64 | OK | OK | OK | OK | |||||||||
| merida1 | macOS 10.14.6 Mojave / x86_64 | OK | OK | OK | OK | |||||||||
| Package: systemPipeR |
| Version: 1.24.6 |
| Command: rm -rf systemPipeR.buildbin-libdir && mkdir systemPipeR.buildbin-libdir && /Users/biocbuild/BBS/utils/build-universal.sh systemPipeR_1.24.6.tar.gz /Library/Frameworks/R.framework/Versions/Current/Resources/bin/R systemPipeR.buildbin-libdir |
| StartedAt: 2021-05-06 10:11:13 -0400 (Thu, 06 May 2021) |
| EndedAt: 2021-05-06 10:12:27 -0400 (Thu, 06 May 2021) |
| EllapsedTime: 73.9 seconds |
| RetCode: 0 |
| Status: OK |
| PackageFile: systemPipeR_1.24.6.tgz |
| PackageFileSize: 3.505 MiB |
############################################################################## ############################################################################## ### ### Running command: ### ### rm -rf systemPipeR.buildbin-libdir && mkdir systemPipeR.buildbin-libdir && /Users/biocbuild/BBS/utils/build-universal.sh systemPipeR_1.24.6.tar.gz /Library/Frameworks/R.framework/Versions/Current/Resources/bin/R systemPipeR.buildbin-libdir ### ############################################################################## ############################################################################## >>>>>>> >>>>>>> INSTALLATION WITH 'R CMD INSTALL --preclean --no-multiarch --library=systemPipeR.buildbin-libdir systemPipeR_1.24.6.tar.gz' >>>>>>> * installing *source* package ‘systemPipeR’ ... ** using staged installation ** R ** inst ** byte-compile and prepare package for lazy loading ** help *** installing help indices ** building package indices ** installing vignettes ** testing if installed package can be loaded from temporary location ** testing if installed package can be loaded from final location ** testing if installed package keeps a record of temporary installation path * DONE (systemPipeR)