| Back to Multiple platform build/check report for BioC 3.12 | 
  | 
This page was generated on 2021-05-06 12:33:43 -0400 (Thu, 06 May 2021).
| 
To the developers/maintainers of the sparseMatrixStats package: Please make sure to use the following settings in order to reproduce any error or warning you see on this page.  | 
| Package 1755/1974 | Hostname | OS / Arch | INSTALL | BUILD | CHECK | BUILD BIN | ||||||||
| sparseMatrixStats 1.2.1  (landing page) Constantin Ahlmann-Eltze 
  | malbec1 | Linux (Ubuntu 18.04.5 LTS) / x86_64 | OK | OK | OK | |||||||||
| tokay1 | Windows Server 2012 R2 Standard / x64 | OK | OK | OK | OK | |||||||||
| merida1 | macOS 10.14.6 Mojave / x86_64 | OK | OK | OK | OK | |||||||||
| Package: sparseMatrixStats | 
| Version: 1.2.1 | 
| Command: chmod a+r sparseMatrixStats -R && C:\Users\biocbuild\bbs-3.12-bioc\R\bin\R.exe CMD build --keep-empty-dirs --no-resave-data sparseMatrixStats | 
| StartedAt: 2021-05-05 23:39:56 -0400 (Wed, 05 May 2021) | 
| EndedAt: 2021-05-05 23:40:50 -0400 (Wed, 05 May 2021) | 
| EllapsedTime: 54.4 seconds | 
| RetCode: 0 | 
| Status: OK | 
| PackageFile: sparseMatrixStats_1.2.1.tar.gz | 
| PackageFileSize: 682.4 KiB | 
############################################################################## ############################################################################## ### ### Running command: ### ### chmod a+r sparseMatrixStats -R && C:\Users\biocbuild\bbs-3.12-bioc\R\bin\R.exe CMD build --keep-empty-dirs --no-resave-data sparseMatrixStats ### ############################################################################## ############################################################################## * checking for file 'sparseMatrixStats/DESCRIPTION' ... OK * preparing 'sparseMatrixStats': * checking DESCRIPTION meta-information ... OK * cleaning src * installing the package to build vignettes * creating vignettes ... OK * cleaning src * checking for LF line-endings in source and make files and shell scripts * checking for empty or unneeded directories * building 'sparseMatrixStats_1.2.1.tar.gz'