| Back to Multiple platform build/check report for BioC 3.12 |
|
This page was generated on 2021-05-06 12:36:47 -0400 (Thu, 06 May 2021).
|
To the developers/maintainers of the sesame package: Please make sure to use the following settings in order to reproduce any error or warning you see on this page. |
| Package 1689/1974 | Hostname | OS / Arch | INSTALL | BUILD | CHECK | BUILD BIN | ||||||||
| sesame 1.8.12 (landing page) Wanding Zhou
| malbec1 | Linux (Ubuntu 18.04.5 LTS) / x86_64 | OK | OK | OK | |||||||||
| tokay1 | Windows Server 2012 R2 Standard / x64 | OK | ERROR | skipped | skipped | |||||||||
| merida1 | macOS 10.14.6 Mojave / x86_64 | OK | OK | OK | OK | |||||||||
| Package: sesame |
| Version: 1.8.12 |
| Command: rm -rf sesame.buildbin-libdir && mkdir sesame.buildbin-libdir && /Users/biocbuild/BBS/utils/build-universal.sh sesame_1.8.12.tar.gz /Library/Frameworks/R.framework/Versions/Current/Resources/bin/R sesame.buildbin-libdir |
| StartedAt: 2021-05-06 10:00:02 -0400 (Thu, 06 May 2021) |
| EndedAt: 2021-05-06 10:01:02 -0400 (Thu, 06 May 2021) |
| EllapsedTime: 60.3 seconds |
| RetCode: 0 |
| Status: OK |
| PackageFile: sesame_1.8.12.tgz |
| PackageFileSize: 18.84 MiB |
############################################################################## ############################################################################## ### ### Running command: ### ### rm -rf sesame.buildbin-libdir && mkdir sesame.buildbin-libdir && /Users/biocbuild/BBS/utils/build-universal.sh sesame_1.8.12.tar.gz /Library/Frameworks/R.framework/Versions/Current/Resources/bin/R sesame.buildbin-libdir ### ############################################################################## ############################################################################## >>>>>>> >>>>>>> INSTALLATION WITH 'R CMD INSTALL --preclean --no-multiarch --library=sesame.buildbin-libdir sesame_1.8.12.tar.gz' >>>>>>> * installing *source* package ‘sesame’ ... ** using staged installation ** R ** inst ** byte-compile and prepare package for lazy loading ** help *** installing help indices ** building package indices ** installing vignettes ** testing if installed package can be loaded from temporary location ** testing if installed package can be loaded from final location ** testing if installed package keeps a record of temporary installation path * DONE (sesame)