| Back to Multiple platform build/check report for BioC 3.12 | 
 | 
This page was generated on 2021-05-06 12:28:37 -0400 (Thu, 06 May 2021).
| To the developers/maintainers of the plyranges package: Please make sure to use the following settings in order to reproduce any error or warning you see on this page. | 
| Package 1361/1974 | Hostname | OS / Arch | INSTALL | BUILD | CHECK | BUILD BIN | ||||||||
| plyranges 1.10.0  (landing page) Stuart Lee 
 | malbec1 | Linux (Ubuntu 18.04.5 LTS) / x86_64 | OK | OK | OK |  | ||||||||
| tokay1 | Windows Server 2012 R2 Standard / x64 | OK | OK | WARNINGS | OK |  | ||||||||
| merida1 | macOS 10.14.6 Mojave / x86_64 | OK | OK | OK | OK |  | ||||||||
| Package: plyranges | 
| Version: 1.10.0 | 
| Command: /home/biocbuild/bbs-3.12-bioc/R/bin/R CMD build --keep-empty-dirs --no-resave-data plyranges | 
| StartedAt: 2021-05-05 21:00:54 -0400 (Wed, 05 May 2021) | 
| EndedAt: 2021-05-05 21:02:03 -0400 (Wed, 05 May 2021) | 
| EllapsedTime: 68.4 seconds | 
| RetCode: 0 | 
| Status: OK | 
| PackageFile: plyranges_1.10.0.tar.gz | 
| PackageFileSize: 1.224 MiB | 
############################################################################## ############################################################################## ### ### Running command: ### ### /home/biocbuild/bbs-3.12-bioc/R/bin/R CMD build --keep-empty-dirs --no-resave-data plyranges ### ############################################################################## ############################################################################## * checking for file ‘plyranges/DESCRIPTION’ ... OK * preparing ‘plyranges’: * checking DESCRIPTION meta-information ... OK * installing the package to build vignettes * creating vignettes ... OK * checking for LF line-endings in source and make files and shell scripts * checking for empty or unneeded directories WARNING: directory ‘plyranges/pkgdown’ is empty * building ‘plyranges_1.10.0.tar.gz’