Back to Multiple platform build/check report for BioC 3.12 |
|
This page was generated on 2021-05-06 12:32:38 -0400 (Thu, 06 May 2021).
To the developers/maintainers of the onlineFDR package: Please make sure to use the following settings in order to reproduce any error or warning you see on this page. |
Package 1266/1974 | Hostname | OS / Arch | INSTALL | BUILD | CHECK | BUILD BIN | ||||||||
onlineFDR 1.8.0 (landing page) David S. Robertson
| malbec1 | Linux (Ubuntu 18.04.5 LTS) / x86_64 | OK | OK | OK | |||||||||
tokay1 | Windows Server 2012 R2 Standard / x64 | OK | OK | OK | OK | |||||||||
merida1 | macOS 10.14.6 Mojave / x86_64 | OK | OK | OK | OK | |||||||||
Package: onlineFDR |
Version: 1.8.0 |
Command: C:\cygwin\bin\curl.exe -O http://172.29.0.3/BBS/3.12/bioc/src/contrib/onlineFDR_1.8.0.tar.gz && rm -rf onlineFDR.buildbin-libdir && mkdir onlineFDR.buildbin-libdir && C:\Users\biocbuild\bbs-3.12-bioc\R\bin\R.exe CMD INSTALL --merge-multiarch --build --library=onlineFDR.buildbin-libdir onlineFDR_1.8.0.tar.gz && C:\Users\biocbuild\bbs-3.12-bioc\R\bin\R.exe CMD INSTALL onlineFDR_1.8.0.zip && rm onlineFDR_1.8.0.tar.gz onlineFDR_1.8.0.zip |
StartedAt: 2021-05-05 16:42:08 -0400 (Wed, 05 May 2021) |
EndedAt: 2021-05-05 16:42:49 -0400 (Wed, 05 May 2021) |
EllapsedTime: 41.1 seconds |
RetCode: 0 |
Status: OK |
############################################################################## ############################################################################## ### ### Running command: ### ### C:\cygwin\bin\curl.exe -O http://172.29.0.3/BBS/3.12/bioc/src/contrib/onlineFDR_1.8.0.tar.gz && rm -rf onlineFDR.buildbin-libdir && mkdir onlineFDR.buildbin-libdir && C:\Users\biocbuild\bbs-3.12-bioc\R\bin\R.exe CMD INSTALL --merge-multiarch --build --library=onlineFDR.buildbin-libdir onlineFDR_1.8.0.tar.gz && C:\Users\biocbuild\bbs-3.12-bioc\R\bin\R.exe CMD INSTALL onlineFDR_1.8.0.zip && rm onlineFDR_1.8.0.tar.gz onlineFDR_1.8.0.zip ### ############################################################################## ############################################################################## % Total % Received % Xferd Average Speed Time Time Time Current Dload Upload Total Spent Left Speed 0 0 0 0 0 0 0 0 --:--:-- --:--:-- --:--:-- 0 100 103k 100 103k 0 0 7716k 0 --:--:-- --:--:-- --:--:-- 8662k install for i386 * installing *source* package 'onlineFDR' ... ** using staged installation ** R ** inst ** byte-compile and prepare package for lazy loading ** help *** installing help indices converting help for package 'onlineFDR' finding HTML links ... done ADDIS html ADDIS_spending html Alpha_investing html Alpha_spending html LOND html LONDstar html LORD html LORDdep html LORDstar html SAFFRON html SAFFRONstar html bonfInfinite html onlineFDR-deprecated html onlineFDR-package html online_fallback html ** building package indices ** installing vignettes ** testing if installed package can be loaded from temporary location ** testing if installed package can be loaded from final location ** testing if installed package keeps a record of temporary installation path install for x64 * installing *source* package 'onlineFDR' ... ** testing if installed package can be loaded * MD5 sums packaged installation of 'onlineFDR' as onlineFDR_1.8.0.zip * DONE (onlineFDR) * installing to library 'C:/Users/biocbuild/bbs-3.12-bioc/R/library' package 'onlineFDR' successfully unpacked and MD5 sums checked