| Back to Multiple platform build/check report for BioC 3.12 | 
 | 
This page was generated on 2021-05-06 12:36:01 -0400 (Thu, 06 May 2021).
| To the developers/maintainers of the onlineFDR package: Please make sure to use the following settings in order to reproduce any error or warning you see on this page. | 
| Package 1266/1974 | Hostname | OS / Arch | INSTALL | BUILD | CHECK | BUILD BIN | ||||||||
| onlineFDR 1.8.0  (landing page) David S. Robertson 
 | malbec1 | Linux (Ubuntu 18.04.5 LTS) / x86_64 | OK | OK | OK |  | ||||||||
| tokay1 | Windows Server 2012 R2 Standard / x64 | OK | OK | OK | OK |  | ||||||||
| merida1 | macOS 10.14.6 Mojave / x86_64 | OK | OK | OK | OK |  | ||||||||
| Package: onlineFDR | 
| Version: 1.8.0 | 
| Command: rm -rf onlineFDR.buildbin-libdir && mkdir onlineFDR.buildbin-libdir && /Users/biocbuild/BBS/utils/build-universal.sh onlineFDR_1.8.0.tar.gz /Library/Frameworks/R.framework/Versions/Current/Resources/bin/R onlineFDR.buildbin-libdir | 
| StartedAt: 2021-05-06 09:27:44 -0400 (Thu, 06 May 2021) | 
| EndedAt: 2021-05-06 09:28:48 -0400 (Thu, 06 May 2021) | 
| EllapsedTime: 64.2 seconds | 
| RetCode: 0 | 
| Status: OK | 
| PackageFile: onlineFDR_1.8.0.tgz | 
| PackageFileSize: 387.7 KiB | 
############################################################################## ############################################################################## ### ### Running command: ### ### rm -rf onlineFDR.buildbin-libdir && mkdir onlineFDR.buildbin-libdir && /Users/biocbuild/BBS/utils/build-universal.sh onlineFDR_1.8.0.tar.gz /Library/Frameworks/R.framework/Versions/Current/Resources/bin/R onlineFDR.buildbin-libdir ### ############################################################################## ############################################################################## >>>>>>> >>>>>>> INSTALLATION WITH 'R CMD INSTALL --preclean --no-multiarch --library=onlineFDR.buildbin-libdir onlineFDR_1.8.0.tar.gz' >>>>>>> * installing *source* package ‘onlineFDR’ ... ** using staged installation ** R ** inst ** byte-compile and prepare package for lazy loading ** help *** installing help indices ** building package indices ** installing vignettes ** testing if installed package can be loaded from temporary location ** testing if installed package can be loaded from final location ** testing if installed package keeps a record of temporary installation path * DONE (onlineFDR)