| Back to Multiple platform build/check report for BioC 3.12 |
|
This page was generated on 2021-05-06 12:32:21 -0400 (Thu, 06 May 2021).
|
To the developers/maintainers of the msgbsR package: Please make sure to use the following settings in order to reproduce any error or warning you see on this page. |
| Package 1155/1974 | Hostname | OS / Arch | INSTALL | BUILD | CHECK | BUILD BIN | ||||||||
| msgbsR 1.14.0 (landing page) Benjamin Mayne
| malbec1 | Linux (Ubuntu 18.04.5 LTS) / x86_64 | OK | OK | WARNINGS | |||||||||
| tokay1 | Windows Server 2012 R2 Standard / x64 | OK | OK | WARNINGS | OK | |||||||||
| merida1 | macOS 10.14.6 Mojave / x86_64 | OK | OK | WARNINGS | OK | |||||||||
| Package: msgbsR |
| Version: 1.14.0 |
| Command: C:\cygwin\bin\curl.exe -O http://172.29.0.3/BBS/3.12/bioc/src/contrib/msgbsR_1.14.0.tar.gz && rm -rf msgbsR.buildbin-libdir && mkdir msgbsR.buildbin-libdir && C:\Users\biocbuild\bbs-3.12-bioc\R\bin\R.exe CMD INSTALL --merge-multiarch --build --library=msgbsR.buildbin-libdir msgbsR_1.14.0.tar.gz && C:\Users\biocbuild\bbs-3.12-bioc\R\bin\R.exe CMD INSTALL msgbsR_1.14.0.zip && rm msgbsR_1.14.0.tar.gz msgbsR_1.14.0.zip |
| StartedAt: 2021-05-05 18:56:50 -0400 (Wed, 05 May 2021) |
| EndedAt: 2021-05-05 18:58:29 -0400 (Wed, 05 May 2021) |
| EllapsedTime: 98.6 seconds |
| RetCode: 0 |
| Status: OK |
##############################################################################
##############################################################################
###
### Running command:
###
### C:\cygwin\bin\curl.exe -O http://172.29.0.3/BBS/3.12/bioc/src/contrib/msgbsR_1.14.0.tar.gz && rm -rf msgbsR.buildbin-libdir && mkdir msgbsR.buildbin-libdir && C:\Users\biocbuild\bbs-3.12-bioc\R\bin\R.exe CMD INSTALL --merge-multiarch --build --library=msgbsR.buildbin-libdir msgbsR_1.14.0.tar.gz && C:\Users\biocbuild\bbs-3.12-bioc\R\bin\R.exe CMD INSTALL msgbsR_1.14.0.zip && rm msgbsR_1.14.0.tar.gz msgbsR_1.14.0.zip
###
##############################################################################
##############################################################################
% Total % Received % Xferd Average Speed Time Time Time Current
Dload Upload Total Spent Left Speed
0 0 0 0 0 0 0 0 --:--:-- --:--:-- --:--:-- 0
1 15.3M 1 236k 0 0 306k 0 0:00:51 --:--:-- 0:00:51 306k
100 15.3M 100 15.3M 0 0 14.1M 0 0:00:01 0:00:01 --:--:-- 14.1M
install for i386
* installing *source* package 'msgbsR' ...
** using staged installation
** R
** data
** inst
** byte-compile and prepare package for lazy loading
No methods found in package 'IRanges' for request: 'values' when loading 'easyRNASeq'
** help
*** installing help indices
converting help for package 'msgbsR'
finding HTML links ... done
checkCuts html
cuts html
diffMeth html
msgbsR html
plotCircos html
plotCounts html
ratdata html
ratdata2 html
rawCounts html
** building package indices
** installing vignettes
** testing if installed package can be loaded from temporary location
No methods found in package 'IRanges' for request: 'values' when loading 'easyRNASeq'
** testing if installed package can be loaded from final location
No methods found in package 'IRanges' for request: 'values' when loading 'easyRNASeq'
** testing if installed package keeps a record of temporary installation path
install for x64
* installing *source* package 'msgbsR' ...
** testing if installed package can be loaded
No methods found in package 'IRanges' for request: 'values' when loading 'easyRNASeq'
* MD5 sums
packaged installation of 'msgbsR' as msgbsR_1.14.0.zip
* DONE (msgbsR)
* installing to library 'C:/Users/biocbuild/bbs-3.12-bioc/R/library'
package 'msgbsR' successfully unpacked and MD5 sums checked