| Back to Multiple platform build/check report for BioC 3.12 | 
 | 
This page was generated on 2021-05-06 12:32:22 -0400 (Thu, 06 May 2021).
| To the developers/maintainers of the msgbsR package: Please make sure to use the following settings in order to reproduce any error or warning you see on this page. | 
| Package 1155/1974 | Hostname | OS / Arch | INSTALL | BUILD | CHECK | BUILD BIN | ||||||||
| msgbsR 1.14.0  (landing page) Benjamin Mayne 
 | malbec1 | Linux (Ubuntu 18.04.5 LTS) / x86_64 | OK | OK | WARNINGS |  | ||||||||
| tokay1 | Windows Server 2012 R2 Standard / x64 | OK | OK | WARNINGS | OK |  | ||||||||
| merida1 | macOS 10.14.6 Mojave / x86_64 | OK | OK | WARNINGS | OK |  | ||||||||
| Package: msgbsR | 
| Version: 1.14.0 | 
| Command: rm -rf msgbsR.buildbin-libdir && mkdir msgbsR.buildbin-libdir && C:\Users\biocbuild\bbs-3.12-bioc\R\bin\R.exe CMD INSTALL --merge-multiarch --build --library=msgbsR.buildbin-libdir msgbsR_1.14.0.tar.gz | 
| StartedAt: 2021-05-06 09:35:00 -0400 (Thu, 06 May 2021) | 
| EndedAt: 2021-05-06 09:36:47 -0400 (Thu, 06 May 2021) | 
| EllapsedTime: 106.3 seconds | 
| RetCode: 0 | 
| Status: OK | 
| PackageFile: msgbsR_1.14.0.zip | 
| PackageFileSize: 15.58 MiB | 
##############################################################################
##############################################################################
###
### Running command:
###
###   rm -rf msgbsR.buildbin-libdir && mkdir msgbsR.buildbin-libdir && C:\Users\biocbuild\bbs-3.12-bioc\R\bin\R.exe CMD INSTALL --merge-multiarch --build --library=msgbsR.buildbin-libdir msgbsR_1.14.0.tar.gz
###
##############################################################################
##############################################################################
install for i386
* installing *source* package 'msgbsR' ...
** using staged installation
** R
** data
** inst
** byte-compile and prepare package for lazy loading
No methods found in package 'IRanges' for request: 'values' when loading 'easyRNASeq'
** help
*** installing help indices
  converting help for package 'msgbsR'
    finding HTML links ... done
    checkCuts                               html  
    cuts                                    html  
    diffMeth                                html  
    msgbsR                                  html  
    plotCircos                              html  
    plotCounts                              html  
    ratdata                                 html  
    ratdata2                                html  
    rawCounts                               html  
** building package indices
** installing vignettes
** testing if installed package can be loaded from temporary location
No methods found in package 'IRanges' for request: 'values' when loading 'easyRNASeq'
** testing if installed package can be loaded from final location
No methods found in package 'IRanges' for request: 'values' when loading 'easyRNASeq'
** testing if installed package keeps a record of temporary installation path
install for x64
* installing *source* package 'msgbsR' ...
** testing if installed package can be loaded
No methods found in package 'IRanges' for request: 'values' when loading 'easyRNASeq'
* MD5 sums
packaged installation of 'msgbsR' as msgbsR_1.14.0.zip
* DONE (msgbsR)