| Back to Multiple platform build/check report for BioC 3.12 |
|
This page was generated on 2021-05-06 12:32:20 -0400 (Thu, 06 May 2021).
|
To the developers/maintainers of the motifStack package: Please make sure to use the following settings in order to reproduce any error or warning you see on this page. |
| Package 1146/1974 | Hostname | OS / Arch | INSTALL | BUILD | CHECK | BUILD BIN | ||||||||
| motifStack 1.34.0 (landing page) Jianhong Ou
| malbec1 | Linux (Ubuntu 18.04.5 LTS) / x86_64 | OK | OK | OK | |||||||||
| tokay1 | Windows Server 2012 R2 Standard / x64 | OK | OK | OK | OK | |||||||||
| merida1 | macOS 10.14.6 Mojave / x86_64 | OK | OK | OK | OK | |||||||||
| Package: motifStack |
| Version: 1.34.0 |
| Command: C:\Users\biocbuild\bbs-3.12-bioc\R\bin\R.exe CMD check --force-multiarch --install=check:motifStack.install-out.txt --library=C:\Users\biocbuild\bbs-3.12-bioc\R\library --no-vignettes --timings motifStack_1.34.0.tar.gz |
| StartedAt: 2021-05-06 04:49:06 -0400 (Thu, 06 May 2021) |
| EndedAt: 2021-05-06 04:52:59 -0400 (Thu, 06 May 2021) |
| EllapsedTime: 232.1 seconds |
| RetCode: 0 |
| Status: OK |
| CheckDir: motifStack.Rcheck |
| Warnings: 0 |
##############################################################################
##############################################################################
###
### Running command:
###
### C:\Users\biocbuild\bbs-3.12-bioc\R\bin\R.exe CMD check --force-multiarch --install=check:motifStack.install-out.txt --library=C:\Users\biocbuild\bbs-3.12-bioc\R\library --no-vignettes --timings motifStack_1.34.0.tar.gz
###
##############################################################################
##############################################################################
* using log directory 'C:/Users/biocbuild/bbs-3.12-bioc/meat/motifStack.Rcheck'
* using R version 4.0.5 (2021-03-31)
* using platform: x86_64-w64-mingw32 (64-bit)
* using session charset: ISO8859-1
* using option '--no-vignettes'
* checking for file 'motifStack/DESCRIPTION' ... OK
* checking extension type ... Package
* this is package 'motifStack' version '1.34.0'
* package encoding: UTF-8
* checking package namespace information ... OK
* checking package dependencies ... OK
* checking if this is a source package ... OK
* checking if there is a namespace ... OK
* checking for hidden files and directories ... OK
* checking for portable file names ... OK
* checking whether package 'motifStack' can be installed ... OK
* checking installed package size ... OK
* checking package directory ... OK
* checking 'build' directory ... OK
* checking DESCRIPTION meta-information ... OK
* checking top-level files ... OK
* checking for left-over files ... OK
* checking index information ... OK
* checking package subdirectories ... OK
* checking R files for non-ASCII characters ... OK
* checking R files for syntax errors ... OK
* loading checks for arch 'i386'
** checking whether the package can be loaded ... OK
** checking whether the package can be loaded with stated dependencies ... OK
** checking whether the package can be unloaded cleanly ... OK
** checking whether the namespace can be loaded with stated dependencies ... OK
** checking whether the namespace can be unloaded cleanly ... OK
* loading checks for arch 'x64'
** checking whether the package can be loaded ... OK
** checking whether the package can be loaded with stated dependencies ... OK
** checking whether the package can be unloaded cleanly ... OK
** checking whether the namespace can be loaded with stated dependencies ... OK
** checking whether the namespace can be unloaded cleanly ... OK
* checking dependencies in R code ... OK
* checking S3 generic/method consistency ... OK
* checking replacement functions ... OK
* checking foreign function calls ... OK
* checking R code for possible problems ... OK
* checking Rd files ... OK
* checking Rd metadata ... OK
* checking Rd cross-references ... OK
* checking for missing documentation entries ... OK
* checking for code/documentation mismatches ... OK
* checking Rd \usage sections ... OK
* checking Rd contents ... OK
* checking for unstated dependencies in examples ... OK
* checking files in 'vignettes' ... OK
* checking examples ...
** running examples for arch 'i386' ... OK
Examples with CPU (user + system) or elapsed time > 5s
user system elapsed
pfm2pwm 11.97 1.12 13.10
AAmotifAlignment 10.78 0.01 10.81
** running examples for arch 'x64' ... OK
Examples with CPU (user + system) or elapsed time > 5s
user system elapsed
pfm2pwm 14.70 0.39 15.11
AAmotifAlignment 12.54 0.00 12.55
* checking for unstated dependencies in 'tests' ... OK
* checking tests ...
** running tests for arch 'i386' ...
Running 'runTests.R'
OK
** running tests for arch 'x64' ...
Running 'runTests.R'
OK
* checking for unstated dependencies in vignettes ... OK
* checking package vignettes in 'inst/doc' ... OK
* checking running R code from vignettes ... SKIPPED
* checking re-building of vignette outputs ... SKIPPED
* checking PDF version of manual ... OK
* DONE
Status: OK
motifStack.Rcheck/00install.out
##############################################################################
##############################################################################
###
### Running command:
###
### C:\cygwin\bin\curl.exe -O http://172.29.0.3/BBS/3.12/bioc/src/contrib/motifStack_1.34.0.tar.gz && rm -rf motifStack.buildbin-libdir && mkdir motifStack.buildbin-libdir && C:\Users\biocbuild\bbs-3.12-bioc\R\bin\R.exe CMD INSTALL --merge-multiarch --build --library=motifStack.buildbin-libdir motifStack_1.34.0.tar.gz && C:\Users\biocbuild\bbs-3.12-bioc\R\bin\R.exe CMD INSTALL motifStack_1.34.0.zip && rm motifStack_1.34.0.tar.gz motifStack_1.34.0.zip
###
##############################################################################
##############################################################################
% Total % Received % Xferd Average Speed Time Time Time Current
Dload Upload Total Spent Left Speed
0 0 0 0 0 0 0 0 --:--:-- --:--:-- --:--:-- 0
100 216k 100 216k 0 0 10.3M 0 --:--:-- --:--:-- --:--:-- 11.1M
install for i386
* installing *source* package 'motifStack' ...
** using staged installation
** R
** inst
** byte-compile and prepare package for lazy loading
** help
*** installing help indices
converting help for package 'motifStack'
finding HTML links ... done
AAmotifAlignment html
DNAmotifAlignment html
DNAmotifToRNAmotif html
GeomMotif html
browseMotifs-shiny html
browseMotifs html
calF html
calI html
clusterMotifs html
colorset html
compare2profiles html
compareProfiles html
dpGlobal html
dpLocal html
geom_motif html
getALLRscoreFromCounts html
getDistance html
getRankedUniqueMotifs html
getScore html
highlightCol html
importMatrix html
marker-class html
matalign html
mergeMotifs html
motifCircos html
motifCloud html
motifGrob html
motifHclust html
motifPiles html
motifSig-class html
motifSignature html
motifStack-package html
motifStack html
ouNode-class html
pcm-class html
pfm-class html
pfm2pwm html
plotAffinityLogo html
plotMotifLogo html
plotMotifLogoA html
plotMotifLogoStack html
plotMotifLogoStackWithTree html
plotMotifOverMotif html
plotMotifStackWithPhylog html
plotMotifStackWithRadialPhylog html
plotXaxis html
plotYaxis html
psam-class html
pssm-class html
readPCM html
reorderUPGMAtree html
traceBackGlobal html
traceBackLocal html
** building package indices
** installing vignettes
** testing if installed package can be loaded from temporary location
** testing if installed package can be loaded from final location
** testing if installed package keeps a record of temporary installation path
install for x64
* installing *source* package 'motifStack' ...
** testing if installed package can be loaded
* MD5 sums
packaged installation of 'motifStack' as motifStack_1.34.0.zip
* DONE (motifStack)
* installing to library 'C:/Users/biocbuild/bbs-3.12-bioc/R/library'
package 'motifStack' successfully unpacked and MD5 sums checked
|
motifStack.Rcheck/tests_i386/runTests.Rout
R version 4.0.5 (2021-03-31) -- "Shake and Throw"
Copyright (C) 2021 The R Foundation for Statistical Computing
Platform: i386-w64-mingw32/i386 (32-bit)
R is free software and comes with ABSOLUTELY NO WARRANTY.
You are welcome to redistribute it under certain conditions.
Type 'license()' or 'licence()' for distribution details.
R is a collaborative project with many contributors.
Type 'contributors()' for more information and
'citation()' on how to cite R or R packages in publications.
Type 'demo()' for some demos, 'help()' for on-line help, or
'help.start()' for an HTML browser interface to help.
Type 'q()' to quit R.
> require("motifStack") || stop("unable to load Package:motifStack")
Loading required package: motifStack
Loading required package: grid
[1] TRUE
> #require("MotifDb") || stop("unalble to load Package::motifDb")
> BiocGenerics:::testPackage("motifStack")
RUNIT TEST PROTOCOL -- Thu May 06 04:52:47 2021
***********************************************
Number of test functions: 10
Number of errors: 0
Number of failures: 0
1 Test Suite :
motifStack RUnit Tests - 10 test functions, 0 errors, 0 failures
Number of test functions: 10
Number of errors: 0
Number of failures: 0
>
> proc.time()
user system elapsed
5.10 0.34 5.42
|
motifStack.Rcheck/tests_x64/runTests.Rout
R version 4.0.5 (2021-03-31) -- "Shake and Throw"
Copyright (C) 2021 The R Foundation for Statistical Computing
Platform: x86_64-w64-mingw32/x64 (64-bit)
R is free software and comes with ABSOLUTELY NO WARRANTY.
You are welcome to redistribute it under certain conditions.
Type 'license()' or 'licence()' for distribution details.
R is a collaborative project with many contributors.
Type 'contributors()' for more information and
'citation()' on how to cite R or R packages in publications.
Type 'demo()' for some demos, 'help()' for on-line help, or
'help.start()' for an HTML browser interface to help.
Type 'q()' to quit R.
> require("motifStack") || stop("unable to load Package:motifStack")
Loading required package: motifStack
Loading required package: grid
[1] TRUE
> #require("MotifDb") || stop("unalble to load Package::motifDb")
> BiocGenerics:::testPackage("motifStack")
RUNIT TEST PROTOCOL -- Thu May 06 04:52:52 2021
***********************************************
Number of test functions: 10
Number of errors: 0
Number of failures: 0
1 Test Suite :
motifStack RUnit Tests - 10 test functions, 0 errors, 0 failures
Number of test functions: 10
Number of errors: 0
Number of failures: 0
>
> proc.time()
user system elapsed
5.15 0.18 5.34
|
|
motifStack.Rcheck/examples_i386/motifStack-Ex.timings
|
motifStack.Rcheck/examples_x64/motifStack-Ex.timings
|