| Back to Multiple platform build/check report for BioC 3.12 |
|
This page was generated on 2021-05-06 12:32:21 -0400 (Thu, 06 May 2021).
|
To the developers/maintainers of the motifStack package: Please make sure to use the following settings in order to reproduce any error or warning you see on this page. |
| Package 1146/1974 | Hostname | OS / Arch | INSTALL | BUILD | CHECK | BUILD BIN | ||||||||
| motifStack 1.34.0 (landing page) Jianhong Ou
| malbec1 | Linux (Ubuntu 18.04.5 LTS) / x86_64 | OK | OK | OK | |||||||||
| tokay1 | Windows Server 2012 R2 Standard / x64 | OK | OK | OK | OK | |||||||||
| merida1 | macOS 10.14.6 Mojave / x86_64 | OK | OK | OK | OK | |||||||||
| Package: motifStack |
| Version: 1.34.0 |
| Command: rm -rf motifStack.buildbin-libdir && mkdir motifStack.buildbin-libdir && C:\Users\biocbuild\bbs-3.12-bioc\R\bin\R.exe CMD INSTALL --merge-multiarch --build --library=motifStack.buildbin-libdir motifStack_1.34.0.tar.gz |
| StartedAt: 2021-05-06 09:34:29 -0400 (Thu, 06 May 2021) |
| EndedAt: 2021-05-06 09:34:57 -0400 (Thu, 06 May 2021) |
| EllapsedTime: 27.7 seconds |
| RetCode: 0 |
| Status: OK |
| PackageFile: motifStack_1.34.0.zip |
| PackageFileSize: 1.211 MiB |
##############################################################################
##############################################################################
###
### Running command:
###
### rm -rf motifStack.buildbin-libdir && mkdir motifStack.buildbin-libdir && C:\Users\biocbuild\bbs-3.12-bioc\R\bin\R.exe CMD INSTALL --merge-multiarch --build --library=motifStack.buildbin-libdir motifStack_1.34.0.tar.gz
###
##############################################################################
##############################################################################
install for i386
* installing *source* package 'motifStack' ...
** using staged installation
** R
** inst
** byte-compile and prepare package for lazy loading
** help
*** installing help indices
converting help for package 'motifStack'
finding HTML links ... done
AAmotifAlignment html
DNAmotifAlignment html
DNAmotifToRNAmotif html
GeomMotif html
browseMotifs-shiny html
browseMotifs html
calF html
calI html
clusterMotifs html
colorset html
compare2profiles html
compareProfiles html
dpGlobal html
dpLocal html
geom_motif html
getALLRscoreFromCounts html
getDistance html
getRankedUniqueMotifs html
getScore html
highlightCol html
importMatrix html
marker-class html
matalign html
mergeMotifs html
motifCircos html
motifCloud html
motifGrob html
motifHclust html
motifPiles html
motifSig-class html
motifSignature html
motifStack-package html
motifStack html
ouNode-class html
pcm-class html
pfm-class html
pfm2pwm html
plotAffinityLogo html
plotMotifLogo html
plotMotifLogoA html
plotMotifLogoStack html
plotMotifLogoStackWithTree html
plotMotifOverMotif html
plotMotifStackWithPhylog html
plotMotifStackWithRadialPhylog html
plotXaxis html
plotYaxis html
psam-class html
pssm-class html
readPCM html
reorderUPGMAtree html
traceBackGlobal html
traceBackLocal html
** building package indices
** installing vignettes
** testing if installed package can be loaded from temporary location
** testing if installed package can be loaded from final location
** testing if installed package keeps a record of temporary installation path
install for x64
* installing *source* package 'motifStack' ...
** testing if installed package can be loaded
* MD5 sums
packaged installation of 'motifStack' as motifStack_1.34.0.zip
* DONE (motifStack)