| Back to Multiple platform build/check report for BioC 3.12 |
|
This page was generated on 2021-05-06 12:31:38 -0400 (Thu, 06 May 2021).
|
To the developers/maintainers of the gQTLBase package: Please make sure to use the following settings in order to reproduce any error or warning you see on this page. |
| Package 776/1974 | Hostname | OS / Arch | INSTALL | BUILD | CHECK | BUILD BIN | ||||||||
VJ Carey
| malbec1 | Linux (Ubuntu 18.04.5 LTS) / x86_64 | ERROR | ERROR | skipped | |||||||||
| tokay1 | Windows Server 2012 R2 Standard / x64 | ERROR | ERROR | skipped | skipped | |||||||||
| merida1 | macOS 10.14.6 Mojave / x86_64 | ERROR | ERROR | skipped | skipped | |||||||||
| Package: gQTLBase |
| Version: 1.22.0 |
| Command: C:\cygwin\bin\curl.exe -O http://172.29.0.3/BBS/3.12/bioc/src/contrib/gQTLBase_1.22.0.tar.gz && rm -rf gQTLBase.buildbin-libdir && mkdir gQTLBase.buildbin-libdir && C:\Users\biocbuild\bbs-3.12-bioc\R\bin\R.exe CMD INSTALL --merge-multiarch --build --library=gQTLBase.buildbin-libdir gQTLBase_1.22.0.tar.gz && C:\Users\biocbuild\bbs-3.12-bioc\R\bin\R.exe CMD INSTALL gQTLBase_1.22.0.zip && rm gQTLBase_1.22.0.tar.gz gQTLBase_1.22.0.zip |
| StartedAt: 2021-05-05 18:06:15 -0400 (Wed, 05 May 2021) |
| EndedAt: 2021-05-05 18:06:23 -0400 (Wed, 05 May 2021) |
| EllapsedTime: 8.5 seconds |
| RetCode: 1 |
| Status: ERROR |
##############################################################################
##############################################################################
###
### Running command:
###
### C:\cygwin\bin\curl.exe -O http://172.29.0.3/BBS/3.12/bioc/src/contrib/gQTLBase_1.22.0.tar.gz && rm -rf gQTLBase.buildbin-libdir && mkdir gQTLBase.buildbin-libdir && C:\Users\biocbuild\bbs-3.12-bioc\R\bin\R.exe CMD INSTALL --merge-multiarch --build --library=gQTLBase.buildbin-libdir gQTLBase_1.22.0.tar.gz && C:\Users\biocbuild\bbs-3.12-bioc\R\bin\R.exe CMD INSTALL gQTLBase_1.22.0.zip && rm gQTLBase_1.22.0.tar.gz gQTLBase_1.22.0.zip
###
##############################################################################
##############################################################################
% Total % Received % Xferd Average Speed Time Time Time Current
Dload Upload Total Spent Left Speed
0 0 0 0 0 0 0 0 --:--:-- --:--:-- --:--:-- 0
100 20577 100 20577 0 0 1119k 0 --:--:-- --:--:-- --:--:-- 1182k
install for i386
* installing *source* package 'gQTLBase' ...
** using staged installation
** R
** inst
** byte-compile and prepare package for lazy loading
Error: objects 'clone', 'is.factor.ff' are not exported by 'namespace:ff'
Execution halted
ERROR: lazy loading failed for package 'gQTLBase'
* removing 'C:/Users/biocbuild/bbs-3.12-bioc/meat/gQTLBase.buildbin-libdir/gQTLBase'