| Back to Multiple platform build/check report for BioC 3.12 | 
 | 
This page was generated on 2021-05-06 12:31:38 -0400 (Thu, 06 May 2021).
| To the developers/maintainers of the gQTLBase package: Please make sure to use the following settings in order to reproduce any error or warning you see on this page. | 
| Package 776/1974 | Hostname | OS / Arch | INSTALL | BUILD | CHECK | BUILD BIN | ||||||||
| VJ Carey 
 | malbec1 | Linux (Ubuntu 18.04.5 LTS) / x86_64 | ERROR | ERROR | skipped | |||||||||
| tokay1 | Windows Server 2012 R2 Standard / x64 | ERROR | ERROR | skipped | skipped | |||||||||
| merida1 | macOS 10.14.6 Mojave / x86_64 | ERROR | ERROR | skipped | skipped | |||||||||
| Package: gQTLBase | 
| Version: 1.22.0 | 
| Command: chmod a+r gQTLBase -R && C:\Users\biocbuild\bbs-3.12-bioc\R\bin\R.exe CMD build --keep-empty-dirs --no-resave-data gQTLBase | 
| StartedAt: 2021-05-05 21:20:35 -0400 (Wed, 05 May 2021) | 
| EndedAt: 2021-05-05 21:20:43 -0400 (Wed, 05 May 2021) | 
| EllapsedTime: 7.3 seconds | 
| RetCode: 1 | 
| Status: ERROR | 
| PackageFile: gQTLBase_1.22.0.tar.gz | 
| PackageFileSize: 20.09 KiB | 
##############################################################################
##############################################################################
###
### Running command:
###
###   chmod a+r gQTLBase -R && C:\Users\biocbuild\bbs-3.12-bioc\R\bin\R.exe CMD build --keep-empty-dirs --no-resave-data gQTLBase
###
##############################################################################
##############################################################################
* checking for file 'gQTLBase/DESCRIPTION' ... OK
* preparing 'gQTLBase':
* checking DESCRIPTION meta-information ... OK
* installing the package to process help pages
      -----------------------------------
* installing *source* package 'gQTLBase' ...
** using staged installation
** R
** inst
** byte-compile and prepare package for lazy loading
Error: objects 'clone', 'is.factor.ff' are not exported by 'namespace:ff'
Execution halted
ERROR: lazy loading failed for package 'gQTLBase'
* removing 'C:/Users/biocbuild/bbs-3.12-bioc/tmpdir/RtmpaYZhpK/Rinst21e05aab526c/gQTLBase'
      -----------------------------------
ERROR: package installation failed