| Back to Multiple platform build/check report for BioC 3.12 | 
 | 
This page was generated on 2021-05-06 12:35:01 -0400 (Thu, 06 May 2021).
| To the developers/maintainers of the flowViz package: Please make sure to use the following settings in order to reproduce any error or warning you see on this page. | 
| Package 639/1974 | Hostname | OS / Arch | INSTALL | BUILD | CHECK | BUILD BIN | ||||||||
| flowViz 1.54.0  (landing page) Mike Jiang 
 | malbec1 | Linux (Ubuntu 18.04.5 LTS) / x86_64 | OK | OK | OK |  | ||||||||
| tokay1 | Windows Server 2012 R2 Standard / x64 | OK | OK | WARNINGS | OK |  | ||||||||
| merida1 | macOS 10.14.6 Mojave / x86_64 | OK | OK | OK | OK |  | ||||||||
| Package: flowViz | 
| Version: 1.54.0 | 
| Command: /Library/Frameworks/R.framework/Versions/Current/Resources/bin/R CMD build --keep-empty-dirs --no-resave-data flowViz | 
| StartedAt: 2021-05-05 19:31:34 -0400 (Wed, 05 May 2021) | 
| EndedAt: 2021-05-05 19:33:08 -0400 (Wed, 05 May 2021) | 
| EllapsedTime: 93.9 seconds | 
| RetCode: 0 | 
| Status: OK | 
| PackageFile: flowViz_1.54.0.tar.gz | 
| PackageFileSize: 912.3 KiB | 
##############################################################################
##############################################################################
###
### Running command:
###
###   /Library/Frameworks/R.framework/Versions/Current/Resources/bin/R CMD build --keep-empty-dirs --no-resave-data flowViz
###
##############################################################################
##############################################################################
* checking for file ‘flowViz/DESCRIPTION’ ... OK
* preparing ‘flowViz’:
* checking DESCRIPTION meta-information ... OK
* installing the package to build vignettes
* creating vignettes ... OK
Warning: ‘inst/doc’ file
    ‘filters.html’
  ignored as vignettes have been rebuilt.
  Run R CMD build with --no-build-vignettes to prevent rebuilding.
* checking for LF line-endings in source and make files and shell scripts
* checking for empty or unneeded directories
* building ‘flowViz_1.54.0.tar.gz’