Back to Multiple platform build/check report for BioC 3.12 |
|
This page was generated on 2021-05-06 12:31:04 -0400 (Thu, 06 May 2021).
To the developers/maintainers of the explorase package: Please make sure to use the following settings in order to reproduce any error or warning you see on this page. |
Package 581/1974 | Hostname | OS / Arch | INSTALL | BUILD | CHECK | BUILD BIN | ||||||||
Michael Lawrence
| malbec1 | Linux (Ubuntu 18.04.5 LTS) / x86_64 | ERROR | ERROR | skipped | |||||||||
tokay1 | Windows Server 2012 R2 Standard / x64 | ERROR | ERROR | skipped | skipped | |||||||||
merida1 | macOS 10.14.6 Mojave / x86_64 | ... NOT SUPPORTED ... | ||||||||||||
Package: explorase |
Version: 1.54.0 |
Command: C:\Users\biocbuild\bbs-3.12-bioc\R\bin\R.exe --arch i386 CMD INSTALL --no-multiarch explorase |
StartedAt: 2021-05-05 19:24:53 -0400 (Wed, 05 May 2021) |
EndedAt: 2021-05-05 19:24:53 -0400 (Wed, 05 May 2021) |
EllapsedTime: 0.4 seconds |
RetCode: 1 |
Status: ERROR |
############################################################################## ############################################################################## ### ### Running command: ### ### C:\Users\biocbuild\bbs-3.12-bioc\R\bin\R.exe --arch i386 CMD INSTALL --no-multiarch explorase ### ############################################################################## ############################################################################## * installing to library 'C:/Users/biocbuild/bbs-3.12-bioc/R/library' ERROR: dependency 'rggobi' is not available for package 'explorase' * removing 'C:/Users/biocbuild/bbs-3.12-bioc/R/library/explorase'