Back to Multiple platform build/check report for BioC 3.12 |
|
This page was generated on 2021-05-06 12:31:05 -0400 (Thu, 06 May 2021).
To the developers/maintainers of the explorase package: Please make sure to use the following settings in order to reproduce any error or warning you see on this page. |
Package 581/1974 | Hostname | OS / Arch | INSTALL | BUILD | CHECK | BUILD BIN | ||||||||
Michael Lawrence
| malbec1 | Linux (Ubuntu 18.04.5 LTS) / x86_64 | ERROR | ERROR | skipped | |||||||||
tokay1 | Windows Server 2012 R2 Standard / x64 | ERROR | ERROR | skipped | skipped | |||||||||
merida1 | macOS 10.14.6 Mojave / x86_64 | ... NOT SUPPORTED ... | ||||||||||||
Package: explorase |
Version: 1.54.0 |
Command: chmod a+r explorase -R && C:\Users\biocbuild\bbs-3.12-bioc\R\bin\R.exe --arch i386 CMD build --keep-empty-dirs --no-resave-data explorase |
StartedAt: 2021-05-05 20:55:07 -0400 (Wed, 05 May 2021) |
EndedAt: 2021-05-05 20:55:20 -0400 (Wed, 05 May 2021) |
EllapsedTime: 13.0 seconds |
RetCode: 1 |
Status: ERROR |
PackageFile: None |
PackageFileSize: NA |
############################################################################## ############################################################################## ### ### Running command: ### ### chmod a+r explorase -R && C:\Users\biocbuild\bbs-3.12-bioc\R\bin\R.exe --arch i386 CMD build --keep-empty-dirs --no-resave-data explorase ### ############################################################################## ############################################################################## * checking for file 'explorase/DESCRIPTION' ... OK * preparing 'explorase': * checking DESCRIPTION meta-information ... OK * installing the package to build vignettes ----------------------------------- ERROR: dependency 'rggobi' is not available for package 'explorase' * removing 'C:/Users/biocbuild/bbs-3.12-bioc/tmpdir/Rtmp4k4Buc/Rinst23ec23b6d0a/explorase' ----------------------------------- ERROR: package installation failed