| Back to Multiple platform build/check report for BioC 3.12 | 
  | 
This page was generated on 2021-05-06 12:30:57 -0400 (Thu, 06 May 2021).
| 
To the developers/maintainers of the diffGeneAnalysis package: Please make sure to use the following settings in order to reproduce any error or warning you see on this page.  | 
| Package 477/1974 | Hostname | OS / Arch | INSTALL | BUILD | CHECK | BUILD BIN | ||||||||
| diffGeneAnalysis 1.72.0  (landing page) Choudary Jagarlamudi 
  | malbec1 | Linux (Ubuntu 18.04.5 LTS) / x86_64 | OK | OK | OK | |||||||||
| tokay1 | Windows Server 2012 R2 Standard / x64 | OK | OK | OK | OK | |||||||||
| merida1 | macOS 10.14.6 Mojave / x86_64 | OK | OK | OK | OK | |||||||||
| Package: diffGeneAnalysis | 
| Version: 1.72.0 | 
| Command: rm -rf diffGeneAnalysis.buildbin-libdir && mkdir diffGeneAnalysis.buildbin-libdir && C:\Users\biocbuild\bbs-3.12-bioc\R\bin\R.exe CMD INSTALL --merge-multiarch --build --library=diffGeneAnalysis.buildbin-libdir diffGeneAnalysis_1.72.0.tar.gz | 
| StartedAt: 2021-05-06 08:55:21 -0400 (Thu, 06 May 2021) | 
| EndedAt: 2021-05-06 08:55:39 -0400 (Thu, 06 May 2021) | 
| EllapsedTime: 19.0 seconds | 
| RetCode: 0 | 
| Status: OK | 
| PackageFile: diffGeneAnalysis_1.72.0.zip | 
| PackageFileSize: 221.6 KiB | 
##############################################################################
##############################################################################
###
### Running command:
###
###   rm -rf diffGeneAnalysis.buildbin-libdir && mkdir diffGeneAnalysis.buildbin-libdir && C:\Users\biocbuild\bbs-3.12-bioc\R\bin\R.exe CMD INSTALL --merge-multiarch --build --library=diffGeneAnalysis.buildbin-libdir diffGeneAnalysis_1.72.0.tar.gz
###
##############################################################################
##############################################################################
install for i386
* installing *source* package 'diffGeneAnalysis' ...
** using staged installation
** R
** data
** inst
** byte-compile and prepare package for lazy loading
** help
*** installing help indices
  converting help for package 'diffGeneAnalysis'
    finding HTML links ... done
    assocAnalysis                           html  
    biasAdjust                              html  
    curveFit                                html  
    dataTrim                                html  
    normalize                               html  
    rawdata                                 html  
    refGroup                                html  
** building package indices
** installing vignettes
** testing if installed package can be loaded from temporary location
** testing if installed package can be loaded from final location
** testing if installed package keeps a record of temporary installation path
install for x64
* installing *source* package 'diffGeneAnalysis' ...
** testing if installed package can be loaded
* MD5 sums
packaged installation of 'diffGeneAnalysis' as diffGeneAnalysis_1.72.0.zip
* DONE (diffGeneAnalysis)